BEGIN:VCALENDAR
VERSION:2.0
PRODID:http://www.kufer.de/kuferweb / DE
METHOD:PUBLISH
CALSCALE:GREGORIAN
X-WR-TIMEZONE:Europe/Berlin
BEGIN:VTIMEZONE
TZID:Europe/Berlin
X-LIC-LOCATION:Europe/Berlin
BEGIN:DAYLIGHT
TZOFFSETFROM:+0100
TZOFFSETTO:+0200
TZNAME:CEST
DTSTART;TZID=Europe/Berlin:19700329T020000
RRULE:FREQ=YEARLY;INTERVAL=1;BYDAY=-1SU;BYMONTH=3
END:DAYLIGHT
BEGIN:STANDARD
TZOFFSETFROM:+0200
TZOFFSETTO:+0100
TZNAME:CET
DTSTART;TZID=Europe/Berlin:19701025T030000
RRULE:FREQ=YEARLY;INTERVAL=1;BYDAY=-1SU;BYMONTH=10
END:STANDARD
END:VTIMEZONE
BEGIN:VEVENT
DTSTAMP:20260422T092956
DTSTART;TZID=Europe/Berlin:20260224T084500
DTEND;TZID=Europe/Berlin:20260224T094500
UID:261ZA30111-20260224T084500@VHSUNTERLAND
SUMMARY:Pilates (261ZA30111) 
LOCATION:za Löweneck, Michelbacher Straße 1, 74374 Zaberfeld
END:VEVENT
BEGIN:VEVENT
DTSTAMP:20260422T092956
DTSTART;TZID=Europe/Berlin:20260303T084500
DTEND;TZID=Europe/Berlin:20260303T094500
UID:261ZA30111-20260303T084500@VHSUNTERLAND
SUMMARY:Pilates (261ZA30111) 
LOCATION:za Löweneck, Michelbacher Straße 1, 74374 Zaberfeld
END:VEVENT
BEGIN:VEVENT
DTSTAMP:20260422T092956
DTSTART;TZID=Europe/Berlin:20260310T084500
DTEND;TZID=Europe/Berlin:20260310T094500
UID:261ZA30111-20260310T084500@VHSUNTERLAND
SUMMARY:Pilates (261ZA30111) 
LOCATION:za Löweneck, Michelbacher Straße 1, 74374 Zaberfeld
END:VEVENT
BEGIN:VEVENT
DTSTAMP:20260422T092956
DTSTART;TZID=Europe/Berlin:20260317T084500
DTEND;TZID=Europe/Berlin:20260317T094500
UID:261ZA30111-20260317T084500@VHSUNTERLAND
SUMMARY:Pilates (261ZA30111) 
LOCATION:za Löweneck, Michelbacher Straße 1, 74374 Zaberfeld
END:VEVENT
BEGIN:VEVENT
DTSTAMP:20260422T092956
DTSTART;TZID=Europe/Berlin:20260324T084500
DTEND;TZID=Europe/Berlin:20260324T094500
UID:261ZA30111-20260324T084500@VHSUNTERLAND
SUMMARY:Pilates (261ZA30111) 
LOCATION:za Löweneck, Michelbacher Straße 1, 74374 Zaberfeld
END:VEVENT
BEGIN:VEVENT
DTSTAMP:20260422T092956
DTSTART;TZID=Europe/Berlin:20260414T084500
DTEND;TZID=Europe/Berlin:20260414T094500
UID:261ZA30111-20260414T084500@VHSUNTERLAND
SUMMARY:Pilates (261ZA30111) 
LOCATION:za Löweneck, Michelbacher Straße 1, 74374 Zaberfeld
END:VEVENT
BEGIN:VEVENT
DTSTAMP:20260422T092956
DTSTART;TZID=Europe/Berlin:20260421T084500
DTEND;TZID=Europe/Berlin:20260421T094500
UID:261ZA30111-20260421T084500@VHSUNTERLAND
SUMMARY:Pilates (261ZA30111) 
LOCATION:za Löweneck, Michelbacher Straße 1, 74374 Zaberfeld
END:VEVENT
BEGIN:VEVENT
DTSTAMP:20260422T092956
DTSTART;TZID=Europe/Berlin:20260428T084500
DTEND;TZID=Europe/Berlin:20260428T094500
UID:261ZA30111-20260428T084500@VHSUNTERLAND
SUMMARY:Pilates (261ZA30111) 
LOCATION:za Löweneck, Michelbacher Straße 1, 74374 Zaberfeld
END:VEVENT
BEGIN:VEVENT
DTSTAMP:20260422T092956
DTSTART;TZID=Europe/Berlin:20260505T084500
DTEND;TZID=Europe/Berlin:20260505T094500
UID:261ZA30111-20260505T084500@VHSUNTERLAND
SUMMARY:Pilates (261ZA30111) 
LOCATION:za Löweneck, Michelbacher Straße 1, 74374 Zaberfeld
END:VEVENT
BEGIN:VEVENT
DTSTAMP:20260422T092956
DTSTART;TZID=Europe/Berlin:20260512T084500
DTEND;TZID=Europe/Berlin:20260512T094500
UID:261ZA30111-20260512T084500@VHSUNTERLAND
SUMMARY:Pilates (261ZA30111) 
LOCATION:za Löweneck, Michelbacher Straße 1, 74374 Zaberfeld
END:VEVENT
BEGIN:VEVENT
DTSTAMP:20260422T092956
DTSTART;TZID=Europe/Berlin:20260519T084500
DTEND;TZID=Europe/Berlin:20260519T094500
UID:261ZA30111-20260519T084500@VHSUNTERLAND
SUMMARY:Pilates (261ZA30111) 
LOCATION:za Löweneck, Michelbacher Straße 1, 74374 Zaberfeld
END:VEVENT
BEGIN:VEVENT
DTSTAMP:20260422T092956
DTSTART;TZID=Europe/Berlin:20260609T084500
DTEND;TZID=Europe/Berlin:20260609T094500
UID:261ZA30111-20260609T084500@VHSUNTERLAND
SUMMARY:Pilates (261ZA30111) 
LOCATION:za Löweneck, Michelbacher Straße 1, 74374 Zaberfeld
END:VEVENT
BEGIN:VEVENT
DTSTAMP:20260422T092956
DTSTART;TZID=Europe/Berlin:20260616T084500
DTEND;TZID=Europe/Berlin:20260616T094500
UID:261ZA30111-20260616T084500@VHSUNTERLAND
SUMMARY:Pilates (261ZA30111) 
LOCATION:za Löweneck, Michelbacher Straße 1, 74374 Zaberfeld
END:VEVENT
BEGIN:VEVENT
DTSTAMP:20260422T092956
DTSTART;TZID=Europe/Berlin:20260623T084500
DTEND;TZID=Europe/Berlin:20260623T094500
UID:261ZA30111-20260623T084500@VHSUNTERLAND
SUMMARY:Pilates (261ZA30111) 
LOCATION:za Löweneck, Michelbacher Straße 1, 74374 Zaberfeld
END:VEVENT
BEGIN:VEVENT
DTSTAMP:20260422T092956
DTSTART;TZID=Europe/Berlin:20260630T084500
DTEND;TZID=Europe/Berlin:20260630T094500
UID:261ZA30111-20260630T084500@VHSUNTERLAND
SUMMARY:Pilates (261ZA30111) 
LOCATION:za Löweneck, Michelbacher Straße 1, 74374 Zaberfeld
END:VEVENT
END:VCALENDAR