BEGIN:VCALENDAR
VERSION:2.0
PRODID:http://www.kufer.de/kuferweb / DE
METHOD:PUBLISH
CALSCALE:GREGORIAN
X-WR-TIMEZONE:Europe/Berlin
BEGIN:VTIMEZONE
TZID:Europe/Berlin
X-LIC-LOCATION:Europe/Berlin
BEGIN:DAYLIGHT
TZOFFSETFROM:+0100
TZOFFSETTO:+0200
TZNAME:CEST
DTSTART;TZID=Europe/Berlin:19700329T020000
RRULE:FREQ=YEARLY;INTERVAL=1;BYDAY=-1SU;BYMONTH=3
END:DAYLIGHT
BEGIN:STANDARD
TZOFFSETFROM:+0200
TZOFFSETTO:+0100
TZNAME:CET
DTSTART;TZID=Europe/Berlin:19701025T030000
RRULE:FREQ=YEARLY;INTERVAL=1;BYDAY=-1SU;BYMONTH=10
END:STANDARD
END:VTIMEZONE
BEGIN:VEVENT
DTSTAMP:20260421T110727
DTSTART;TZID=Europe/Berlin:20260228T150000
DTEND;TZID=Europe/Berlin:20260228T173000
UID:261ZA20920-20260228T150000@VHSUNTERLAND
SUMMARY:Nähen: Anfängerkurs von 8 - 12 Jahren (261ZA20920) 
LOCATION:za Löweneck, Michelbacher Straße 1, 74374 Zaberfeld
END:VEVENT
BEGIN:VEVENT
DTSTAMP:20260421T110727
DTSTART;TZID=Europe/Berlin:20260307T150000
DTEND;TZID=Europe/Berlin:20260307T173000
UID:261ZA20920-20260307T150000@VHSUNTERLAND
SUMMARY:Nähen: Anfängerkurs von 8 - 12 Jahren (261ZA20920) 
LOCATION:za Löweneck, Michelbacher Straße 1, 74374 Zaberfeld
END:VEVENT
BEGIN:VEVENT
DTSTAMP:20260421T110727
DTSTART;TZID=Europe/Berlin:20260314T150000
DTEND;TZID=Europe/Berlin:20260314T173000
UID:261ZA20920-20260314T150000@VHSUNTERLAND
SUMMARY:Nähen: Anfängerkurs von 8 - 12 Jahren (261ZA20920) 
LOCATION:za Löweneck, Michelbacher Straße 1, 74374 Zaberfeld
END:VEVENT
BEGIN:VEVENT
DTSTAMP:20260421T110727
DTSTART;TZID=Europe/Berlin:20260321T150000
DTEND;TZID=Europe/Berlin:20260321T173000
UID:261ZA20920-20260321T150000@VHSUNTERLAND
SUMMARY:Nähen: Anfängerkurs von 8 - 12 Jahren (261ZA20920) 
LOCATION:za Löweneck, Michelbacher Straße 1, 74374 Zaberfeld
END:VEVENT
END:VCALENDAR