BEGIN:VCALENDAR
VERSION:2.0
PRODID:http://www.kufer.de/kuferweb / DE
METHOD:PUBLISH
CALSCALE:GREGORIAN
X-WR-TIMEZONE:Europe/Berlin
BEGIN:VTIMEZONE
TZID:Europe/Berlin
X-LIC-LOCATION:Europe/Berlin
BEGIN:DAYLIGHT
TZOFFSETFROM:+0100
TZOFFSETTO:+0200
TZNAME:CEST
DTSTART;TZID=Europe/Berlin:19700329T020000
RRULE:FREQ=YEARLY;INTERVAL=1;BYDAY=-1SU;BYMONTH=3
END:DAYLIGHT
BEGIN:STANDARD
TZOFFSETFROM:+0200
TZOFFSETTO:+0100
TZNAME:CET
DTSTART;TZID=Europe/Berlin:19701025T030000
RRULE:FREQ=YEARLY;INTERVAL=1;BYDAY=-1SU;BYMONTH=10
END:STANDARD
END:VTIMEZONE
BEGIN:VEVENT
DTSTAMP:20260422T163902
DTSTART;TZID=Europe/Berlin:20260422T193000
DTEND;TZID=Europe/Berlin:20260422T210000
UID:261WR30141-20260422T193000@VHSUNTERLAND
SUMMARY:Kundalini Yoga (261WR30141) 
LOCATION:wr Gustav Vogelmann Haus, Wendel-Hipler-Weg 2, 71543 Wüstenrot
END:VEVENT
BEGIN:VEVENT
DTSTAMP:20260422T163902
DTSTART;TZID=Europe/Berlin:20260506T193000
DTEND;TZID=Europe/Berlin:20260506T210000
UID:261WR30141-20260506T193000@VHSUNTERLAND
SUMMARY:Kundalini Yoga (261WR30141) 
LOCATION:wr Gustav Vogelmann Haus, Wendel-Hipler-Weg 2, 71543 Wüstenrot
END:VEVENT
BEGIN:VEVENT
DTSTAMP:20260422T163902
DTSTART;TZID=Europe/Berlin:20260520T193000
DTEND;TZID=Europe/Berlin:20260520T210000
UID:261WR30141-20260520T193000@VHSUNTERLAND
SUMMARY:Kundalini Yoga (261WR30141) 
LOCATION:wr Gustav Vogelmann Haus, Wendel-Hipler-Weg 2, 71543 Wüstenrot
END:VEVENT
BEGIN:VEVENT
DTSTAMP:20260422T163902
DTSTART;TZID=Europe/Berlin:20260610T193000
DTEND;TZID=Europe/Berlin:20260610T210000
UID:261WR30141-20260610T193000@VHSUNTERLAND
SUMMARY:Kundalini Yoga (261WR30141) 
LOCATION:wr Gustav Vogelmann Haus, Wendel-Hipler-Weg 2, 71543 Wüstenrot
END:VEVENT
BEGIN:VEVENT
DTSTAMP:20260422T163902
DTSTART;TZID=Europe/Berlin:20260617T193000
DTEND;TZID=Europe/Berlin:20260617T210000
UID:261WR30141-20260617T193000@VHSUNTERLAND
SUMMARY:Kundalini Yoga (261WR30141) 
LOCATION:wr Gustav Vogelmann Haus, Wendel-Hipler-Weg 2, 71543 Wüstenrot
END:VEVENT
BEGIN:VEVENT
DTSTAMP:20260422T163902
DTSTART;TZID=Europe/Berlin:20260708T193000
DTEND;TZID=Europe/Berlin:20260708T210000
UID:261WR30141-20260708T193000@VHSUNTERLAND
SUMMARY:Kundalini Yoga (261WR30141) 
LOCATION:wr Gustav Vogelmann Haus, Wendel-Hipler-Weg 2, 71543 Wüstenrot
END:VEVENT
BEGIN:VEVENT
DTSTAMP:20260422T163902
DTSTART;TZID=Europe/Berlin:20260715T193000
DTEND;TZID=Europe/Berlin:20260715T210000
UID:261WR30141-20260715T193000@VHSUNTERLAND
SUMMARY:Kundalini Yoga (261WR30141) 
LOCATION:wr Gustav Vogelmann Haus, Wendel-Hipler-Weg 2, 71543 Wüstenrot
END:VEVENT
BEGIN:VEVENT
DTSTAMP:20260422T163902
DTSTART;TZID=Europe/Berlin:20260722T193000
DTEND;TZID=Europe/Berlin:20260722T210000
UID:261WR30141-20260722T193000@VHSUNTERLAND
SUMMARY:Kundalini Yoga (261WR30141) 
LOCATION:wr Gustav Vogelmann Haus, Wendel-Hipler-Weg 2, 71543 Wüstenrot
END:VEVENT
END:VCALENDAR