BEGIN:VCALENDAR
VERSION:2.0
PRODID:http://www.kufer.de/kuferweb / DE
METHOD:PUBLISH
CALSCALE:GREGORIAN
X-WR-TIMEZONE:Europe/Berlin
BEGIN:VTIMEZONE
TZID:Europe/Berlin
X-LIC-LOCATION:Europe/Berlin
BEGIN:DAYLIGHT
TZOFFSETFROM:+0100
TZOFFSETTO:+0200
TZNAME:CEST
DTSTART;TZID=Europe/Berlin:19700329T020000
RRULE:FREQ=YEARLY;INTERVAL=1;BYDAY=-1SU;BYMONTH=3
END:DAYLIGHT
BEGIN:STANDARD
TZOFFSETFROM:+0200
TZOFFSETTO:+0100
TZNAME:CET
DTSTART;TZID=Europe/Berlin:19701025T030000
RRULE:FREQ=YEARLY;INTERVAL=1;BYDAY=-1SU;BYMONTH=10
END:STANDARD
END:VTIMEZONE
BEGIN:VEVENT
DTSTAMP:20260423T182028
DTSTART;TZID=Europe/Berlin:20260312T143500
DTEND;TZID=Europe/Berlin:20260312T152000
UID:261WR21307-20260312T143500@VHSUNTERLAND
SUMMARY:Sopranblockflöte: Aufbaukurs III für Kinder (261WR21307) 
LOCATION:wr Bürgerhaus Neuhütten, VHS-Raum, Frankenstraße 8, 71543 Wüstenrot
END:VEVENT
BEGIN:VEVENT
DTSTAMP:20260423T182028
DTSTART;TZID=Europe/Berlin:20260319T143500
DTEND;TZID=Europe/Berlin:20260319T152000
UID:261WR21307-20260319T143500@VHSUNTERLAND
SUMMARY:Sopranblockflöte: Aufbaukurs III für Kinder (261WR21307) 
LOCATION:wr Bürgerhaus Neuhütten, VHS-Raum, Frankenstraße 8, 71543 Wüstenrot
END:VEVENT
BEGIN:VEVENT
DTSTAMP:20260423T182028
DTSTART;TZID=Europe/Berlin:20260326T143500
DTEND;TZID=Europe/Berlin:20260326T152000
UID:261WR21307-20260326T143500@VHSUNTERLAND
SUMMARY:Sopranblockflöte: Aufbaukurs III für Kinder (261WR21307) 
LOCATION:wr Bürgerhaus Neuhütten, VHS-Raum, Frankenstraße 8, 71543 Wüstenrot
END:VEVENT
BEGIN:VEVENT
DTSTAMP:20260423T182028
DTSTART;TZID=Europe/Berlin:20260416T143500
DTEND;TZID=Europe/Berlin:20260416T152000
UID:261WR21307-20260416T143500@VHSUNTERLAND
SUMMARY:Sopranblockflöte: Aufbaukurs III für Kinder (261WR21307) 
LOCATION:wr Bürgerhaus Neuhütten, VHS-Raum, Frankenstraße 8, 71543 Wüstenrot
END:VEVENT
BEGIN:VEVENT
DTSTAMP:20260423T182028
DTSTART;TZID=Europe/Berlin:20260423T143500
DTEND;TZID=Europe/Berlin:20260423T152000
UID:261WR21307-20260423T143500@VHSUNTERLAND
SUMMARY:Sopranblockflöte: Aufbaukurs III für Kinder (261WR21307) 
LOCATION:wr Bürgerhaus Neuhütten, VHS-Raum, Frankenstraße 8, 71543 Wüstenrot
END:VEVENT
BEGIN:VEVENT
DTSTAMP:20260423T182028
DTSTART;TZID=Europe/Berlin:20260430T143500
DTEND;TZID=Europe/Berlin:20260430T152000
UID:261WR21307-20260430T143500@VHSUNTERLAND
SUMMARY:Sopranblockflöte: Aufbaukurs III für Kinder (261WR21307) 
LOCATION:wr Bürgerhaus Neuhütten, VHS-Raum, Frankenstraße 8, 71543 Wüstenrot
END:VEVENT
BEGIN:VEVENT
DTSTAMP:20260423T182028
DTSTART;TZID=Europe/Berlin:20260507T143500
DTEND;TZID=Europe/Berlin:20260507T152000
UID:261WR21307-20260507T143500@VHSUNTERLAND
SUMMARY:Sopranblockflöte: Aufbaukurs III für Kinder (261WR21307) 
LOCATION:wr Bürgerhaus Neuhütten, VHS-Raum, Frankenstraße 8, 71543 Wüstenrot
END:VEVENT
BEGIN:VEVENT
DTSTAMP:20260423T182028
DTSTART;TZID=Europe/Berlin:20260521T143500
DTEND;TZID=Europe/Berlin:20260521T152000
UID:261WR21307-20260521T143500@VHSUNTERLAND
SUMMARY:Sopranblockflöte: Aufbaukurs III für Kinder (261WR21307) 
LOCATION:wr Bürgerhaus Neuhütten, VHS-Raum, Frankenstraße 8, 71543 Wüstenrot
END:VEVENT
BEGIN:VEVENT
DTSTAMP:20260423T182028
DTSTART;TZID=Europe/Berlin:20260611T143500
DTEND;TZID=Europe/Berlin:20260611T152000
UID:261WR21307-20260611T143500@VHSUNTERLAND
SUMMARY:Sopranblockflöte: Aufbaukurs III für Kinder (261WR21307) 
LOCATION:wr Bürgerhaus Neuhütten, VHS-Raum, Frankenstraße 8, 71543 Wüstenrot
END:VEVENT
BEGIN:VEVENT
DTSTAMP:20260423T182028
DTSTART;TZID=Europe/Berlin:20260618T143500
DTEND;TZID=Europe/Berlin:20260618T152000
UID:261WR21307-20260618T143500@VHSUNTERLAND
SUMMARY:Sopranblockflöte: Aufbaukurs III für Kinder (261WR21307) 
LOCATION:wr Bürgerhaus Neuhütten, VHS-Raum, Frankenstraße 8, 71543 Wüstenrot
END:VEVENT
END:VCALENDAR