BEGIN:VCALENDAR
VERSION:2.0
PRODID:http://www.kufer.de/kuferweb / DE
METHOD:PUBLISH
CALSCALE:GREGORIAN
X-WR-TIMEZONE:Europe/Berlin
BEGIN:VTIMEZONE
TZID:Europe/Berlin
X-LIC-LOCATION:Europe/Berlin
BEGIN:DAYLIGHT
TZOFFSETFROM:+0100
TZOFFSETTO:+0200
TZNAME:CEST
DTSTART;TZID=Europe/Berlin:19700329T020000
RRULE:FREQ=YEARLY;INTERVAL=1;BYDAY=-1SU;BYMONTH=3
END:DAYLIGHT
BEGIN:STANDARD
TZOFFSETFROM:+0200
TZOFFSETTO:+0100
TZNAME:CET
DTSTART;TZID=Europe/Berlin:19701025T030000
RRULE:FREQ=YEARLY;INTERVAL=1;BYDAY=-1SU;BYMONTH=10
END:STANDARD
END:VTIMEZONE
BEGIN:VEVENT
DTSTAMP:20260419T162119
DTSTART;TZID=Europe/Berlin:20260803T093000
DTEND;TZID=Europe/Berlin:20260803T113000
UID:261WB50180-20260803T093000@VHSUNTERLAND
SUMMARY:Computerclub für Kids   für die 3. und 4. Klasse (261WB50180) 
LOCATION:wb Medien.Raum am Grasigen Hag, Zehntgasse 10 (Schulstaffel), 74189 Weinsberg
END:VEVENT
BEGIN:VEVENT
DTSTAMP:20260419T162119
DTSTART;TZID=Europe/Berlin:20260804T093000
DTEND;TZID=Europe/Berlin:20260804T113000
UID:261WB50180-20260804T093000@VHSUNTERLAND
SUMMARY:Computerclub für Kids   für die 3. und 4. Klasse (261WB50180) 
LOCATION:wb Medien.Raum am Grasigen Hag, Zehntgasse 10 (Schulstaffel), 74189 Weinsberg
END:VEVENT
BEGIN:VEVENT
DTSTAMP:20260419T162119
DTSTART;TZID=Europe/Berlin:20260805T093000
DTEND;TZID=Europe/Berlin:20260805T113000
UID:261WB50180-20260805T093000@VHSUNTERLAND
SUMMARY:Computerclub für Kids   für die 3. und 4. Klasse (261WB50180) 
LOCATION:wb Medien.Raum am Grasigen Hag, Zehntgasse 10 (Schulstaffel), 74189 Weinsberg
END:VEVENT
END:VCALENDAR