BEGIN:VCALENDAR
VERSION:2.0
PRODID:http://www.kufer.de/kuferweb / DE
METHOD:PUBLISH
CALSCALE:GREGORIAN
X-WR-TIMEZONE:Europe/Berlin
BEGIN:VTIMEZONE
TZID:Europe/Berlin
X-LIC-LOCATION:Europe/Berlin
BEGIN:DAYLIGHT
TZOFFSETFROM:+0100
TZOFFSETTO:+0200
TZNAME:CEST
DTSTART;TZID=Europe/Berlin:19700329T020000
RRULE:FREQ=YEARLY;INTERVAL=1;BYDAY=-1SU;BYMONTH=3
END:DAYLIGHT
BEGIN:STANDARD
TZOFFSETFROM:+0200
TZOFFSETTO:+0100
TZNAME:CET
DTSTART;TZID=Europe/Berlin:19701025T030000
RRULE:FREQ=YEARLY;INTERVAL=1;BYDAY=-1SU;BYMONTH=10
END:STANDARD
END:VTIMEZONE
BEGIN:VEVENT
DTSTAMP:20260422T183643
DTSTART;TZID=Europe/Berlin:20260210T180000
DTEND;TZID=Europe/Berlin:20260210T193000
UID:261WB40665-20260210T180000@VHSUNTERLAND
SUMMARY:Easy English Conversation: Level A2/B1  für Wiedereinsteiger*innen (261WB40665) 
LOCATION:wb VHS-Haus, E07, Zehntgasse 10, 74189 Weinsberg
END:VEVENT
BEGIN:VEVENT
DTSTAMP:20260422T183643
DTSTART;TZID=Europe/Berlin:20260224T180000
DTEND;TZID=Europe/Berlin:20260224T193000
UID:261WB40665-20260224T180000@VHSUNTERLAND
SUMMARY:Easy English Conversation: Level A2/B1  für Wiedereinsteiger*innen (261WB40665) 
LOCATION:wb VHS-Haus, E07, Zehntgasse 10, 74189 Weinsberg
END:VEVENT
BEGIN:VEVENT
DTSTAMP:20260422T183643
DTSTART;TZID=Europe/Berlin:20260303T180000
DTEND;TZID=Europe/Berlin:20260303T193000
UID:261WB40665-20260303T180000@VHSUNTERLAND
SUMMARY:Easy English Conversation: Level A2/B1  für Wiedereinsteiger*innen (261WB40665) 
LOCATION:wb VHS-Haus, E07, Zehntgasse 10, 74189 Weinsberg
END:VEVENT
BEGIN:VEVENT
DTSTAMP:20260422T183643
DTSTART;TZID=Europe/Berlin:20260317T180000
DTEND;TZID=Europe/Berlin:20260317T193000
UID:261WB40665-20260317T180000@VHSUNTERLAND
SUMMARY:Easy English Conversation: Level A2/B1  für Wiedereinsteiger*innen (261WB40665) 
LOCATION:wb VHS-Haus, E07, Zehntgasse 10, 74189 Weinsberg
END:VEVENT
BEGIN:VEVENT
DTSTAMP:20260422T183643
DTSTART;TZID=Europe/Berlin:20260324T180000
DTEND;TZID=Europe/Berlin:20260324T193000
UID:261WB40665-20260324T180000@VHSUNTERLAND
SUMMARY:Easy English Conversation: Level A2/B1  für Wiedereinsteiger*innen (261WB40665) 
LOCATION:wb VHS-Haus, E07, Zehntgasse 10, 74189 Weinsberg
END:VEVENT
BEGIN:VEVENT
DTSTAMP:20260422T183643
DTSTART;TZID=Europe/Berlin:20260414T180000
DTEND;TZID=Europe/Berlin:20260414T193000
UID:261WB40665-20260414T180000@VHSUNTERLAND
SUMMARY:Easy English Conversation: Level A2/B1  für Wiedereinsteiger*innen (261WB40665) 
LOCATION:wb VHS-Haus, E07, Zehntgasse 10, 74189 Weinsberg
END:VEVENT
BEGIN:VEVENT
DTSTAMP:20260422T183643
DTSTART;TZID=Europe/Berlin:20260421T180000
DTEND;TZID=Europe/Berlin:20260421T193000
UID:261WB40665-20260421T180000@VHSUNTERLAND
SUMMARY:Easy English Conversation: Level A2/B1  für Wiedereinsteiger*innen (261WB40665) 
LOCATION:wb VHS-Haus, E07, Zehntgasse 10, 74189 Weinsberg
END:VEVENT
BEGIN:VEVENT
DTSTAMP:20260422T183643
DTSTART;TZID=Europe/Berlin:20260428T180000
DTEND;TZID=Europe/Berlin:20260428T193000
UID:261WB40665-20260428T180000@VHSUNTERLAND
SUMMARY:Easy English Conversation: Level A2/B1  für Wiedereinsteiger*innen (261WB40665) 
LOCATION:wb VHS-Haus, E07, Zehntgasse 10, 74189 Weinsberg
END:VEVENT
BEGIN:VEVENT
DTSTAMP:20260422T183643
DTSTART;TZID=Europe/Berlin:20260505T180000
DTEND;TZID=Europe/Berlin:20260505T193000
UID:261WB40665-20260505T180000@VHSUNTERLAND
SUMMARY:Easy English Conversation: Level A2/B1  für Wiedereinsteiger*innen (261WB40665) 
LOCATION:wb VHS-Haus, E07, Zehntgasse 10, 74189 Weinsberg
END:VEVENT
BEGIN:VEVENT
DTSTAMP:20260422T183643
DTSTART;TZID=Europe/Berlin:20260512T180000
DTEND;TZID=Europe/Berlin:20260512T193000
UID:261WB40665-20260512T180000@VHSUNTERLAND
SUMMARY:Easy English Conversation: Level A2/B1  für Wiedereinsteiger*innen (261WB40665) 
LOCATION:wb VHS-Haus, E07, Zehntgasse 10, 74189 Weinsberg
END:VEVENT
BEGIN:VEVENT
DTSTAMP:20260422T183643
DTSTART;TZID=Europe/Berlin:20260519T180000
DTEND;TZID=Europe/Berlin:20260519T193000
UID:261WB40665-20260519T180000@VHSUNTERLAND
SUMMARY:Easy English Conversation: Level A2/B1  für Wiedereinsteiger*innen (261WB40665) 
LOCATION:wb VHS-Haus, E07, Zehntgasse 10, 74189 Weinsberg
END:VEVENT
BEGIN:VEVENT
DTSTAMP:20260422T183643
DTSTART;TZID=Europe/Berlin:20260609T180000
DTEND;TZID=Europe/Berlin:20260609T193000
UID:261WB40665-20260609T180000@VHSUNTERLAND
DESCRIPTION:Ersatz für Ausfall am 10.03.2026
SUMMARY:Easy English Conversation: Level A2/B1  für Wiedereinsteiger*innen (261WB40665) 
LOCATION:wb VHS-Haus, E07, Zehntgasse 10, 74189 Weinsberg
END:VEVENT
END:VCALENDAR