BEGIN:VCALENDAR
VERSION:2.0
PRODID:http://www.kufer.de/kuferweb / DE
METHOD:PUBLISH
CALSCALE:GREGORIAN
X-WR-TIMEZONE:Europe/Berlin
BEGIN:VTIMEZONE
TZID:Europe/Berlin
X-LIC-LOCATION:Europe/Berlin
BEGIN:DAYLIGHT
TZOFFSETFROM:+0100
TZOFFSETTO:+0200
TZNAME:CEST
DTSTART;TZID=Europe/Berlin:19700329T020000
RRULE:FREQ=YEARLY;INTERVAL=1;BYDAY=-1SU;BYMONTH=3
END:DAYLIGHT
BEGIN:STANDARD
TZOFFSETFROM:+0200
TZOFFSETTO:+0100
TZNAME:CET
DTSTART;TZID=Europe/Berlin:19701025T030000
RRULE:FREQ=YEARLY;INTERVAL=1;BYDAY=-1SU;BYMONTH=10
END:STANDARD
END:VTIMEZONE
BEGIN:VEVENT
DTSTAMP:20260423T072145
DTSTART;TZID=Europe/Berlin:20260610T103000
DTEND;TZID=Europe/Berlin:20260610T111500
UID:261WB30246-20260610T103000@VHSUNTERLAND
SUMMARY:Wassergymnastik (261WB30246) 
LOCATION:wb Freibad, Rappenhofweg, 74189 Weinsberg
END:VEVENT
BEGIN:VEVENT
DTSTAMP:20260423T072145
DTSTART;TZID=Europe/Berlin:20260617T103000
DTEND;TZID=Europe/Berlin:20260617T111500
UID:261WB30246-20260617T103000@VHSUNTERLAND
SUMMARY:Wassergymnastik (261WB30246) 
LOCATION:wb Freibad, Rappenhofweg, 74189 Weinsberg
END:VEVENT
BEGIN:VEVENT
DTSTAMP:20260423T072145
DTSTART;TZID=Europe/Berlin:20260624T103000
DTEND;TZID=Europe/Berlin:20260624T111500
UID:261WB30246-20260624T103000@VHSUNTERLAND
SUMMARY:Wassergymnastik (261WB30246) 
LOCATION:wb Freibad, Rappenhofweg, 74189 Weinsberg
END:VEVENT
BEGIN:VEVENT
DTSTAMP:20260423T072145
DTSTART;TZID=Europe/Berlin:20260701T103000
DTEND;TZID=Europe/Berlin:20260701T111500
UID:261WB30246-20260701T103000@VHSUNTERLAND
SUMMARY:Wassergymnastik (261WB30246) 
LOCATION:wb Freibad, Rappenhofweg, 74189 Weinsberg
END:VEVENT
BEGIN:VEVENT
DTSTAMP:20260423T072145
DTSTART;TZID=Europe/Berlin:20260708T103000
DTEND;TZID=Europe/Berlin:20260708T111500
UID:261WB30246-20260708T103000@VHSUNTERLAND
SUMMARY:Wassergymnastik (261WB30246) 
LOCATION:wb Freibad, Rappenhofweg, 74189 Weinsberg
END:VEVENT
BEGIN:VEVENT
DTSTAMP:20260423T072145
DTSTART;TZID=Europe/Berlin:20260715T103000
DTEND;TZID=Europe/Berlin:20260715T111500
UID:261WB30246-20260715T103000@VHSUNTERLAND
SUMMARY:Wassergymnastik (261WB30246) 
LOCATION:wb Freibad, Rappenhofweg, 74189 Weinsberg
END:VEVENT
END:VCALENDAR