BEGIN:VCALENDAR
VERSION:2.0
PRODID:http://www.kufer.de/kuferweb / DE
METHOD:PUBLISH
CALSCALE:GREGORIAN
X-WR-TIMEZONE:Europe/Berlin
BEGIN:VTIMEZONE
TZID:Europe/Berlin
X-LIC-LOCATION:Europe/Berlin
BEGIN:DAYLIGHT
TZOFFSETFROM:+0100
TZOFFSETTO:+0200
TZNAME:CEST
DTSTART;TZID=Europe/Berlin:19700329T020000
RRULE:FREQ=YEARLY;INTERVAL=1;BYDAY=-1SU;BYMONTH=3
END:DAYLIGHT
BEGIN:STANDARD
TZOFFSETFROM:+0200
TZOFFSETTO:+0100
TZNAME:CET
DTSTART;TZID=Europe/Berlin:19701025T030000
RRULE:FREQ=YEARLY;INTERVAL=1;BYDAY=-1SU;BYMONTH=10
END:STANDARD
END:VTIMEZONE
BEGIN:VEVENT
DTSTAMP:20260419T145135
DTSTART;TZID=Europe/Berlin:20260224T141500
DTEND;TZID=Europe/Berlin:20260224T151500
UID:261WB30212-20260224T141500@VHSUNTERLAND
SUMMARY:Gesundheitsgymnastik für Senior*innen (261WB30212) 
LOCATION:wb Erhard-Schnepf-Gemeindehaus, Dornfeldstraße 36, 74189 Weinsberg
END:VEVENT
BEGIN:VEVENT
DTSTAMP:20260419T145135
DTSTART;TZID=Europe/Berlin:20260317T141500
DTEND;TZID=Europe/Berlin:20260317T151500
UID:261WB30212-20260317T141500@VHSUNTERLAND
SUMMARY:Gesundheitsgymnastik für Senior*innen (261WB30212) 
LOCATION:wb Erhard-Schnepf-Gemeindehaus, Dornfeldstraße 36, 74189 Weinsberg
END:VEVENT
BEGIN:VEVENT
DTSTAMP:20260419T145135
DTSTART;TZID=Europe/Berlin:20260324T141500
DTEND;TZID=Europe/Berlin:20260324T151500
UID:261WB30212-20260324T141500@VHSUNTERLAND
SUMMARY:Gesundheitsgymnastik für Senior*innen (261WB30212) 
LOCATION:wb Erhard-Schnepf-Gemeindehaus, Dornfeldstraße 36, 74189 Weinsberg
END:VEVENT
BEGIN:VEVENT
DTSTAMP:20260419T145135
DTSTART;TZID=Europe/Berlin:20260414T141500
DTEND;TZID=Europe/Berlin:20260414T151500
UID:261WB30212-20260414T141500@VHSUNTERLAND
SUMMARY:Gesundheitsgymnastik für Senior*innen (261WB30212) 
LOCATION:wb Erhard-Schnepf-Gemeindehaus, Dornfeldstraße 36, 74189 Weinsberg
END:VEVENT
BEGIN:VEVENT
DTSTAMP:20260419T145135
DTSTART;TZID=Europe/Berlin:20260421T141500
DTEND;TZID=Europe/Berlin:20260421T151500
UID:261WB30212-20260421T141500@VHSUNTERLAND
SUMMARY:Gesundheitsgymnastik für Senior*innen (261WB30212) 
LOCATION:wb Erhard-Schnepf-Gemeindehaus, Dornfeldstraße 36, 74189 Weinsberg
END:VEVENT
BEGIN:VEVENT
DTSTAMP:20260419T145135
DTSTART;TZID=Europe/Berlin:20260428T141500
DTEND;TZID=Europe/Berlin:20260428T151500
UID:261WB30212-20260428T141500@VHSUNTERLAND
SUMMARY:Gesundheitsgymnastik für Senior*innen (261WB30212) 
LOCATION:wb Erhard-Schnepf-Gemeindehaus, Dornfeldstraße 36, 74189 Weinsberg
END:VEVENT
BEGIN:VEVENT
DTSTAMP:20260419T145135
DTSTART;TZID=Europe/Berlin:20260505T141500
DTEND;TZID=Europe/Berlin:20260505T151500
UID:261WB30212-20260505T141500@VHSUNTERLAND
SUMMARY:Gesundheitsgymnastik für Senior*innen (261WB30212) 
LOCATION:wb Erhard-Schnepf-Gemeindehaus, Dornfeldstraße 36, 74189 Weinsberg
END:VEVENT
BEGIN:VEVENT
DTSTAMP:20260419T145135
DTSTART;TZID=Europe/Berlin:20260512T141500
DTEND;TZID=Europe/Berlin:20260512T151500
UID:261WB30212-20260512T141500@VHSUNTERLAND
SUMMARY:Gesundheitsgymnastik für Senior*innen (261WB30212) 
LOCATION:wb Erhard-Schnepf-Gemeindehaus, Dornfeldstraße 36, 74189 Weinsberg
END:VEVENT
BEGIN:VEVENT
DTSTAMP:20260419T145135
DTSTART;TZID=Europe/Berlin:20260519T141500
DTEND;TZID=Europe/Berlin:20260519T151500
UID:261WB30212-20260519T141500@VHSUNTERLAND
SUMMARY:Gesundheitsgymnastik für Senior*innen (261WB30212) 
LOCATION:wb Erhard-Schnepf-Gemeindehaus, Dornfeldstraße 36, 74189 Weinsberg
END:VEVENT
BEGIN:VEVENT
DTSTAMP:20260419T145135
DTSTART;TZID=Europe/Berlin:20260609T141500
DTEND;TZID=Europe/Berlin:20260609T151500
UID:261WB30212-20260609T141500@VHSUNTERLAND
SUMMARY:Gesundheitsgymnastik für Senior*innen (261WB30212) 
LOCATION:wb Erhard-Schnepf-Gemeindehaus, Dornfeldstraße 36, 74189 Weinsberg
END:VEVENT
BEGIN:VEVENT
DTSTAMP:20260419T145135
DTSTART;TZID=Europe/Berlin:20260616T141500
DTEND;TZID=Europe/Berlin:20260616T151500
UID:261WB30212-20260616T141500@VHSUNTERLAND
DESCRIPTION:Ersatz für Ausfall am 03.03.2026
SUMMARY:Gesundheitsgymnastik für Senior*innen (261WB30212) 
LOCATION:wb Erhard-Schnepf-Gemeindehaus, Dornfeldstraße 36, 74189 Weinsberg
END:VEVENT
BEGIN:VEVENT
DTSTAMP:20260419T145135
DTSTART;TZID=Europe/Berlin:20260623T141500
DTEND;TZID=Europe/Berlin:20260623T151500
UID:261WB30212-20260623T141500@VHSUNTERLAND
DESCRIPTION:Ersatz für Ausfall am 10.03.2026
SUMMARY:Gesundheitsgymnastik für Senior*innen (261WB30212) 
LOCATION:wb Erhard-Schnepf-Gemeindehaus, Dornfeldstraße 36, 74189 Weinsberg
END:VEVENT
END:VCALENDAR