BEGIN:VCALENDAR
VERSION:2.0
PRODID:http://www.kufer.de/kuferweb / DE
METHOD:PUBLISH
CALSCALE:GREGORIAN
X-WR-TIMEZONE:Europe/Berlin
BEGIN:VTIMEZONE
TZID:Europe/Berlin
X-LIC-LOCATION:Europe/Berlin
BEGIN:DAYLIGHT
TZOFFSETFROM:+0100
TZOFFSETTO:+0200
TZNAME:CEST
DTSTART;TZID=Europe/Berlin:19700329T020000
RRULE:FREQ=YEARLY;INTERVAL=1;BYDAY=-1SU;BYMONTH=3
END:DAYLIGHT
BEGIN:STANDARD
TZOFFSETFROM:+0200
TZOFFSETTO:+0100
TZNAME:CET
DTSTART;TZID=Europe/Berlin:19701025T030000
RRULE:FREQ=YEARLY;INTERVAL=1;BYDAY=-1SU;BYMONTH=10
END:STANDARD
END:VTIMEZONE
BEGIN:VEVENT
DTSTAMP:20260419T175017
DTSTART;TZID=Europe/Berlin:20260225T204500
DTEND;TZID=Europe/Berlin:20260225T214500
UID:261WB30204-20260225T204500@VHSUNTERLAND
SUMMARY:Effektives Bodyworkout (online) (261WB30204) 
LOCATION:hn Online, , 
END:VEVENT
BEGIN:VEVENT
DTSTAMP:20260419T175017
DTSTART;TZID=Europe/Berlin:20260311T204500
DTEND;TZID=Europe/Berlin:20260311T214500
UID:261WB30204-20260311T204500@VHSUNTERLAND
SUMMARY:Effektives Bodyworkout (online) (261WB30204) 
LOCATION:hn Online, , 
END:VEVENT
BEGIN:VEVENT
DTSTAMP:20260419T175017
DTSTART;TZID=Europe/Berlin:20260318T204500
DTEND;TZID=Europe/Berlin:20260318T214500
UID:261WB30204-20260318T204500@VHSUNTERLAND
SUMMARY:Effektives Bodyworkout (online) (261WB30204) 
LOCATION:hn Online, , 
END:VEVENT
BEGIN:VEVENT
DTSTAMP:20260419T175017
DTSTART;TZID=Europe/Berlin:20260325T204500
DTEND;TZID=Europe/Berlin:20260325T214500
UID:261WB30204-20260325T204500@VHSUNTERLAND
SUMMARY:Effektives Bodyworkout (online) (261WB30204) 
LOCATION:hn Online, , 
END:VEVENT
BEGIN:VEVENT
DTSTAMP:20260419T175017
DTSTART;TZID=Europe/Berlin:20260415T204500
DTEND;TZID=Europe/Berlin:20260415T214500
UID:261WB30204-20260415T204500@VHSUNTERLAND
SUMMARY:Effektives Bodyworkout (online) (261WB30204) 
LOCATION:hn Online, , 
END:VEVENT
BEGIN:VEVENT
DTSTAMP:20260419T175017
DTSTART;TZID=Europe/Berlin:20260422T204500
DTEND;TZID=Europe/Berlin:20260422T214500
UID:261WB30204-20260422T204500@VHSUNTERLAND
SUMMARY:Effektives Bodyworkout (online) (261WB30204) 
LOCATION:hn Online, , 
END:VEVENT
BEGIN:VEVENT
DTSTAMP:20260419T175017
DTSTART;TZID=Europe/Berlin:20260429T204500
DTEND;TZID=Europe/Berlin:20260429T214500
UID:261WB30204-20260429T204500@VHSUNTERLAND
SUMMARY:Effektives Bodyworkout (online) (261WB30204) 
LOCATION:hn Online, , 
END:VEVENT
BEGIN:VEVENT
DTSTAMP:20260419T175017
DTSTART;TZID=Europe/Berlin:20260506T204500
DTEND;TZID=Europe/Berlin:20260506T214500
UID:261WB30204-20260506T204500@VHSUNTERLAND
SUMMARY:Effektives Bodyworkout (online) (261WB30204) 
LOCATION:hn Online, , 
END:VEVENT
BEGIN:VEVENT
DTSTAMP:20260419T175017
DTSTART;TZID=Europe/Berlin:20260513T204500
DTEND;TZID=Europe/Berlin:20260513T214500
UID:261WB30204-20260513T204500@VHSUNTERLAND
SUMMARY:Effektives Bodyworkout (online) (261WB30204) 
LOCATION:hn Online, , 
END:VEVENT
BEGIN:VEVENT
DTSTAMP:20260419T175017
DTSTART;TZID=Europe/Berlin:20260520T204500
DTEND;TZID=Europe/Berlin:20260520T214500
UID:261WB30204-20260520T204500@VHSUNTERLAND
SUMMARY:Effektives Bodyworkout (online) (261WB30204) 
LOCATION:hn Online, , 
END:VEVENT
BEGIN:VEVENT
DTSTAMP:20260419T175017
DTSTART;TZID=Europe/Berlin:20260610T204500
DTEND;TZID=Europe/Berlin:20260610T214500
UID:261WB30204-20260610T204500@VHSUNTERLAND
SUMMARY:Effektives Bodyworkout (online) (261WB30204) 
LOCATION:hn Online, , 
END:VEVENT
BEGIN:VEVENT
DTSTAMP:20260419T175017
DTSTART;TZID=Europe/Berlin:20260617T204500
DTEND;TZID=Europe/Berlin:20260617T214500
UID:261WB30204-20260617T204500@VHSUNTERLAND
SUMMARY:Effektives Bodyworkout (online) (261WB30204) 
LOCATION:hn Online, , 
END:VEVENT
BEGIN:VEVENT
DTSTAMP:20260419T175017
DTSTART;TZID=Europe/Berlin:20260624T204500
DTEND;TZID=Europe/Berlin:20260624T214500
UID:261WB30204-20260624T204500@VHSUNTERLAND
SUMMARY:Effektives Bodyworkout (online) (261WB30204) 
LOCATION:hn Online, , 
END:VEVENT
BEGIN:VEVENT
DTSTAMP:20260419T175017
DTSTART;TZID=Europe/Berlin:20260701T204500
DTEND;TZID=Europe/Berlin:20260701T214500
UID:261WB30204-20260701T204500@VHSUNTERLAND
SUMMARY:Effektives Bodyworkout (online) (261WB30204) 
LOCATION:hn Online, , 
END:VEVENT
BEGIN:VEVENT
DTSTAMP:20260419T175017
DTSTART;TZID=Europe/Berlin:20260708T204500
DTEND;TZID=Europe/Berlin:20260708T214500
UID:261WB30204-20260708T204500@VHSUNTERLAND
DESCRIPTION:Ersatz für Ausfall am 04.03.2026
SUMMARY:Effektives Bodyworkout (online) (261WB30204) 
LOCATION:hn Online, , 
END:VEVENT
END:VCALENDAR