BEGIN:VCALENDAR
VERSION:2.0
PRODID:http://www.kufer.de/kuferweb / DE
METHOD:PUBLISH
CALSCALE:GREGORIAN
X-WR-TIMEZONE:Europe/Berlin
BEGIN:VTIMEZONE
TZID:Europe/Berlin
X-LIC-LOCATION:Europe/Berlin
BEGIN:DAYLIGHT
TZOFFSETFROM:+0100
TZOFFSETTO:+0200
TZNAME:CEST
DTSTART;TZID=Europe/Berlin:19700329T020000
RRULE:FREQ=YEARLY;INTERVAL=1;BYDAY=-1SU;BYMONTH=3
END:DAYLIGHT
BEGIN:STANDARD
TZOFFSETFROM:+0200
TZOFFSETTO:+0100
TZNAME:CET
DTSTART;TZID=Europe/Berlin:19701025T030000
RRULE:FREQ=YEARLY;INTERVAL=1;BYDAY=-1SU;BYMONTH=10
END:STANDARD
END:VTIMEZONE
BEGIN:VEVENT
DTSTAMP:20260421T091000
DTSTART;TZID=Europe/Berlin:20260227T190500
DTEND;TZID=Europe/Berlin:20260227T200500
UID:261WB30203-20260227T190500@VHSUNTERLAND
SUMMARY:Fit ab 50 (261WB30203) 
LOCATION:wb Grundschule Weinsberg, Turnhalle, Rossäckerstraße 13, 74189 Weinsberg
END:VEVENT
BEGIN:VEVENT
DTSTAMP:20260421T091000
DTSTART;TZID=Europe/Berlin:20260306T190500
DTEND;TZID=Europe/Berlin:20260306T200500
UID:261WB30203-20260306T190500@VHSUNTERLAND
SUMMARY:Fit ab 50 (261WB30203) 
LOCATION:wb Grundschule Weinsberg, Turnhalle, Rossäckerstraße 13, 74189 Weinsberg
END:VEVENT
BEGIN:VEVENT
DTSTAMP:20260421T091000
DTSTART;TZID=Europe/Berlin:20260313T190500
DTEND;TZID=Europe/Berlin:20260313T200500
UID:261WB30203-20260313T190500@VHSUNTERLAND
SUMMARY:Fit ab 50 (261WB30203) 
LOCATION:wb Grundschule Weinsberg, Turnhalle, Rossäckerstraße 13, 74189 Weinsberg
END:VEVENT
BEGIN:VEVENT
DTSTAMP:20260421T091000
DTSTART;TZID=Europe/Berlin:20260320T190500
DTEND;TZID=Europe/Berlin:20260320T200500
UID:261WB30203-20260320T190500@VHSUNTERLAND
SUMMARY:Fit ab 50 (261WB30203) 
LOCATION:wb Grundschule Weinsberg, Turnhalle, Rossäckerstraße 13, 74189 Weinsberg
END:VEVENT
BEGIN:VEVENT
DTSTAMP:20260421T091000
DTSTART;TZID=Europe/Berlin:20260327T190500
DTEND;TZID=Europe/Berlin:20260327T200500
UID:261WB30203-20260327T190500@VHSUNTERLAND
SUMMARY:Fit ab 50 (261WB30203) 
LOCATION:wb Grundschule Weinsberg, Turnhalle, Rossäckerstraße 13, 74189 Weinsberg
END:VEVENT
BEGIN:VEVENT
DTSTAMP:20260421T091000
DTSTART;TZID=Europe/Berlin:20260417T190500
DTEND;TZID=Europe/Berlin:20260417T200500
UID:261WB30203-20260417T190500@VHSUNTERLAND
SUMMARY:Fit ab 50 (261WB30203) 
LOCATION:wb Grundschule Weinsberg, Turnhalle, Rossäckerstraße 13, 74189 Weinsberg
END:VEVENT
BEGIN:VEVENT
DTSTAMP:20260421T091000
DTSTART;TZID=Europe/Berlin:20260424T190500
DTEND;TZID=Europe/Berlin:20260424T200500
UID:261WB30203-20260424T190500@VHSUNTERLAND
SUMMARY:Fit ab 50 (261WB30203) 
LOCATION:wb Grundschule Weinsberg, Turnhalle, Rossäckerstraße 13, 74189 Weinsberg
END:VEVENT
BEGIN:VEVENT
DTSTAMP:20260421T091000
DTSTART;TZID=Europe/Berlin:20260508T190500
DTEND;TZID=Europe/Berlin:20260508T200500
UID:261WB30203-20260508T190500@VHSUNTERLAND
SUMMARY:Fit ab 50 (261WB30203) 
LOCATION:wb Grundschule Weinsberg, Turnhalle, Rossäckerstraße 13, 74189 Weinsberg
END:VEVENT
BEGIN:VEVENT
DTSTAMP:20260421T091000
DTSTART;TZID=Europe/Berlin:20260515T190500
DTEND;TZID=Europe/Berlin:20260515T200500
UID:261WB30203-20260515T190500@VHSUNTERLAND
SUMMARY:Fit ab 50 (261WB30203) 
LOCATION:wb Grundschule Weinsberg, Turnhalle, Rossäckerstraße 13, 74189 Weinsberg
END:VEVENT
BEGIN:VEVENT
DTSTAMP:20260421T091000
DTSTART;TZID=Europe/Berlin:20260522T190500
DTEND;TZID=Europe/Berlin:20260522T200500
UID:261WB30203-20260522T190500@VHSUNTERLAND
SUMMARY:Fit ab 50 (261WB30203) 
LOCATION:wb Grundschule Weinsberg, Turnhalle, Rossäckerstraße 13, 74189 Weinsberg
END:VEVENT
BEGIN:VEVENT
DTSTAMP:20260421T091000
DTSTART;TZID=Europe/Berlin:20260612T190500
DTEND;TZID=Europe/Berlin:20260612T200500
UID:261WB30203-20260612T190500@VHSUNTERLAND
SUMMARY:Fit ab 50 (261WB30203) 
LOCATION:wb Grundschule Weinsberg, Turnhalle, Rossäckerstraße 13, 74189 Weinsberg
END:VEVENT
BEGIN:VEVENT
DTSTAMP:20260421T091000
DTSTART;TZID=Europe/Berlin:20260619T190500
DTEND;TZID=Europe/Berlin:20260619T200500
UID:261WB30203-20260619T190500@VHSUNTERLAND
SUMMARY:Fit ab 50 (261WB30203) 
LOCATION:wb Grundschule Weinsberg, Turnhalle, Rossäckerstraße 13, 74189 Weinsberg
END:VEVENT
END:VCALENDAR