BEGIN:VCALENDAR
VERSION:2.0
PRODID:http://www.kufer.de/kuferweb / DE
METHOD:PUBLISH
CALSCALE:GREGORIAN
X-WR-TIMEZONE:Europe/Berlin
BEGIN:VTIMEZONE
TZID:Europe/Berlin
X-LIC-LOCATION:Europe/Berlin
BEGIN:DAYLIGHT
TZOFFSETFROM:+0100
TZOFFSETTO:+0200
TZNAME:CEST
DTSTART;TZID=Europe/Berlin:19700329T020000
RRULE:FREQ=YEARLY;INTERVAL=1;BYDAY=-1SU;BYMONTH=3
END:DAYLIGHT
BEGIN:STANDARD
TZOFFSETFROM:+0200
TZOFFSETTO:+0100
TZNAME:CET
DTSTART;TZID=Europe/Berlin:19701025T030000
RRULE:FREQ=YEARLY;INTERVAL=1;BYDAY=-1SU;BYMONTH=10
END:STANDARD
END:VTIMEZONE
BEGIN:VEVENT
DTSTAMP:20260423T164635
DTSTART;TZID=Europe/Berlin:20260224T190500
DTEND;TZID=Europe/Berlin:20260224T200500
UID:261WB30201-20260224T190500@VHSUNTERLAND
SUMMARY:Gesundheitsorientiertes Bodyworkout (261WB30201) 
LOCATION:wb Grundschule Weinsberg, Turnhalle, Rossäckerstraße 13, 74189 Weinsberg
END:VEVENT
BEGIN:VEVENT
DTSTAMP:20260423T164635
DTSTART;TZID=Europe/Berlin:20260303T190500
DTEND;TZID=Europe/Berlin:20260303T200500
UID:261WB30201-20260303T190500@VHSUNTERLAND
SUMMARY:Gesundheitsorientiertes Bodyworkout (261WB30201) 
LOCATION:wb Grundschule Weinsberg, Turnhalle, Rossäckerstraße 13, 74189 Weinsberg
END:VEVENT
BEGIN:VEVENT
DTSTAMP:20260423T164635
DTSTART;TZID=Europe/Berlin:20260310T190500
DTEND;TZID=Europe/Berlin:20260310T200500
UID:261WB30201-20260310T190500@VHSUNTERLAND
SUMMARY:Gesundheitsorientiertes Bodyworkout (261WB30201) 
LOCATION:wb Grundschule Weinsberg, Turnhalle, Rossäckerstraße 13, 74189 Weinsberg
END:VEVENT
BEGIN:VEVENT
DTSTAMP:20260423T164635
DTSTART;TZID=Europe/Berlin:20260317T190500
DTEND;TZID=Europe/Berlin:20260317T200500
UID:261WB30201-20260317T190500@VHSUNTERLAND
SUMMARY:Gesundheitsorientiertes Bodyworkout (261WB30201) 
LOCATION:wb Grundschule Weinsberg, Turnhalle, Rossäckerstraße 13, 74189 Weinsberg
END:VEVENT
BEGIN:VEVENT
DTSTAMP:20260423T164635
DTSTART;TZID=Europe/Berlin:20260324T190500
DTEND;TZID=Europe/Berlin:20260324T200500
UID:261WB30201-20260324T190500@VHSUNTERLAND
SUMMARY:Gesundheitsorientiertes Bodyworkout (261WB30201) 
LOCATION:wb Grundschule Weinsberg, Turnhalle, Rossäckerstraße 13, 74189 Weinsberg
END:VEVENT
BEGIN:VEVENT
DTSTAMP:20260423T164635
DTSTART;TZID=Europe/Berlin:20260414T190500
DTEND;TZID=Europe/Berlin:20260414T200500
UID:261WB30201-20260414T190500@VHSUNTERLAND
SUMMARY:Gesundheitsorientiertes Bodyworkout (261WB30201) 
LOCATION:wb Grundschule Weinsberg, Turnhalle, Rossäckerstraße 13, 74189 Weinsberg
END:VEVENT
BEGIN:VEVENT
DTSTAMP:20260423T164635
DTSTART;TZID=Europe/Berlin:20260421T190500
DTEND;TZID=Europe/Berlin:20260421T200500
UID:261WB30201-20260421T190500@VHSUNTERLAND
SUMMARY:Gesundheitsorientiertes Bodyworkout (261WB30201) 
LOCATION:wb Grundschule Weinsberg, Turnhalle, Rossäckerstraße 13, 74189 Weinsberg
END:VEVENT
BEGIN:VEVENT
DTSTAMP:20260423T164635
DTSTART;TZID=Europe/Berlin:20260428T190500
DTEND;TZID=Europe/Berlin:20260428T200500
UID:261WB30201-20260428T190500@VHSUNTERLAND
SUMMARY:Gesundheitsorientiertes Bodyworkout (261WB30201) 
LOCATION:wb Grundschule Weinsberg, Turnhalle, Rossäckerstraße 13, 74189 Weinsberg
END:VEVENT
BEGIN:VEVENT
DTSTAMP:20260423T164635
DTSTART;TZID=Europe/Berlin:20260505T190500
DTEND;TZID=Europe/Berlin:20260505T200500
UID:261WB30201-20260505T190500@VHSUNTERLAND
SUMMARY:Gesundheitsorientiertes Bodyworkout (261WB30201) 
LOCATION:wb Grundschule Weinsberg, Turnhalle, Rossäckerstraße 13, 74189 Weinsberg
END:VEVENT
BEGIN:VEVENT
DTSTAMP:20260423T164635
DTSTART;TZID=Europe/Berlin:20260512T190500
DTEND;TZID=Europe/Berlin:20260512T200500
UID:261WB30201-20260512T190500@VHSUNTERLAND
SUMMARY:Gesundheitsorientiertes Bodyworkout (261WB30201) 
LOCATION:wb Grundschule Weinsberg, Turnhalle, Rossäckerstraße 13, 74189 Weinsberg
END:VEVENT
BEGIN:VEVENT
DTSTAMP:20260423T164635
DTSTART;TZID=Europe/Berlin:20260519T190500
DTEND;TZID=Europe/Berlin:20260519T200500
UID:261WB30201-20260519T190500@VHSUNTERLAND
SUMMARY:Gesundheitsorientiertes Bodyworkout (261WB30201) 
LOCATION:wb Grundschule Weinsberg, Turnhalle, Rossäckerstraße 13, 74189 Weinsberg
END:VEVENT
BEGIN:VEVENT
DTSTAMP:20260423T164635
DTSTART;TZID=Europe/Berlin:20260609T190500
DTEND;TZID=Europe/Berlin:20260609T200500
UID:261WB30201-20260609T190500@VHSUNTERLAND
SUMMARY:Gesundheitsorientiertes Bodyworkout (261WB30201) 
LOCATION:wb Grundschule Weinsberg, Turnhalle, Rossäckerstraße 13, 74189 Weinsberg
END:VEVENT
BEGIN:VEVENT
DTSTAMP:20260423T164635
DTSTART;TZID=Europe/Berlin:20260616T190500
DTEND;TZID=Europe/Berlin:20260616T200500
UID:261WB30201-20260616T190500@VHSUNTERLAND
SUMMARY:Gesundheitsorientiertes Bodyworkout (261WB30201) 
LOCATION:wb Grundschule Weinsberg, Turnhalle, Rossäckerstraße 13, 74189 Weinsberg
END:VEVENT
BEGIN:VEVENT
DTSTAMP:20260423T164635
DTSTART;TZID=Europe/Berlin:20260623T190500
DTEND;TZID=Europe/Berlin:20260623T200500
UID:261WB30201-20260623T190500@VHSUNTERLAND
SUMMARY:Gesundheitsorientiertes Bodyworkout (261WB30201) 
LOCATION:wb Grundschule Weinsberg, Turnhalle, Rossäckerstraße 13, 74189 Weinsberg
END:VEVENT
BEGIN:VEVENT
DTSTAMP:20260423T164635
DTSTART;TZID=Europe/Berlin:20260630T190500
DTEND;TZID=Europe/Berlin:20260630T200500
UID:261WB30201-20260630T190500@VHSUNTERLAND
SUMMARY:Gesundheitsorientiertes Bodyworkout (261WB30201) 
LOCATION:wb Grundschule Weinsberg, Turnhalle, Rossäckerstraße 13, 74189 Weinsberg
END:VEVENT
END:VCALENDAR