BEGIN:VCALENDAR
VERSION:2.0
PRODID:http://www.kufer.de/kuferweb / DE
METHOD:PUBLISH
CALSCALE:GREGORIAN
X-WR-TIMEZONE:Europe/Berlin
BEGIN:VTIMEZONE
TZID:Europe/Berlin
X-LIC-LOCATION:Europe/Berlin
BEGIN:DAYLIGHT
TZOFFSETFROM:+0100
TZOFFSETTO:+0200
TZNAME:CEST
DTSTART;TZID=Europe/Berlin:19700329T020000
RRULE:FREQ=YEARLY;INTERVAL=1;BYDAY=-1SU;BYMONTH=3
END:DAYLIGHT
BEGIN:STANDARD
TZOFFSETFROM:+0200
TZOFFSETTO:+0100
TZNAME:CET
DTSTART;TZID=Europe/Berlin:19701025T030000
RRULE:FREQ=YEARLY;INTERVAL=1;BYDAY=-1SU;BYMONTH=10
END:STANDARD
END:VTIMEZONE
BEGIN:VEVENT
DTSTAMP:20260422T135955
DTSTART;TZID=Europe/Berlin:20260225T083000
DTEND;TZID=Europe/Berlin:20260225T100000
UID:261WB30134-20260225T083000@VHSUNTERLAND
SUMMARY:Hatha Yoga (261WB30134) 
LOCATION:wb VHS-Haus, E06, Zehntgasse 10, 74189 Weinsberg
END:VEVENT
BEGIN:VEVENT
DTSTAMP:20260422T135955
DTSTART;TZID=Europe/Berlin:20260304T083000
DTEND;TZID=Europe/Berlin:20260304T100000
UID:261WB30134-20260304T083000@VHSUNTERLAND
SUMMARY:Hatha Yoga (261WB30134) 
LOCATION:wb VHS-Haus, E06, Zehntgasse 10, 74189 Weinsberg
END:VEVENT
BEGIN:VEVENT
DTSTAMP:20260422T135955
DTSTART;TZID=Europe/Berlin:20260311T083000
DTEND;TZID=Europe/Berlin:20260311T100000
UID:261WB30134-20260311T083000@VHSUNTERLAND
SUMMARY:Hatha Yoga (261WB30134) 
LOCATION:wb VHS-Haus, E06, Zehntgasse 10, 74189 Weinsberg
END:VEVENT
BEGIN:VEVENT
DTSTAMP:20260422T135955
DTSTART;TZID=Europe/Berlin:20260318T083000
DTEND;TZID=Europe/Berlin:20260318T100000
UID:261WB30134-20260318T083000@VHSUNTERLAND
SUMMARY:Hatha Yoga (261WB30134) 
LOCATION:wb VHS-Haus, E06, Zehntgasse 10, 74189 Weinsberg
END:VEVENT
BEGIN:VEVENT
DTSTAMP:20260422T135955
DTSTART;TZID=Europe/Berlin:20260325T083000
DTEND;TZID=Europe/Berlin:20260325T100000
UID:261WB30134-20260325T083000@VHSUNTERLAND
SUMMARY:Hatha Yoga (261WB30134) 
LOCATION:wb VHS-Haus, E06, Zehntgasse 10, 74189 Weinsberg
END:VEVENT
BEGIN:VEVENT
DTSTAMP:20260422T135955
DTSTART;TZID=Europe/Berlin:20260415T083000
DTEND;TZID=Europe/Berlin:20260415T100000
UID:261WB30134-20260415T083000@VHSUNTERLAND
SUMMARY:Hatha Yoga (261WB30134) 
LOCATION:wb VHS-Haus, E06, Zehntgasse 10, 74189 Weinsberg
END:VEVENT
BEGIN:VEVENT
DTSTAMP:20260422T135955
DTSTART;TZID=Europe/Berlin:20260422T083000
DTEND;TZID=Europe/Berlin:20260422T100000
UID:261WB30134-20260422T083000@VHSUNTERLAND
SUMMARY:Hatha Yoga (261WB30134) 
LOCATION:wb VHS-Haus, E06, Zehntgasse 10, 74189 Weinsberg
END:VEVENT
BEGIN:VEVENT
DTSTAMP:20260422T135955
DTSTART;TZID=Europe/Berlin:20260429T083000
DTEND;TZID=Europe/Berlin:20260429T100000
UID:261WB30134-20260429T083000@VHSUNTERLAND
SUMMARY:Hatha Yoga (261WB30134) 
LOCATION:wb VHS-Haus, E06, Zehntgasse 10, 74189 Weinsberg
END:VEVENT
BEGIN:VEVENT
DTSTAMP:20260422T135955
DTSTART;TZID=Europe/Berlin:20260506T083000
DTEND;TZID=Europe/Berlin:20260506T100000
UID:261WB30134-20260506T083000@VHSUNTERLAND
SUMMARY:Hatha Yoga (261WB30134) 
LOCATION:wb VHS-Haus, E06, Zehntgasse 10, 74189 Weinsberg
END:VEVENT
BEGIN:VEVENT
DTSTAMP:20260422T135955
DTSTART;TZID=Europe/Berlin:20260513T083000
DTEND;TZID=Europe/Berlin:20260513T100000
UID:261WB30134-20260513T083000@VHSUNTERLAND
SUMMARY:Hatha Yoga (261WB30134) 
LOCATION:wb VHS-Haus, E06, Zehntgasse 10, 74189 Weinsberg
END:VEVENT
BEGIN:VEVENT
DTSTAMP:20260422T135955
DTSTART;TZID=Europe/Berlin:20260520T083000
DTEND;TZID=Europe/Berlin:20260520T100000
UID:261WB30134-20260520T083000@VHSUNTERLAND
SUMMARY:Hatha Yoga (261WB30134) 
LOCATION:wb VHS-Haus, E06, Zehntgasse 10, 74189 Weinsberg
END:VEVENT
BEGIN:VEVENT
DTSTAMP:20260422T135955
DTSTART;TZID=Europe/Berlin:20260610T083000
DTEND;TZID=Europe/Berlin:20260610T100000
UID:261WB30134-20260610T083000@VHSUNTERLAND
SUMMARY:Hatha Yoga (261WB30134) 
LOCATION:wb VHS-Haus, E06, Zehntgasse 10, 74189 Weinsberg
END:VEVENT
END:VCALENDAR