BEGIN:VCALENDAR
VERSION:2.0
PRODID:http://www.kufer.de/kuferweb / DE
METHOD:PUBLISH
CALSCALE:GREGORIAN
X-WR-TIMEZONE:Europe/Berlin
BEGIN:VTIMEZONE
TZID:Europe/Berlin
X-LIC-LOCATION:Europe/Berlin
BEGIN:DAYLIGHT
TZOFFSETFROM:+0100
TZOFFSETTO:+0200
TZNAME:CEST
DTSTART;TZID=Europe/Berlin:19700329T020000
RRULE:FREQ=YEARLY;INTERVAL=1;BYDAY=-1SU;BYMONTH=3
END:DAYLIGHT
BEGIN:STANDARD
TZOFFSETFROM:+0200
TZOFFSETTO:+0100
TZNAME:CET
DTSTART;TZID=Europe/Berlin:19701025T030000
RRULE:FREQ=YEARLY;INTERVAL=1;BYDAY=-1SU;BYMONTH=10
END:STANDARD
END:VTIMEZONE
BEGIN:VEVENT
DTSTAMP:20260423T153441
DTSTART;TZID=Europe/Berlin:20260227T090500
DTEND;TZID=Europe/Berlin:20260227T100500
UID:261WB30115-20260227T090500@VHSUNTERLAND
SUMMARY:Pilates  für Fortgeschrittene (261WB30115) 
LOCATION:wb VHS-Haus, E06, Zehntgasse 10, 74189 Weinsberg
END:VEVENT
BEGIN:VEVENT
DTSTAMP:20260423T153441
DTSTART;TZID=Europe/Berlin:20260306T090500
DTEND;TZID=Europe/Berlin:20260306T100500
UID:261WB30115-20260306T090500@VHSUNTERLAND
SUMMARY:Pilates  für Fortgeschrittene (261WB30115) 
LOCATION:wb VHS-Haus, E06, Zehntgasse 10, 74189 Weinsberg
END:VEVENT
BEGIN:VEVENT
DTSTAMP:20260423T153441
DTSTART;TZID=Europe/Berlin:20260313T090500
DTEND;TZID=Europe/Berlin:20260313T100500
UID:261WB30115-20260313T090500@VHSUNTERLAND
SUMMARY:Pilates  für Fortgeschrittene (261WB30115) 
LOCATION:wb VHS-Haus, E06, Zehntgasse 10, 74189 Weinsberg
END:VEVENT
BEGIN:VEVENT
DTSTAMP:20260423T153441
DTSTART;TZID=Europe/Berlin:20260417T090500
DTEND;TZID=Europe/Berlin:20260417T100500
UID:261WB30115-20260417T090500@VHSUNTERLAND
SUMMARY:Pilates  für Fortgeschrittene (261WB30115) 
LOCATION:wb VHS-Haus, E06, Zehntgasse 10, 74189 Weinsberg
END:VEVENT
BEGIN:VEVENT
DTSTAMP:20260423T153441
DTSTART;TZID=Europe/Berlin:20260424T090500
DTEND;TZID=Europe/Berlin:20260424T100500
UID:261WB30115-20260424T090500@VHSUNTERLAND
SUMMARY:Pilates  für Fortgeschrittene (261WB30115) 
LOCATION:wb VHS-Haus, E06, Zehntgasse 10, 74189 Weinsberg
END:VEVENT
BEGIN:VEVENT
DTSTAMP:20260423T153441
DTSTART;TZID=Europe/Berlin:20260508T090500
DTEND;TZID=Europe/Berlin:20260508T100500
UID:261WB30115-20260508T090500@VHSUNTERLAND
SUMMARY:Pilates  für Fortgeschrittene (261WB30115) 
LOCATION:wb VHS-Haus, E06, Zehntgasse 10, 74189 Weinsberg
END:VEVENT
BEGIN:VEVENT
DTSTAMP:20260423T153441
DTSTART;TZID=Europe/Berlin:20260515T090500
DTEND;TZID=Europe/Berlin:20260515T100500
UID:261WB30115-20260515T090500@VHSUNTERLAND
SUMMARY:Pilates  für Fortgeschrittene (261WB30115) 
LOCATION:wb VHS-Haus, E06, Zehntgasse 10, 74189 Weinsberg
END:VEVENT
BEGIN:VEVENT
DTSTAMP:20260423T153441
DTSTART;TZID=Europe/Berlin:20260522T090500
DTEND;TZID=Europe/Berlin:20260522T100500
UID:261WB30115-20260522T090500@VHSUNTERLAND
SUMMARY:Pilates  für Fortgeschrittene (261WB30115) 
LOCATION:wb VHS-Haus, E06, Zehntgasse 10, 74189 Weinsberg
END:VEVENT
BEGIN:VEVENT
DTSTAMP:20260423T153441
DTSTART;TZID=Europe/Berlin:20260612T090500
DTEND;TZID=Europe/Berlin:20260612T100500
UID:261WB30115-20260612T090500@VHSUNTERLAND
SUMMARY:Pilates  für Fortgeschrittene (261WB30115) 
LOCATION:wb VHS-Haus, E06, Zehntgasse 10, 74189 Weinsberg
END:VEVENT
BEGIN:VEVENT
DTSTAMP:20260423T153441
DTSTART;TZID=Europe/Berlin:20260619T090500
DTEND;TZID=Europe/Berlin:20260619T100500
UID:261WB30115-20260619T090500@VHSUNTERLAND
SUMMARY:Pilates  für Fortgeschrittene (261WB30115) 
LOCATION:wb VHS-Haus, E06, Zehntgasse 10, 74189 Weinsberg
END:VEVENT
BEGIN:VEVENT
DTSTAMP:20260423T153441
DTSTART;TZID=Europe/Berlin:20260626T090500
DTEND;TZID=Europe/Berlin:20260626T100500
UID:261WB30115-20260626T090500@VHSUNTERLAND
SUMMARY:Pilates  für Fortgeschrittene (261WB30115) 
LOCATION:wb VHS-Haus, E06, Zehntgasse 10, 74189 Weinsberg
END:VEVENT
BEGIN:VEVENT
DTSTAMP:20260423T153441
DTSTART;TZID=Europe/Berlin:20260703T090500
DTEND;TZID=Europe/Berlin:20260703T100500
UID:261WB30115-20260703T090500@VHSUNTERLAND
SUMMARY:Pilates  für Fortgeschrittene (261WB30115) 
LOCATION:wb VHS-Haus, E06, Zehntgasse 10, 74189 Weinsberg
END:VEVENT
BEGIN:VEVENT
DTSTAMP:20260423T153441
DTSTART;TZID=Europe/Berlin:20260710T090500
DTEND;TZID=Europe/Berlin:20260710T100500
UID:261WB30115-20260710T090500@VHSUNTERLAND
SUMMARY:Pilates  für Fortgeschrittene (261WB30115) 
LOCATION:wb VHS-Haus, E06, Zehntgasse 10, 74189 Weinsberg
END:VEVENT
BEGIN:VEVENT
DTSTAMP:20260423T153441
DTSTART;TZID=Europe/Berlin:20260717T090500
DTEND;TZID=Europe/Berlin:20260717T100500
UID:261WB30115-20260717T090500@VHSUNTERLAND
DESCRIPTION:Ersatz für Ausfall am 20.03.2026
SUMMARY:Pilates  für Fortgeschrittene (261WB30115) 
LOCATION:wb VHS-Haus, E06, Zehntgasse 10, 74189 Weinsberg
END:VEVENT
BEGIN:VEVENT
DTSTAMP:20260423T153441
DTSTART;TZID=Europe/Berlin:20260724T090500
DTEND;TZID=Europe/Berlin:20260724T100500
UID:261WB30115-20260724T090500@VHSUNTERLAND
DESCRIPTION:Ersatz für Ausfall am 27.03.2026
SUMMARY:Pilates  für Fortgeschrittene (261WB30115) 
LOCATION:wb VHS-Haus, E06, Zehntgasse 10, 74189 Weinsberg
END:VEVENT
END:VCALENDAR