BEGIN:VCALENDAR
VERSION:2.0
PRODID:http://www.kufer.de/kuferweb / DE
METHOD:PUBLISH
CALSCALE:GREGORIAN
X-WR-TIMEZONE:Europe/Berlin
BEGIN:VTIMEZONE
TZID:Europe/Berlin
X-LIC-LOCATION:Europe/Berlin
BEGIN:DAYLIGHT
TZOFFSETFROM:+0100
TZOFFSETTO:+0200
TZNAME:CEST
DTSTART;TZID=Europe/Berlin:19700329T020000
RRULE:FREQ=YEARLY;INTERVAL=1;BYDAY=-1SU;BYMONTH=3
END:DAYLIGHT
BEGIN:STANDARD
TZOFFSETFROM:+0200
TZOFFSETTO:+0100
TZNAME:CET
DTSTART;TZID=Europe/Berlin:19701025T030000
RRULE:FREQ=YEARLY;INTERVAL=1;BYDAY=-1SU;BYMONTH=10
END:STANDARD
END:VTIMEZONE
BEGIN:VEVENT
DTSTAMP:20260420T173338
DTSTART;TZID=Europe/Berlin:20260223T173000
DTEND;TZID=Europe/Berlin:20260223T183000
UID:261WB30112-20260223T173000@VHSUNTERLAND
SUMMARY:Pilates  mit Rückentraining (261WB30112) 
LOCATION:wb Kita am Grasigen Hag Bewegungsraum, Am Grasigen Hag, 74189 Weinsberg
END:VEVENT
BEGIN:VEVENT
DTSTAMP:20260420T173338
DTSTART;TZID=Europe/Berlin:20260302T173000
DTEND;TZID=Europe/Berlin:20260302T183000
UID:261WB30112-20260302T173000@VHSUNTERLAND
SUMMARY:Pilates  mit Rückentraining (261WB30112) 
LOCATION:wb Kita am Grasigen Hag Bewegungsraum, Am Grasigen Hag, 74189 Weinsberg
END:VEVENT
BEGIN:VEVENT
DTSTAMP:20260420T173338
DTSTART;TZID=Europe/Berlin:20260309T173000
DTEND;TZID=Europe/Berlin:20260309T183000
UID:261WB30112-20260309T173000@VHSUNTERLAND
SUMMARY:Pilates  mit Rückentraining (261WB30112) 
LOCATION:wb Kita am Grasigen Hag Bewegungsraum, Am Grasigen Hag, 74189 Weinsberg
END:VEVENT
BEGIN:VEVENT
DTSTAMP:20260420T173338
DTSTART;TZID=Europe/Berlin:20260420T173000
DTEND;TZID=Europe/Berlin:20260420T183000
UID:261WB30112-20260420T173000@VHSUNTERLAND
SUMMARY:Pilates  mit Rückentraining (261WB30112) 
LOCATION:wb Kita am Grasigen Hag Bewegungsraum, Am Grasigen Hag, 74189 Weinsberg
END:VEVENT
BEGIN:VEVENT
DTSTAMP:20260420T173338
DTSTART;TZID=Europe/Berlin:20260427T173000
DTEND;TZID=Europe/Berlin:20260427T183000
UID:261WB30112-20260427T173000@VHSUNTERLAND
SUMMARY:Pilates  mit Rückentraining (261WB30112) 
LOCATION:wb Kita am Grasigen Hag Bewegungsraum, Am Grasigen Hag, 74189 Weinsberg
END:VEVENT
BEGIN:VEVENT
DTSTAMP:20260420T173338
DTSTART;TZID=Europe/Berlin:20260504T173000
DTEND;TZID=Europe/Berlin:20260504T183000
UID:261WB30112-20260504T173000@VHSUNTERLAND
SUMMARY:Pilates  mit Rückentraining (261WB30112) 
LOCATION:wb Kita am Grasigen Hag Bewegungsraum, Am Grasigen Hag, 74189 Weinsberg
END:VEVENT
BEGIN:VEVENT
DTSTAMP:20260420T173338
DTSTART;TZID=Europe/Berlin:20260511T173000
DTEND;TZID=Europe/Berlin:20260511T183000
UID:261WB30112-20260511T173000@VHSUNTERLAND
SUMMARY:Pilates  mit Rückentraining (261WB30112) 
LOCATION:wb Kita am Grasigen Hag Bewegungsraum, Am Grasigen Hag, 74189 Weinsberg
END:VEVENT
BEGIN:VEVENT
DTSTAMP:20260420T173338
DTSTART;TZID=Europe/Berlin:20260518T173000
DTEND;TZID=Europe/Berlin:20260518T183000
UID:261WB30112-20260518T173000@VHSUNTERLAND
SUMMARY:Pilates  mit Rückentraining (261WB30112) 
LOCATION:wb Kita am Grasigen Hag Bewegungsraum, Am Grasigen Hag, 74189 Weinsberg
END:VEVENT
BEGIN:VEVENT
DTSTAMP:20260420T173338
DTSTART;TZID=Europe/Berlin:20260608T173000
DTEND;TZID=Europe/Berlin:20260608T183000
UID:261WB30112-20260608T173000@VHSUNTERLAND
SUMMARY:Pilates  mit Rückentraining (261WB30112) 
LOCATION:wb Kita am Grasigen Hag Bewegungsraum, Am Grasigen Hag, 74189 Weinsberg
END:VEVENT
BEGIN:VEVENT
DTSTAMP:20260420T173338
DTSTART;TZID=Europe/Berlin:20260615T173000
DTEND;TZID=Europe/Berlin:20260615T183000
UID:261WB30112-20260615T173000@VHSUNTERLAND
SUMMARY:Pilates  mit Rückentraining (261WB30112) 
LOCATION:wb Kita am Grasigen Hag Bewegungsraum, Am Grasigen Hag, 74189 Weinsberg
END:VEVENT
BEGIN:VEVENT
DTSTAMP:20260420T173338
DTSTART;TZID=Europe/Berlin:20260622T173000
DTEND;TZID=Europe/Berlin:20260622T183000
UID:261WB30112-20260622T173000@VHSUNTERLAND
SUMMARY:Pilates  mit Rückentraining (261WB30112) 
LOCATION:wb Kita am Grasigen Hag Bewegungsraum, Am Grasigen Hag, 74189 Weinsberg
END:VEVENT
BEGIN:VEVENT
DTSTAMP:20260420T173338
DTSTART;TZID=Europe/Berlin:20260629T173000
DTEND;TZID=Europe/Berlin:20260629T183000
UID:261WB30112-20260629T173000@VHSUNTERLAND
SUMMARY:Pilates  mit Rückentraining (261WB30112) 
LOCATION:wb Kita am Grasigen Hag Bewegungsraum, Am Grasigen Hag, 74189 Weinsberg
END:VEVENT
BEGIN:VEVENT
DTSTAMP:20260420T173338
DTSTART;TZID=Europe/Berlin:20260706T173000
DTEND;TZID=Europe/Berlin:20260706T183000
UID:261WB30112-20260706T173000@VHSUNTERLAND
DESCRIPTION:Ersatz für Ausfall am 16.03.2026
SUMMARY:Pilates  mit Rückentraining (261WB30112) 
LOCATION:wb Kita am Grasigen Hag Bewegungsraum, Am Grasigen Hag, 74189 Weinsberg
END:VEVENT
BEGIN:VEVENT
DTSTAMP:20260420T173338
DTSTART;TZID=Europe/Berlin:20260713T173000
DTEND;TZID=Europe/Berlin:20260713T183000
UID:261WB30112-20260713T173000@VHSUNTERLAND
DESCRIPTION:Ersatz für Ausfall am 23.03.2026
SUMMARY:Pilates  mit Rückentraining (261WB30112) 
LOCATION:wb Kita am Grasigen Hag Bewegungsraum, Am Grasigen Hag, 74189 Weinsberg
END:VEVENT
BEGIN:VEVENT
DTSTAMP:20260420T173338
DTSTART;TZID=Europe/Berlin:20260720T173000
DTEND;TZID=Europe/Berlin:20260720T183000
UID:261WB30112-20260720T173000@VHSUNTERLAND
DESCRIPTION:Ersatz für Ausfall am 13.04.2026
SUMMARY:Pilates  mit Rückentraining (261WB30112) 
LOCATION:wb Kita am Grasigen Hag Bewegungsraum, Am Grasigen Hag, 74189 Weinsberg
END:VEVENT
END:VCALENDAR