BEGIN:VCALENDAR
VERSION:2.0
PRODID:http://www.kufer.de/kuferweb / DE
METHOD:PUBLISH
CALSCALE:GREGORIAN
X-WR-TIMEZONE:Europe/Berlin
BEGIN:VTIMEZONE
TZID:Europe/Berlin
X-LIC-LOCATION:Europe/Berlin
BEGIN:DAYLIGHT
TZOFFSETFROM:+0100
TZOFFSETTO:+0200
TZNAME:CEST
DTSTART;TZID=Europe/Berlin:19700329T020000
RRULE:FREQ=YEARLY;INTERVAL=1;BYDAY=-1SU;BYMONTH=3
END:DAYLIGHT
BEGIN:STANDARD
TZOFFSETFROM:+0200
TZOFFSETTO:+0100
TZNAME:CET
DTSTART;TZID=Europe/Berlin:19701025T030000
RRULE:FREQ=YEARLY;INTERVAL=1;BYDAY=-1SU;BYMONTH=10
END:STANDARD
END:VTIMEZONE
BEGIN:VEVENT
DTSTAMP:20260422T094523
DTSTART;TZID=Europe/Berlin:20260621T090000
DTEND;TZID=Europe/Berlin:20260621T160000
UID:261WB30101-20260621T090000@VHSUNTERLAND
SUMMARY:Entspannung & Harmonie  Ein Yoga-Tag auf dem Rappenhof zum Wohlfühlen (261WB30101) 
LOCATION:wb Rappenhof Hotel und Gutsgasttätte Seminarraum, Rappenhofweg  1, 74189 Weinsberg
END:VEVENT
END:VCALENDAR