BEGIN:VCALENDAR
VERSION:2.0
PRODID:http://www.kufer.de/kuferweb / DE
METHOD:PUBLISH
CALSCALE:GREGORIAN
X-WR-TIMEZONE:Europe/Berlin
BEGIN:VTIMEZONE
TZID:Europe/Berlin
X-LIC-LOCATION:Europe/Berlin
BEGIN:DAYLIGHT
TZOFFSETFROM:+0100
TZOFFSETTO:+0200
TZNAME:CEST
DTSTART;TZID=Europe/Berlin:19700329T020000
RRULE:FREQ=YEARLY;INTERVAL=1;BYDAY=-1SU;BYMONTH=3
END:DAYLIGHT
BEGIN:STANDARD
TZOFFSETFROM:+0200
TZOFFSETTO:+0100
TZNAME:CET
DTSTART;TZID=Europe/Berlin:19701025T030000
RRULE:FREQ=YEARLY;INTERVAL=1;BYDAY=-1SU;BYMONTH=10
END:STANDARD
END:VTIMEZONE
BEGIN:VEVENT
DTSTAMP:20260425T215105
DTSTART;TZID=Europe/Berlin:20260224T153000
DTEND;TZID=Europe/Berlin:20260224T161500
UID:261WB20580-20260224T153000@VHSUNTERLAND
SUMMARY:Kreativer Kindertanz von 4 – 6 Jahren (261WB20580) 
LOCATION:wb VHS-Haus, E06, Zehntgasse 10, 74189 Weinsberg
END:VEVENT
BEGIN:VEVENT
DTSTAMP:20260425T215105
DTSTART;TZID=Europe/Berlin:20260303T153000
DTEND;TZID=Europe/Berlin:20260303T161500
UID:261WB20580-20260303T153000@VHSUNTERLAND
SUMMARY:Kreativer Kindertanz von 4 – 6 Jahren (261WB20580) 
LOCATION:wb VHS-Haus, E06, Zehntgasse 10, 74189 Weinsberg
END:VEVENT
BEGIN:VEVENT
DTSTAMP:20260425T215105
DTSTART;TZID=Europe/Berlin:20260310T153000
DTEND;TZID=Europe/Berlin:20260310T161500
UID:261WB20580-20260310T153000@VHSUNTERLAND
SUMMARY:Kreativer Kindertanz von 4 – 6 Jahren (261WB20580) 
LOCATION:wb VHS-Haus, E06, Zehntgasse 10, 74189 Weinsberg
END:VEVENT
BEGIN:VEVENT
DTSTAMP:20260425T215105
DTSTART;TZID=Europe/Berlin:20260317T153000
DTEND;TZID=Europe/Berlin:20260317T161500
UID:261WB20580-20260317T153000@VHSUNTERLAND
SUMMARY:Kreativer Kindertanz von 4 – 6 Jahren (261WB20580) 
LOCATION:wb VHS-Haus, E06, Zehntgasse 10, 74189 Weinsberg
END:VEVENT
BEGIN:VEVENT
DTSTAMP:20260425T215105
DTSTART;TZID=Europe/Berlin:20260324T153000
DTEND;TZID=Europe/Berlin:20260324T161500
UID:261WB20580-20260324T153000@VHSUNTERLAND
SUMMARY:Kreativer Kindertanz von 4 – 6 Jahren (261WB20580) 
LOCATION:wb VHS-Haus, E06, Zehntgasse 10, 74189 Weinsberg
END:VEVENT
BEGIN:VEVENT
DTSTAMP:20260425T215105
DTSTART;TZID=Europe/Berlin:20260414T153000
DTEND;TZID=Europe/Berlin:20260414T161500
UID:261WB20580-20260414T153000@VHSUNTERLAND
SUMMARY:Kreativer Kindertanz von 4 – 6 Jahren (261WB20580) 
LOCATION:wb VHS-Haus, E06, Zehntgasse 10, 74189 Weinsberg
END:VEVENT
BEGIN:VEVENT
DTSTAMP:20260425T215105
DTSTART;TZID=Europe/Berlin:20260421T153000
DTEND;TZID=Europe/Berlin:20260421T161500
UID:261WB20580-20260421T153000@VHSUNTERLAND
SUMMARY:Kreativer Kindertanz von 4 – 6 Jahren (261WB20580) 
LOCATION:wb VHS-Haus, E06, Zehntgasse 10, 74189 Weinsberg
END:VEVENT
BEGIN:VEVENT
DTSTAMP:20260425T215105
DTSTART;TZID=Europe/Berlin:20260428T153000
DTEND;TZID=Europe/Berlin:20260428T161500
UID:261WB20580-20260428T153000@VHSUNTERLAND
SUMMARY:Kreativer Kindertanz von 4 – 6 Jahren (261WB20580) 
LOCATION:wb VHS-Haus, E06, Zehntgasse 10, 74189 Weinsberg
END:VEVENT
BEGIN:VEVENT
DTSTAMP:20260425T215105
DTSTART;TZID=Europe/Berlin:20260505T153000
DTEND;TZID=Europe/Berlin:20260505T161500
UID:261WB20580-20260505T153000@VHSUNTERLAND
SUMMARY:Kreativer Kindertanz von 4 – 6 Jahren (261WB20580) 
LOCATION:wb VHS-Haus, E06, Zehntgasse 10, 74189 Weinsberg
END:VEVENT
BEGIN:VEVENT
DTSTAMP:20260425T215105
DTSTART;TZID=Europe/Berlin:20260512T153000
DTEND;TZID=Europe/Berlin:20260512T161500
UID:261WB20580-20260512T153000@VHSUNTERLAND
SUMMARY:Kreativer Kindertanz von 4 – 6 Jahren (261WB20580) 
LOCATION:wb VHS-Haus, E06, Zehntgasse 10, 74189 Weinsberg
END:VEVENT
BEGIN:VEVENT
DTSTAMP:20260425T215105
DTSTART;TZID=Europe/Berlin:20260519T153000
DTEND;TZID=Europe/Berlin:20260519T161500
UID:261WB20580-20260519T153000@VHSUNTERLAND
SUMMARY:Kreativer Kindertanz von 4 – 6 Jahren (261WB20580) 
LOCATION:wb VHS-Haus, E06, Zehntgasse 10, 74189 Weinsberg
END:VEVENT
BEGIN:VEVENT
DTSTAMP:20260425T215105
DTSTART;TZID=Europe/Berlin:20260609T153000
DTEND;TZID=Europe/Berlin:20260609T161500
UID:261WB20580-20260609T153000@VHSUNTERLAND
SUMMARY:Kreativer Kindertanz von 4 – 6 Jahren (261WB20580) 
LOCATION:wb VHS-Haus, E06, Zehntgasse 10, 74189 Weinsberg
END:VEVENT
END:VCALENDAR