BEGIN:VCALENDAR
VERSION:2.0
PRODID:http://www.kufer.de/kuferweb / DE
METHOD:PUBLISH
CALSCALE:GREGORIAN
X-WR-TIMEZONE:Europe/Berlin
BEGIN:VTIMEZONE
TZID:Europe/Berlin
X-LIC-LOCATION:Europe/Berlin
BEGIN:DAYLIGHT
TZOFFSETFROM:+0100
TZOFFSETTO:+0200
TZNAME:CEST
DTSTART;TZID=Europe/Berlin:19700329T020000
RRULE:FREQ=YEARLY;INTERVAL=1;BYDAY=-1SU;BYMONTH=3
END:DAYLIGHT
BEGIN:STANDARD
TZOFFSETFROM:+0200
TZOFFSETTO:+0100
TZNAME:CET
DTSTART;TZID=Europe/Berlin:19701025T030000
RRULE:FREQ=YEARLY;INTERVAL=1;BYDAY=-1SU;BYMONTH=10
END:STANDARD
END:VTIMEZONE
BEGIN:VEVENT
DTSTAMP:20260423T072133
DTSTART;TZID=Europe/Berlin:20260506T190000
DTEND;TZID=Europe/Berlin:20260506T201500
UID:261WB20566-20260506T190000@VHSUNTERLAND
SUMMARY:Afterwork - Street Dance Moves für Jugendliche ab 12 Jahren und Erwachsene (261WB20566) 
LOCATION:wb VHS-Haus, E06, Zehntgasse 10, 74189 Weinsberg
END:VEVENT
BEGIN:VEVENT
DTSTAMP:20260423T072133
DTSTART;TZID=Europe/Berlin:20260513T190000
DTEND;TZID=Europe/Berlin:20260513T201500
UID:261WB20566-20260513T190000@VHSUNTERLAND
SUMMARY:Afterwork - Street Dance Moves für Jugendliche ab 12 Jahren und Erwachsene (261WB20566) 
LOCATION:wb VHS-Haus, E06, Zehntgasse 10, 74189 Weinsberg
END:VEVENT
BEGIN:VEVENT
DTSTAMP:20260423T072133
DTSTART;TZID=Europe/Berlin:20260520T190000
DTEND;TZID=Europe/Berlin:20260520T201500
UID:261WB20566-20260520T190000@VHSUNTERLAND
SUMMARY:Afterwork - Street Dance Moves für Jugendliche ab 12 Jahren und Erwachsene (261WB20566) 
LOCATION:wb VHS-Haus, E06, Zehntgasse 10, 74189 Weinsberg
END:VEVENT
BEGIN:VEVENT
DTSTAMP:20260423T072133
DTSTART;TZID=Europe/Berlin:20260610T190000
DTEND;TZID=Europe/Berlin:20260610T201500
UID:261WB20566-20260610T190000@VHSUNTERLAND
SUMMARY:Afterwork - Street Dance Moves für Jugendliche ab 12 Jahren und Erwachsene (261WB20566) 
LOCATION:wb VHS-Haus, E06, Zehntgasse 10, 74189 Weinsberg
END:VEVENT
BEGIN:VEVENT
DTSTAMP:20260423T072133
DTSTART;TZID=Europe/Berlin:20260617T190000
DTEND;TZID=Europe/Berlin:20260617T201500
UID:261WB20566-20260617T190000@VHSUNTERLAND
SUMMARY:Afterwork - Street Dance Moves für Jugendliche ab 12 Jahren und Erwachsene (261WB20566) 
LOCATION:wb VHS-Haus, E06, Zehntgasse 10, 74189 Weinsberg
END:VEVENT
BEGIN:VEVENT
DTSTAMP:20260423T072133
DTSTART;TZID=Europe/Berlin:20260624T190000
DTEND;TZID=Europe/Berlin:20260624T201500
UID:261WB20566-20260624T190000@VHSUNTERLAND
SUMMARY:Afterwork - Street Dance Moves für Jugendliche ab 12 Jahren und Erwachsene (261WB20566) 
LOCATION:wb VHS-Haus, E06, Zehntgasse 10, 74189 Weinsberg
END:VEVENT
BEGIN:VEVENT
DTSTAMP:20260423T072133
DTSTART;TZID=Europe/Berlin:20260701T190000
DTEND;TZID=Europe/Berlin:20260701T201500
UID:261WB20566-20260701T190000@VHSUNTERLAND
SUMMARY:Afterwork - Street Dance Moves für Jugendliche ab 12 Jahren und Erwachsene (261WB20566) 
LOCATION:wb VHS-Haus, E06, Zehntgasse 10, 74189 Weinsberg
END:VEVENT
BEGIN:VEVENT
DTSTAMP:20260423T072133
DTSTART;TZID=Europe/Berlin:20260708T190000
DTEND;TZID=Europe/Berlin:20260708T201500
UID:261WB20566-20260708T190000@VHSUNTERLAND
SUMMARY:Afterwork - Street Dance Moves für Jugendliche ab 12 Jahren und Erwachsene (261WB20566) 
LOCATION:wb VHS-Haus, E06, Zehntgasse 10, 74189 Weinsberg
END:VEVENT
END:VCALENDAR