BEGIN:VCALENDAR
VERSION:2.0
PRODID:http://www.kufer.de/kuferweb / DE
METHOD:PUBLISH
CALSCALE:GREGORIAN
X-WR-TIMEZONE:Europe/Berlin
BEGIN:VTIMEZONE
TZID:Europe/Berlin
X-LIC-LOCATION:Europe/Berlin
BEGIN:DAYLIGHT
TZOFFSETFROM:+0100
TZOFFSETTO:+0200
TZNAME:CEST
DTSTART;TZID=Europe/Berlin:19700329T020000
RRULE:FREQ=YEARLY;INTERVAL=1;BYDAY=-1SU;BYMONTH=3
END:DAYLIGHT
BEGIN:STANDARD
TZOFFSETFROM:+0200
TZOFFSETTO:+0100
TZNAME:CET
DTSTART;TZID=Europe/Berlin:19701025T030000
RRULE:FREQ=YEARLY;INTERVAL=1;BYDAY=-1SU;BYMONTH=10
END:STANDARD
END:VTIMEZONE
BEGIN:VEVENT
DTSTAMP:20260421T001028
DTSTART;TZID=Europe/Berlin:20260319T093000
DTEND;TZID=Europe/Berlin:20260319T120000
UID:261WB10110-20260319T093000@VHSUNTERLAND
SUMMARY:Antike Geschichte IV  Rom von der späten Republik bis zum Ende der Blütezeit des Imperiums am Ende des 2. Jh. n. Chr. (261WB10110) 
LOCATION:wb VHS-Haus, E07, Zehntgasse 10, 74189 Weinsberg
END:VEVENT
BEGIN:VEVENT
DTSTAMP:20260421T001028
DTSTART;TZID=Europe/Berlin:20260326T093000
DTEND;TZID=Europe/Berlin:20260326T120000
UID:261WB10110-20260326T093000@VHSUNTERLAND
SUMMARY:Antike Geschichte IV  Rom von der späten Republik bis zum Ende der Blütezeit des Imperiums am Ende des 2. Jh. n. Chr. (261WB10110) 
LOCATION:wb VHS-Haus, E07, Zehntgasse 10, 74189 Weinsberg
END:VEVENT
BEGIN:VEVENT
DTSTAMP:20260421T001028
DTSTART;TZID=Europe/Berlin:20260416T093000
DTEND;TZID=Europe/Berlin:20260416T120000
UID:261WB10110-20260416T093000@VHSUNTERLAND
SUMMARY:Antike Geschichte IV  Rom von der späten Republik bis zum Ende der Blütezeit des Imperiums am Ende des 2. Jh. n. Chr. (261WB10110) 
LOCATION:wb VHS-Haus, E07, Zehntgasse 10, 74189 Weinsberg
END:VEVENT
BEGIN:VEVENT
DTSTAMP:20260421T001028
DTSTART;TZID=Europe/Berlin:20260423T093000
DTEND;TZID=Europe/Berlin:20260423T120000
UID:261WB10110-20260423T093000@VHSUNTERLAND
SUMMARY:Antike Geschichte IV  Rom von der späten Republik bis zum Ende der Blütezeit des Imperiums am Ende des 2. Jh. n. Chr. (261WB10110) 
LOCATION:wb VHS-Haus, E07, Zehntgasse 10, 74189 Weinsberg
END:VEVENT
END:VCALENDAR