BEGIN:VCALENDAR
VERSION:2.0
PRODID:http://www.kufer.de/kuferweb / DE
METHOD:PUBLISH
CALSCALE:GREGORIAN
X-WR-TIMEZONE:Europe/Berlin
BEGIN:VTIMEZONE
TZID:Europe/Berlin
X-LIC-LOCATION:Europe/Berlin
BEGIN:DAYLIGHT
TZOFFSETFROM:+0100
TZOFFSETTO:+0200
TZNAME:CEST
DTSTART;TZID=Europe/Berlin:19700329T020000
RRULE:FREQ=YEARLY;INTERVAL=1;BYDAY=-1SU;BYMONTH=3
END:DAYLIGHT
BEGIN:STANDARD
TZOFFSETFROM:+0200
TZOFFSETTO:+0100
TZNAME:CET
DTSTART;TZID=Europe/Berlin:19701025T030000
RRULE:FREQ=YEARLY;INTERVAL=1;BYDAY=-1SU;BYMONTH=10
END:STANDARD
END:VTIMEZONE
BEGIN:VEVENT
DTSTAMP:20260424T045323
DTSTART;TZID=Europe/Berlin:20260523T090000
DTEND;TZID=Europe/Berlin:20260523T160000
UID:261VV10501-20260523T090000@VHSUNTERLAND
SUMMARY:Qualifizierungsreihe von Schulkindbetreuungskräften im Rahmen des Ganztagsangebots (261VV10501) 
LOCATION:ns VHS-Haus, Haupteingang, Hofgartenstraße 28, 74196 Neuenstadt
END:VEVENT
BEGIN:VEVENT
DTSTAMP:20260424T045323
DTSTART;TZID=Europe/Berlin:20260613T090000
DTEND;TZID=Europe/Berlin:20260613T160000
UID:261VV10502-20260613T090000@VHSUNTERLAND
SUMMARY:Qualifizierungsreihe von Schulkindbetreuungskräften im Rahmen des Ganztagsangebots (261VV10502) 
LOCATION:ns VHS-Haus, Haupteingang, Hofgartenstraße 28, 74196 Neuenstadt
END:VEVENT
BEGIN:VEVENT
DTSTAMP:20260424T045323
DTSTART;TZID=Europe/Berlin:20260703T170000
DTEND;TZID=Europe/Berlin:20260703T200000
UID:261VV10503-20260703T170000@VHSUNTERLAND
SUMMARY:Qualifizierungsreihe von Schulkindbetreuungskräften im Rahmen des Ganztagsangebots (261VV10503) 
LOCATION:hn Online, , 
END:VEVENT
BEGIN:VEVENT
DTSTAMP:20260424T045323
DTSTART;TZID=Europe/Berlin:20260704T090000
DTEND;TZID=Europe/Berlin:20260704T160000
UID:261VV10503-20260704T090000@VHSUNTERLAND
SUMMARY:Qualifizierungsreihe von Schulkindbetreuungskräften im Rahmen des Ganztagsangebots (261VV10503) 
LOCATION:ns VHS-Haus, Haupteingang, Hofgartenstraße 28, 74196 Neuenstadt
END:VEVENT
BEGIN:VEVENT
DTSTAMP:20260424T045323
DTSTART;TZID=Europe/Berlin:20260710T170000
DTEND;TZID=Europe/Berlin:20260710T200000
UID:261VV10503-20260710T170000@VHSUNTERLAND
SUMMARY:Qualifizierungsreihe von Schulkindbetreuungskräften im Rahmen des Ganztagsangebots (261VV10503) 
LOCATION:hn Online, , 
END:VEVENT
BEGIN:VEVENT
DTSTAMP:20260424T045323
DTSTART;TZID=Europe/Berlin:20260718T090000
DTEND;TZID=Europe/Berlin:20260718T160000
UID:261VV10504-20260718T090000@VHSUNTERLAND
SUMMARY:Qualifizierungsreihe von Schulkindbetreuungskräften im Rahmen des Ganztagsangebots (261VV10504) 
LOCATION:ns VHS-Haus, Haupteingang, Hofgartenstraße 28, 74196 Neuenstadt
END:VEVENT
BEGIN:VEVENT
DTSTAMP:20260424T045323
DTSTART;TZID=Europe/Berlin:20260919T090000
DTEND;TZID=Europe/Berlin:20260919T160000
UID:261VV10504-20260919T090000@VHSUNTERLAND
SUMMARY:Qualifizierungsreihe von Schulkindbetreuungskräften im Rahmen des Ganztagsangebots (261VV10504) 
LOCATION:ns VHS-Haus, Haupteingang, Hofgartenstraße 28, 74196 Neuenstadt
END:VEVENT
BEGIN:VEVENT
DTSTAMP:20260424T045323
DTSTART;TZID=Europe/Berlin:20261010T090000
DTEND;TZID=Europe/Berlin:20261010T160000
UID:261VV10505-20261010T090000@VHSUNTERLAND
SUMMARY:Qualifizierungsreihe von Schulkindbetreuungskräften im Rahmen des Ganztagsangebots (261VV10505) 
LOCATION:ns VHS-Haus, Haupteingang, Hofgartenstraße 28, 74196 Neuenstadt
END:VEVENT
BEGIN:VEVENT
DTSTAMP:20260424T045323
DTSTART;TZID=Europe/Berlin:20261017T090000
DTEND;TZID=Europe/Berlin:20261017T160000
UID:261VV10506-20261017T090000@VHSUNTERLAND
SUMMARY:Qualifizierungsreihe von Schulkindbetreuungskräften im Rahmen des Ganztagsangebots (261VV10506) 
LOCATION:ns VHS-Haus, Haupteingang, Hofgartenstraße 28, 74196 Neuenstadt
END:VEVENT
BEGIN:VEVENT
DTSTAMP:20260424T045323
DTSTART;TZID=Europe/Berlin:20261023T170000
DTEND;TZID=Europe/Berlin:20261023T200000
UID:261VV10507-20261023T170000@VHSUNTERLAND
SUMMARY:Qualifizierungsreihe von Schulkindbetreuungskräften im Rahmen des Ganztagsangebots (261VV10507) 
LOCATION:hn Online, , 
END:VEVENT
END:VCALENDAR