BEGIN:VCALENDAR
VERSION:2.0
PRODID:http://www.kufer.de/kuferweb / DE
METHOD:PUBLISH
CALSCALE:GREGORIAN
X-WR-TIMEZONE:Europe/Berlin
BEGIN:VTIMEZONE
TZID:Europe/Berlin
X-LIC-LOCATION:Europe/Berlin
BEGIN:DAYLIGHT
TZOFFSETFROM:+0100
TZOFFSETTO:+0200
TZNAME:CEST
DTSTART;TZID=Europe/Berlin:19700329T020000
RRULE:FREQ=YEARLY;INTERVAL=1;BYDAY=-1SU;BYMONTH=3
END:DAYLIGHT
BEGIN:STANDARD
TZOFFSETFROM:+0200
TZOFFSETTO:+0100
TZNAME:CET
DTSTART;TZID=Europe/Berlin:19701025T030000
RRULE:FREQ=YEARLY;INTERVAL=1;BYDAY=-1SU;BYMONTH=10
END:STANDARD
END:VTIMEZONE
BEGIN:VEVENT
DTSTAMP:20260420T105900
DTSTART;TZID=Europe/Berlin:20260723T190000
DTEND;TZID=Europe/Berlin:20260723T200000
UID:261UH30217-20260723T190000@VHSUNTERLAND
SUMMARY:Rückenfit (261UH30217) 
LOCATION:uh ev. Gemeindehaus, Raum UG, Herzog-Magnus-Str. 7, 74257 Untereisesheim
END:VEVENT
BEGIN:VEVENT
DTSTAMP:20260420T105900
DTSTART;TZID=Europe/Berlin:20260730T190000
DTEND;TZID=Europe/Berlin:20260730T200000
UID:261UH30217-20260730T190000@VHSUNTERLAND
SUMMARY:Rückenfit (261UH30217) 
LOCATION:uh ev. Gemeindehaus, Raum UG, Herzog-Magnus-Str. 7, 74257 Untereisesheim
END:VEVENT
BEGIN:VEVENT
DTSTAMP:20260420T105900
DTSTART;TZID=Europe/Berlin:20260806T190000
DTEND;TZID=Europe/Berlin:20260806T200000
UID:261UH30217-20260806T190000@VHSUNTERLAND
SUMMARY:Rückenfit (261UH30217) 
LOCATION:uh ev. Gemeindehaus, Raum UG, Herzog-Magnus-Str. 7, 74257 Untereisesheim
END:VEVENT
BEGIN:VEVENT
DTSTAMP:20260420T105900
DTSTART;TZID=Europe/Berlin:20260813T190000
DTEND;TZID=Europe/Berlin:20260813T200000
UID:261UH30217-20260813T190000@VHSUNTERLAND
SUMMARY:Rückenfit (261UH30217) 
LOCATION:uh ev. Gemeindehaus, Raum UG, Herzog-Magnus-Str. 7, 74257 Untereisesheim
END:VEVENT
BEGIN:VEVENT
DTSTAMP:20260420T105900
DTSTART;TZID=Europe/Berlin:20260820T190000
DTEND;TZID=Europe/Berlin:20260820T200000
UID:261UH30217-20260820T190000@VHSUNTERLAND
SUMMARY:Rückenfit (261UH30217) 
LOCATION:uh ev. Gemeindehaus, Raum UG, Herzog-Magnus-Str. 7, 74257 Untereisesheim
END:VEVENT
BEGIN:VEVENT
DTSTAMP:20260420T105900
DTSTART;TZID=Europe/Berlin:20260827T190000
DTEND;TZID=Europe/Berlin:20260827T200000
UID:261UH30217-20260827T190000@VHSUNTERLAND
SUMMARY:Rückenfit (261UH30217) 
LOCATION:uh ev. Gemeindehaus, Raum UG, Herzog-Magnus-Str. 7, 74257 Untereisesheim
END:VEVENT
BEGIN:VEVENT
DTSTAMP:20260420T105900
DTSTART;TZID=Europe/Berlin:20260903T190000
DTEND;TZID=Europe/Berlin:20260903T200000
UID:261UH30217-20260903T190000@VHSUNTERLAND
SUMMARY:Rückenfit (261UH30217) 
LOCATION:uh ev. Gemeindehaus, Raum UG, Herzog-Magnus-Str. 7, 74257 Untereisesheim
END:VEVENT
BEGIN:VEVENT
DTSTAMP:20260420T105900
DTSTART;TZID=Europe/Berlin:20260910T190000
DTEND;TZID=Europe/Berlin:20260910T200000
UID:261UH30217-20260910T190000@VHSUNTERLAND
SUMMARY:Rückenfit (261UH30217) 
LOCATION:uh ev. Gemeindehaus, Raum UG, Herzog-Magnus-Str. 7, 74257 Untereisesheim
END:VEVENT
END:VCALENDAR