BEGIN:VCALENDAR
VERSION:2.0
PRODID:http://www.kufer.de/kuferweb / DE
METHOD:PUBLISH
CALSCALE:GREGORIAN
X-WR-TIMEZONE:Europe/Berlin
BEGIN:VTIMEZONE
TZID:Europe/Berlin
X-LIC-LOCATION:Europe/Berlin
BEGIN:DAYLIGHT
TZOFFSETFROM:+0100
TZOFFSETTO:+0200
TZNAME:CEST
DTSTART;TZID=Europe/Berlin:19700329T020000
RRULE:FREQ=YEARLY;INTERVAL=1;BYDAY=-1SU;BYMONTH=3
END:DAYLIGHT
BEGIN:STANDARD
TZOFFSETFROM:+0200
TZOFFSETTO:+0100
TZNAME:CET
DTSTART;TZID=Europe/Berlin:19701025T030000
RRULE:FREQ=YEARLY;INTERVAL=1;BYDAY=-1SU;BYMONTH=10
END:STANDARD
END:VTIMEZONE
BEGIN:VEVENT
DTSTAMP:20260423T150517
DTSTART;TZID=Europe/Berlin:20260224T201500
DTEND;TZID=Europe/Berlin:20260224T211500
UID:261UH30215-20260224T201500@VHSUNTERLAND
SUMMARY:Rückenfit (261UH30215) 
LOCATION:uh Sporthalle Sportura Neckarland, Gymnastikraum, Jahnstraße 17, 74257 Untereisesheim
END:VEVENT
BEGIN:VEVENT
DTSTAMP:20260423T150517
DTSTART;TZID=Europe/Berlin:20260303T201500
DTEND;TZID=Europe/Berlin:20260303T211500
UID:261UH30215-20260303T201500@VHSUNTERLAND
SUMMARY:Rückenfit (261UH30215) 
LOCATION:uh Sporthalle Sportura Neckarland, Gymnastikraum, Jahnstraße 17, 74257 Untereisesheim
END:VEVENT
BEGIN:VEVENT
DTSTAMP:20260423T150517
DTSTART;TZID=Europe/Berlin:20260310T201500
DTEND;TZID=Europe/Berlin:20260310T211500
UID:261UH30215-20260310T201500@VHSUNTERLAND
SUMMARY:Rückenfit (261UH30215) 
LOCATION:uh Sporthalle Sportura Neckarland, Gymnastikraum, Jahnstraße 17, 74257 Untereisesheim
END:VEVENT
BEGIN:VEVENT
DTSTAMP:20260423T150517
DTSTART;TZID=Europe/Berlin:20260317T201500
DTEND;TZID=Europe/Berlin:20260317T211500
UID:261UH30215-20260317T201500@VHSUNTERLAND
SUMMARY:Rückenfit (261UH30215) 
LOCATION:uh Sporthalle Sportura Neckarland, Gymnastikraum, Jahnstraße 17, 74257 Untereisesheim
END:VEVENT
BEGIN:VEVENT
DTSTAMP:20260423T150517
DTSTART;TZID=Europe/Berlin:20260324T201500
DTEND;TZID=Europe/Berlin:20260324T211500
UID:261UH30215-20260324T201500@VHSUNTERLAND
SUMMARY:Rückenfit (261UH30215) 
LOCATION:uh Sporthalle Sportura Neckarland, Gymnastikraum, Jahnstraße 17, 74257 Untereisesheim
END:VEVENT
BEGIN:VEVENT
DTSTAMP:20260423T150517
DTSTART;TZID=Europe/Berlin:20260414T201500
DTEND;TZID=Europe/Berlin:20260414T211500
UID:261UH30215-20260414T201500@VHSUNTERLAND
SUMMARY:Rückenfit (261UH30215) 
LOCATION:uh Sporthalle Sportura Neckarland, Gymnastikraum, Jahnstraße 17, 74257 Untereisesheim
END:VEVENT
BEGIN:VEVENT
DTSTAMP:20260423T150517
DTSTART;TZID=Europe/Berlin:20260421T201500
DTEND;TZID=Europe/Berlin:20260421T211500
UID:261UH30215-20260421T201500@VHSUNTERLAND
SUMMARY:Rückenfit (261UH30215) 
LOCATION:uh Sporthalle Sportura Neckarland, Gymnastikraum, Jahnstraße 17, 74257 Untereisesheim
END:VEVENT
BEGIN:VEVENT
DTSTAMP:20260423T150517
DTSTART;TZID=Europe/Berlin:20260428T201500
DTEND;TZID=Europe/Berlin:20260428T211500
UID:261UH30215-20260428T201500@VHSUNTERLAND
SUMMARY:Rückenfit (261UH30215) 
LOCATION:uh Sporthalle Sportura Neckarland, Gymnastikraum, Jahnstraße 17, 74257 Untereisesheim
END:VEVENT
BEGIN:VEVENT
DTSTAMP:20260423T150517
DTSTART;TZID=Europe/Berlin:20260505T201500
DTEND;TZID=Europe/Berlin:20260505T211500
UID:261UH30215-20260505T201500@VHSUNTERLAND
SUMMARY:Rückenfit (261UH30215) 
LOCATION:uh Sporthalle Sportura Neckarland, Gymnastikraum, Jahnstraße 17, 74257 Untereisesheim
END:VEVENT
BEGIN:VEVENT
DTSTAMP:20260423T150517
DTSTART;TZID=Europe/Berlin:20260512T201500
DTEND;TZID=Europe/Berlin:20260512T211500
UID:261UH30215-20260512T201500@VHSUNTERLAND
SUMMARY:Rückenfit (261UH30215) 
LOCATION:uh Sporthalle Sportura Neckarland, Gymnastikraum, Jahnstraße 17, 74257 Untereisesheim
END:VEVENT
END:VCALENDAR