BEGIN:VCALENDAR
VERSION:2.0
PRODID:http://www.kufer.de/kuferweb / DE
METHOD:PUBLISH
CALSCALE:GREGORIAN
X-WR-TIMEZONE:Europe/Berlin
BEGIN:VTIMEZONE
TZID:Europe/Berlin
X-LIC-LOCATION:Europe/Berlin
BEGIN:DAYLIGHT
TZOFFSETFROM:+0100
TZOFFSETTO:+0200
TZNAME:CEST
DTSTART;TZID=Europe/Berlin:19700329T020000
RRULE:FREQ=YEARLY;INTERVAL=1;BYDAY=-1SU;BYMONTH=3
END:DAYLIGHT
BEGIN:STANDARD
TZOFFSETFROM:+0200
TZOFFSETTO:+0100
TZNAME:CET
DTSTART;TZID=Europe/Berlin:19701025T030000
RRULE:FREQ=YEARLY;INTERVAL=1;BYDAY=-1SU;BYMONTH=10
END:STANDARD
END:VTIMEZONE
BEGIN:VEVENT
DTSTAMP:20260424T045307
DTSTART;TZID=Europe/Berlin:20260312T153000
DTEND;TZID=Europe/Berlin:20260312T163000
UID:261UH30190-20260312T153000@VHSUNTERLAND
SUMMARY:Eltern-Kind-Yoga ab 4 Jahren (261UH30190) 
LOCATION:uh Grundschule, Bewegungsraum, Schulstraße 9, 74257 Untereisesheim
END:VEVENT
BEGIN:VEVENT
DTSTAMP:20260424T045307
DTSTART;TZID=Europe/Berlin:20260319T153000
DTEND;TZID=Europe/Berlin:20260319T163000
UID:261UH30190-20260319T153000@VHSUNTERLAND
SUMMARY:Eltern-Kind-Yoga ab 4 Jahren (261UH30190) 
LOCATION:uh Grundschule, Bewegungsraum, Schulstraße 9, 74257 Untereisesheim
END:VEVENT
BEGIN:VEVENT
DTSTAMP:20260424T045307
DTSTART;TZID=Europe/Berlin:20260326T153000
DTEND;TZID=Europe/Berlin:20260326T163000
UID:261UH30190-20260326T153000@VHSUNTERLAND
SUMMARY:Eltern-Kind-Yoga ab 4 Jahren (261UH30190) 
LOCATION:uh Grundschule, Bewegungsraum, Schulstraße 9, 74257 Untereisesheim
END:VEVENT
BEGIN:VEVENT
DTSTAMP:20260424T045307
DTSTART;TZID=Europe/Berlin:20260416T153000
DTEND;TZID=Europe/Berlin:20260416T163000
UID:261UH30190-20260416T153000@VHSUNTERLAND
SUMMARY:Eltern-Kind-Yoga ab 4 Jahren (261UH30190) 
LOCATION:uh Grundschule, Bewegungsraum, Schulstraße 9, 74257 Untereisesheim
END:VEVENT
BEGIN:VEVENT
DTSTAMP:20260424T045307
DTSTART;TZID=Europe/Berlin:20260423T153000
DTEND;TZID=Europe/Berlin:20260423T163000
UID:261UH30190-20260423T153000@VHSUNTERLAND
SUMMARY:Eltern-Kind-Yoga ab 4 Jahren (261UH30190) 
LOCATION:uh Grundschule, Bewegungsraum, Schulstraße 9, 74257 Untereisesheim
END:VEVENT
END:VCALENDAR