BEGIN:VCALENDAR
VERSION:2.0
PRODID:http://www.kufer.de/kuferweb / DE
METHOD:PUBLISH
CALSCALE:GREGORIAN
X-WR-TIMEZONE:Europe/Berlin
BEGIN:VTIMEZONE
TZID:Europe/Berlin
X-LIC-LOCATION:Europe/Berlin
BEGIN:DAYLIGHT
TZOFFSETFROM:+0100
TZOFFSETTO:+0200
TZNAME:CEST
DTSTART;TZID=Europe/Berlin:19700329T020000
RRULE:FREQ=YEARLY;INTERVAL=1;BYDAY=-1SU;BYMONTH=3
END:DAYLIGHT
BEGIN:STANDARD
TZOFFSETFROM:+0200
TZOFFSETTO:+0100
TZNAME:CET
DTSTART;TZID=Europe/Berlin:19701025T030000
RRULE:FREQ=YEARLY;INTERVAL=1;BYDAY=-1SU;BYMONTH=10
END:STANDARD
END:VTIMEZONE
BEGIN:VEVENT
DTSTAMP:20260419T135838
DTSTART;TZID=Europe/Berlin:20260202T190000
DTEND;TZID=Europe/Berlin:20260202T200000
UID:261UH30111-20260202T190000@VHSUNTERLAND
SUMMARY:Body Control nach Pilates (261UH30111) 
LOCATION:uh Grundschule, Bewegungsraum, Schulstraße 9, 74257 Untereisesheim
END:VEVENT
BEGIN:VEVENT
DTSTAMP:20260419T135838
DTSTART;TZID=Europe/Berlin:20260209T190000
DTEND;TZID=Europe/Berlin:20260209T200000
UID:261UH30111-20260209T190000@VHSUNTERLAND
SUMMARY:Body Control nach Pilates (261UH30111) 
LOCATION:uh Grundschule, Bewegungsraum, Schulstraße 9, 74257 Untereisesheim
END:VEVENT
BEGIN:VEVENT
DTSTAMP:20260419T135838
DTSTART;TZID=Europe/Berlin:20260223T190000
DTEND;TZID=Europe/Berlin:20260223T200000
UID:261UH30111-20260223T190000@VHSUNTERLAND
SUMMARY:Body Control nach Pilates (261UH30111) 
LOCATION:uh Grundschule, Bewegungsraum, Schulstraße 9, 74257 Untereisesheim
END:VEVENT
BEGIN:VEVENT
DTSTAMP:20260419T135838
DTSTART;TZID=Europe/Berlin:20260302T190000
DTEND;TZID=Europe/Berlin:20260302T200000
UID:261UH30111-20260302T190000@VHSUNTERLAND
SUMMARY:Body Control nach Pilates (261UH30111) 
LOCATION:uh Grundschule, Bewegungsraum, Schulstraße 9, 74257 Untereisesheim
END:VEVENT
BEGIN:VEVENT
DTSTAMP:20260419T135838
DTSTART;TZID=Europe/Berlin:20260309T190000
DTEND;TZID=Europe/Berlin:20260309T200000
UID:261UH30111-20260309T190000@VHSUNTERLAND
SUMMARY:Body Control nach Pilates (261UH30111) 
LOCATION:uh Grundschule, Bewegungsraum, Schulstraße 9, 74257 Untereisesheim
END:VEVENT
BEGIN:VEVENT
DTSTAMP:20260419T135838
DTSTART;TZID=Europe/Berlin:20260316T190000
DTEND;TZID=Europe/Berlin:20260316T200000
UID:261UH30111-20260316T190000@VHSUNTERLAND
SUMMARY:Body Control nach Pilates (261UH30111) 
LOCATION:uh Grundschule, Bewegungsraum, Schulstraße 9, 74257 Untereisesheim
END:VEVENT
BEGIN:VEVENT
DTSTAMP:20260419T135838
DTSTART;TZID=Europe/Berlin:20260323T190000
DTEND;TZID=Europe/Berlin:20260323T200000
UID:261UH30111-20260323T190000@VHSUNTERLAND
SUMMARY:Body Control nach Pilates (261UH30111) 
LOCATION:uh Grundschule, Bewegungsraum, Schulstraße 9, 74257 Untereisesheim
END:VEVENT
BEGIN:VEVENT
DTSTAMP:20260419T135838
DTSTART;TZID=Europe/Berlin:20260413T190000
DTEND;TZID=Europe/Berlin:20260413T200000
UID:261UH30111-20260413T190000@VHSUNTERLAND
SUMMARY:Body Control nach Pilates (261UH30111) 
LOCATION:uh Grundschule, Bewegungsraum, Schulstraße 9, 74257 Untereisesheim
END:VEVENT
BEGIN:VEVENT
DTSTAMP:20260419T135838
DTSTART;TZID=Europe/Berlin:20260420T190000
DTEND;TZID=Europe/Berlin:20260420T200000
UID:261UH30111-20260420T190000@VHSUNTERLAND
SUMMARY:Body Control nach Pilates (261UH30111) 
LOCATION:uh Grundschule, Bewegungsraum, Schulstraße 9, 74257 Untereisesheim
END:VEVENT
BEGIN:VEVENT
DTSTAMP:20260419T135838
DTSTART;TZID=Europe/Berlin:20260427T190000
DTEND;TZID=Europe/Berlin:20260427T200000
UID:261UH30111-20260427T190000@VHSUNTERLAND
SUMMARY:Body Control nach Pilates (261UH30111) 
LOCATION:uh Grundschule, Bewegungsraum, Schulstraße 9, 74257 Untereisesheim
END:VEVENT
BEGIN:VEVENT
DTSTAMP:20260419T135838
DTSTART;TZID=Europe/Berlin:20260504T190000
DTEND;TZID=Europe/Berlin:20260504T200000
UID:261UH30111-20260504T190000@VHSUNTERLAND
SUMMARY:Body Control nach Pilates (261UH30111) 
LOCATION:uh Grundschule, Bewegungsraum, Schulstraße 9, 74257 Untereisesheim
END:VEVENT
BEGIN:VEVENT
DTSTAMP:20260419T135838
DTSTART;TZID=Europe/Berlin:20260511T190000
DTEND;TZID=Europe/Berlin:20260511T200000
UID:261UH30111-20260511T190000@VHSUNTERLAND
SUMMARY:Body Control nach Pilates (261UH30111) 
LOCATION:uh Grundschule, Bewegungsraum, Schulstraße 9, 74257 Untereisesheim
END:VEVENT
BEGIN:VEVENT
DTSTAMP:20260419T135838
DTSTART;TZID=Europe/Berlin:20260622T190000
DTEND;TZID=Europe/Berlin:20260622T200000
UID:261UH30111-20260622T190000@VHSUNTERLAND
SUMMARY:Body Control nach Pilates (261UH30111) 
LOCATION:uh Grundschule, Bewegungsraum, Schulstraße 9, 74257 Untereisesheim
END:VEVENT
BEGIN:VEVENT
DTSTAMP:20260419T135838
DTSTART;TZID=Europe/Berlin:20260629T190000
DTEND;TZID=Europe/Berlin:20260629T200000
UID:261UH30111-20260629T190000@VHSUNTERLAND
SUMMARY:Body Control nach Pilates (261UH30111) 
LOCATION:uh Grundschule, Bewegungsraum, Schulstraße 9, 74257 Untereisesheim
END:VEVENT
BEGIN:VEVENT
DTSTAMP:20260419T135838
DTSTART;TZID=Europe/Berlin:20260706T190000
DTEND;TZID=Europe/Berlin:20260706T200000
UID:261UH30111-20260706T190000@VHSUNTERLAND
SUMMARY:Body Control nach Pilates (261UH30111) 
LOCATION:uh Grundschule, Bewegungsraum, Schulstraße 9, 74257 Untereisesheim
END:VEVENT
END:VCALENDAR