BEGIN:VCALENDAR
VERSION:2.0
PRODID:http://www.kufer.de/kuferweb / DE
METHOD:PUBLISH
CALSCALE:GREGORIAN
X-WR-TIMEZONE:Europe/Berlin
BEGIN:VTIMEZONE
TZID:Europe/Berlin
X-LIC-LOCATION:Europe/Berlin
BEGIN:DAYLIGHT
TZOFFSETFROM:+0100
TZOFFSETTO:+0200
TZNAME:CEST
DTSTART;TZID=Europe/Berlin:19700329T020000
RRULE:FREQ=YEARLY;INTERVAL=1;BYDAY=-1SU;BYMONTH=3
END:DAYLIGHT
BEGIN:STANDARD
TZOFFSETFROM:+0200
TZOFFSETTO:+0100
TZNAME:CET
DTSTART;TZID=Europe/Berlin:19701025T030000
RRULE:FREQ=YEARLY;INTERVAL=1;BYDAY=-1SU;BYMONTH=10
END:STANDARD
END:VTIMEZONE
BEGIN:VEVENT
DTSTAMP:20260420T105922
DTSTART;TZID=Europe/Berlin:20260228T090000
DTEND;TZID=Europe/Berlin:20260228T110000
UID:261TA10466-20260228T090000@VHSUNTERLAND
SUMMARY:Fit fürs Fahrrad – Technik verstehen und selbst reparieren für Jugendliche ab 16 Jahren und Erwachsene (261TA10466) 
LOCATION:ta Schlossbergschule Werkraum, In den Hofwiesen 15, 74388 Talheim
END:VEVENT
BEGIN:VEVENT
DTSTAMP:20260420T105922
DTSTART;TZID=Europe/Berlin:20260307T090000
DTEND;TZID=Europe/Berlin:20260307T110000
UID:261TA10466-20260307T090000@VHSUNTERLAND
SUMMARY:Fit fürs Fahrrad – Technik verstehen und selbst reparieren für Jugendliche ab 16 Jahren und Erwachsene (261TA10466) 
LOCATION:ta Schlossbergschule Werkraum, In den Hofwiesen 15, 74388 Talheim
END:VEVENT
BEGIN:VEVENT
DTSTAMP:20260420T105922
DTSTART;TZID=Europe/Berlin:20260314T090000
DTEND;TZID=Europe/Berlin:20260314T110000
UID:261TA10466-20260314T090000@VHSUNTERLAND
SUMMARY:Fit fürs Fahrrad – Technik verstehen und selbst reparieren für Jugendliche ab 16 Jahren und Erwachsene (261TA10466) 
LOCATION:ta Schlossbergschule Werkraum, In den Hofwiesen 15, 74388 Talheim
END:VEVENT
END:VCALENDAR