BEGIN:VCALENDAR
VERSION:2.0
PRODID:http://www.kufer.de/kuferweb / DE
METHOD:PUBLISH
CALSCALE:GREGORIAN
X-WR-TIMEZONE:Europe/Berlin
BEGIN:VTIMEZONE
TZID:Europe/Berlin
X-LIC-LOCATION:Europe/Berlin
BEGIN:DAYLIGHT
TZOFFSETFROM:+0100
TZOFFSETTO:+0200
TZNAME:CEST
DTSTART;TZID=Europe/Berlin:19700329T020000
RRULE:FREQ=YEARLY;INTERVAL=1;BYDAY=-1SU;BYMONTH=3
END:DAYLIGHT
BEGIN:STANDARD
TZOFFSETFROM:+0200
TZOFFSETTO:+0100
TZNAME:CET
DTSTART;TZID=Europe/Berlin:19701025T030000
RRULE:FREQ=YEARLY;INTERVAL=1;BYDAY=-1SU;BYMONTH=10
END:STANDARD
END:VTIMEZONE
BEGIN:VEVENT
DTSTAMP:20260424T210843
DTSTART;TZID=Europe/Berlin:20260223T174500
DTEND;TZID=Europe/Berlin:20260223T191500
UID:261SW40626-20260223T174500@VHSUNTERLAND
SUMMARY:Englisch A2.2 (261SW40626) 
LOCATION:sw Frizhalle, Mehrzweckraum 1, Theodor-Heuss-Straße 12, 74193 Schwaigern
END:VEVENT
BEGIN:VEVENT
DTSTAMP:20260424T210843
DTSTART;TZID=Europe/Berlin:20260302T174500
DTEND;TZID=Europe/Berlin:20260302T191500
UID:261SW40626-20260302T174500@VHSUNTERLAND
SUMMARY:Englisch A2.2 (261SW40626) 
LOCATION:sw Frizhalle, Mehrzweckraum 1, Theodor-Heuss-Straße 12, 74193 Schwaigern
END:VEVENT
BEGIN:VEVENT
DTSTAMP:20260424T210843
DTSTART;TZID=Europe/Berlin:20260309T174500
DTEND;TZID=Europe/Berlin:20260309T191500
UID:261SW40626-20260309T174500@VHSUNTERLAND
SUMMARY:Englisch A2.2 (261SW40626) 
LOCATION:sw Frizhalle, Mehrzweckraum 1, Theodor-Heuss-Straße 12, 74193 Schwaigern
END:VEVENT
BEGIN:VEVENT
DTSTAMP:20260424T210843
DTSTART;TZID=Europe/Berlin:20260316T174500
DTEND;TZID=Europe/Berlin:20260316T191500
UID:261SW40626-20260316T174500@VHSUNTERLAND
SUMMARY:Englisch A2.2 (261SW40626) 
LOCATION:sw Frizhalle, Mehrzweckraum 1, Theodor-Heuss-Straße 12, 74193 Schwaigern
END:VEVENT
BEGIN:VEVENT
DTSTAMP:20260424T210843
DTSTART;TZID=Europe/Berlin:20260323T174500
DTEND;TZID=Europe/Berlin:20260323T191500
UID:261SW40626-20260323T174500@VHSUNTERLAND
SUMMARY:Englisch A2.2 (261SW40626) 
LOCATION:sw Frizhalle, Mehrzweckraum 1, Theodor-Heuss-Straße 12, 74193 Schwaigern
END:VEVENT
BEGIN:VEVENT
DTSTAMP:20260424T210843
DTSTART;TZID=Europe/Berlin:20260413T174500
DTEND;TZID=Europe/Berlin:20260413T191500
UID:261SW40626-20260413T174500@VHSUNTERLAND
SUMMARY:Englisch A2.2 (261SW40626) 
LOCATION:sw Frizhalle, Mehrzweckraum 1, Theodor-Heuss-Straße 12, 74193 Schwaigern
END:VEVENT
BEGIN:VEVENT
DTSTAMP:20260424T210843
DTSTART;TZID=Europe/Berlin:20260420T174500
DTEND;TZID=Europe/Berlin:20260420T191500
UID:261SW40626-20260420T174500@VHSUNTERLAND
SUMMARY:Englisch A2.2 (261SW40626) 
LOCATION:sw Frizhalle, Mehrzweckraum 1, Theodor-Heuss-Straße 12, 74193 Schwaigern
END:VEVENT
BEGIN:VEVENT
DTSTAMP:20260424T210843
DTSTART;TZID=Europe/Berlin:20260504T174500
DTEND;TZID=Europe/Berlin:20260504T191500
UID:261SW40626-20260504T174500@VHSUNTERLAND
SUMMARY:Englisch A2.2 (261SW40626) 
LOCATION:sw Frizhalle, Mehrzweckraum 1, Theodor-Heuss-Straße 12, 74193 Schwaigern
END:VEVENT
BEGIN:VEVENT
DTSTAMP:20260424T210843
DTSTART;TZID=Europe/Berlin:20260511T174500
DTEND;TZID=Europe/Berlin:20260511T191500
UID:261SW40626-20260511T174500@VHSUNTERLAND
SUMMARY:Englisch A2.2 (261SW40626) 
LOCATION:sw Frizhalle, Mehrzweckraum 1, Theodor-Heuss-Straße 12, 74193 Schwaigern
END:VEVENT
BEGIN:VEVENT
DTSTAMP:20260424T210843
DTSTART;TZID=Europe/Berlin:20260518T174500
DTEND;TZID=Europe/Berlin:20260518T191500
UID:261SW40626-20260518T174500@VHSUNTERLAND
SUMMARY:Englisch A2.2 (261SW40626) 
LOCATION:sw Frizhalle, Mehrzweckraum 1, Theodor-Heuss-Straße 12, 74193 Schwaigern
END:VEVENT
BEGIN:VEVENT
DTSTAMP:20260424T210843
DTSTART;TZID=Europe/Berlin:20260608T174500
DTEND;TZID=Europe/Berlin:20260608T191500
UID:261SW40626-20260608T174500@VHSUNTERLAND
SUMMARY:Englisch A2.2 (261SW40626) 
LOCATION:sw Frizhalle, Mehrzweckraum 1, Theodor-Heuss-Straße 12, 74193 Schwaigern
END:VEVENT
BEGIN:VEVENT
DTSTAMP:20260424T210843
DTSTART;TZID=Europe/Berlin:20260622T174500
DTEND;TZID=Europe/Berlin:20260622T191500
UID:261SW40626-20260622T174500@VHSUNTERLAND
DESCRIPTION:Ersatz für Ausfall am 27.04.2026
SUMMARY:Englisch A2.2 (261SW40626) 
LOCATION:sw Frizhalle, Mehrzweckraum 1, Theodor-Heuss-Straße 12, 74193 Schwaigern
END:VEVENT
END:VCALENDAR