BEGIN:VCALENDAR
VERSION:2.0
PRODID:http://www.kufer.de/kuferweb / DE
METHOD:PUBLISH
CALSCALE:GREGORIAN
X-WR-TIMEZONE:Europe/Berlin
BEGIN:VTIMEZONE
TZID:Europe/Berlin
X-LIC-LOCATION:Europe/Berlin
BEGIN:DAYLIGHT
TZOFFSETFROM:+0100
TZOFFSETTO:+0200
TZNAME:CEST
DTSTART;TZID=Europe/Berlin:19700329T020000
RRULE:FREQ=YEARLY;INTERVAL=1;BYDAY=-1SU;BYMONTH=3
END:DAYLIGHT
BEGIN:STANDARD
TZOFFSETFROM:+0200
TZOFFSETTO:+0100
TZNAME:CET
DTSTART;TZID=Europe/Berlin:19701025T030000
RRULE:FREQ=YEARLY;INTERVAL=1;BYDAY=-1SU;BYMONTH=10
END:STANDARD
END:VTIMEZONE
BEGIN:VEVENT
DTSTAMP:20260424T134223
DTSTART;TZID=Europe/Berlin:20260223T163000
DTEND;TZID=Europe/Berlin:20260223T171500
UID:261SW30291-20260223T163000@VHSUNTERLAND
SUMMARY:Bewegungsspiele zur Förderung der Psychomotorik für Kinder von 3 - 5 Jahren (261SW30291) 
LOCATION:sw Kinder- und Familienzentrum, Bahnhof, Stettener Straße 1, 74193 Schwaigern
END:VEVENT
BEGIN:VEVENT
DTSTAMP:20260424T134223
DTSTART;TZID=Europe/Berlin:20260302T163000
DTEND;TZID=Europe/Berlin:20260302T171500
UID:261SW30291-20260302T163000@VHSUNTERLAND
SUMMARY:Bewegungsspiele zur Förderung der Psychomotorik für Kinder von 3 - 5 Jahren (261SW30291) 
LOCATION:sw Kinder- und Familienzentrum, Bahnhof, Stettener Straße 1, 74193 Schwaigern
END:VEVENT
BEGIN:VEVENT
DTSTAMP:20260424T134223
DTSTART;TZID=Europe/Berlin:20260309T163000
DTEND;TZID=Europe/Berlin:20260309T171500
UID:261SW30291-20260309T163000@VHSUNTERLAND
SUMMARY:Bewegungsspiele zur Förderung der Psychomotorik für Kinder von 3 - 5 Jahren (261SW30291) 
LOCATION:sw Kinder- und Familienzentrum, Bahnhof, Stettener Straße 1, 74193 Schwaigern
END:VEVENT
BEGIN:VEVENT
DTSTAMP:20260424T134223
DTSTART;TZID=Europe/Berlin:20260316T163000
DTEND;TZID=Europe/Berlin:20260316T171500
UID:261SW30291-20260316T163000@VHSUNTERLAND
SUMMARY:Bewegungsspiele zur Förderung der Psychomotorik für Kinder von 3 - 5 Jahren (261SW30291) 
LOCATION:sw Kinder- und Familienzentrum, Bahnhof, Stettener Straße 1, 74193 Schwaigern
END:VEVENT
BEGIN:VEVENT
DTSTAMP:20260424T134223
DTSTART;TZID=Europe/Berlin:20260323T163000
DTEND;TZID=Europe/Berlin:20260323T171500
UID:261SW30291-20260323T163000@VHSUNTERLAND
SUMMARY:Bewegungsspiele zur Förderung der Psychomotorik für Kinder von 3 - 5 Jahren (261SW30291) 
LOCATION:sw Kinder- und Familienzentrum, Bahnhof, Stettener Straße 1, 74193 Schwaigern
END:VEVENT
BEGIN:VEVENT
DTSTAMP:20260424T134223
DTSTART;TZID=Europe/Berlin:20260413T163000
DTEND;TZID=Europe/Berlin:20260413T171500
UID:261SW30291-20260413T163000@VHSUNTERLAND
SUMMARY:Bewegungsspiele zur Förderung der Psychomotorik für Kinder von 3 - 5 Jahren (261SW30291) 
LOCATION:sw Kinder- und Familienzentrum, Bahnhof, Stettener Straße 1, 74193 Schwaigern
END:VEVENT
BEGIN:VEVENT
DTSTAMP:20260424T134223
DTSTART;TZID=Europe/Berlin:20260420T163000
DTEND;TZID=Europe/Berlin:20260420T171500
UID:261SW30291-20260420T163000@VHSUNTERLAND
SUMMARY:Bewegungsspiele zur Förderung der Psychomotorik für Kinder von 3 - 5 Jahren (261SW30291) 
LOCATION:sw Kinder- und Familienzentrum, Bahnhof, Stettener Straße 1, 74193 Schwaigern
END:VEVENT
BEGIN:VEVENT
DTSTAMP:20260424T134223
DTSTART;TZID=Europe/Berlin:20260427T163000
DTEND;TZID=Europe/Berlin:20260427T171500
UID:261SW30291-20260427T163000@VHSUNTERLAND
SUMMARY:Bewegungsspiele zur Förderung der Psychomotorik für Kinder von 3 - 5 Jahren (261SW30291) 
LOCATION:sw Kinder- und Familienzentrum, Bahnhof, Stettener Straße 1, 74193 Schwaigern
END:VEVENT
END:VCALENDAR