BEGIN:VCALENDAR
VERSION:2.0
PRODID:http://www.kufer.de/kuferweb / DE
METHOD:PUBLISH
CALSCALE:GREGORIAN
X-WR-TIMEZONE:Europe/Berlin
BEGIN:VTIMEZONE
TZID:Europe/Berlin
X-LIC-LOCATION:Europe/Berlin
BEGIN:DAYLIGHT
TZOFFSETFROM:+0100
TZOFFSETTO:+0200
TZNAME:CEST
DTSTART;TZID=Europe/Berlin:19700329T020000
RRULE:FREQ=YEARLY;INTERVAL=1;BYDAY=-1SU;BYMONTH=3
END:DAYLIGHT
BEGIN:STANDARD
TZOFFSETFROM:+0200
TZOFFSETTO:+0100
TZNAME:CET
DTSTART;TZID=Europe/Berlin:19701025T030000
RRULE:FREQ=YEARLY;INTERVAL=1;BYDAY=-1SU;BYMONTH=10
END:STANDARD
END:VTIMEZONE
BEGIN:VEVENT
DTSTAMP:20260420T141830
DTSTART;TZID=Europe/Berlin:20260211T184000
DTEND;TZID=Europe/Berlin:20260211T194000
UID:261SW30235-20260211T184000@VHSUNTERLAND
SUMMARY:ZUMBA® (261SW30235) 
LOCATION:sw Frizhalle, Saal, Theodor-Heuss-Straße 12, 74193 Schwaigern
END:VEVENT
BEGIN:VEVENT
DTSTAMP:20260420T141830
DTSTART;TZID=Europe/Berlin:20260225T184000
DTEND;TZID=Europe/Berlin:20260225T194000
UID:261SW30235-20260225T184000@VHSUNTERLAND
SUMMARY:ZUMBA® (261SW30235) 
LOCATION:sw Frizhalle, Saal, Theodor-Heuss-Straße 12, 74193 Schwaigern
END:VEVENT
BEGIN:VEVENT
DTSTAMP:20260420T141830
DTSTART;TZID=Europe/Berlin:20260304T184000
DTEND;TZID=Europe/Berlin:20260304T194000
UID:261SW30235-20260304T184000@VHSUNTERLAND
SUMMARY:ZUMBA® (261SW30235) 
LOCATION:sw Frizhalle, Saal, Theodor-Heuss-Straße 12, 74193 Schwaigern
END:VEVENT
BEGIN:VEVENT
DTSTAMP:20260420T141830
DTSTART;TZID=Europe/Berlin:20260311T184000
DTEND;TZID=Europe/Berlin:20260311T194000
UID:261SW30235-20260311T184000@VHSUNTERLAND
SUMMARY:ZUMBA® (261SW30235) 
LOCATION:sw Frizhalle, Saal, Theodor-Heuss-Straße 12, 74193 Schwaigern
END:VEVENT
BEGIN:VEVENT
DTSTAMP:20260420T141830
DTSTART;TZID=Europe/Berlin:20260325T184000
DTEND;TZID=Europe/Berlin:20260325T194000
UID:261SW30235-20260325T184000@VHSUNTERLAND
SUMMARY:ZUMBA® (261SW30235) 
LOCATION:sw Frizhalle, Saal, Theodor-Heuss-Straße 12, 74193 Schwaigern
END:VEVENT
BEGIN:VEVENT
DTSTAMP:20260420T141830
DTSTART;TZID=Europe/Berlin:20260415T184000
DTEND;TZID=Europe/Berlin:20260415T194000
UID:261SW30235-20260415T184000@VHSUNTERLAND
SUMMARY:ZUMBA® (261SW30235) 
LOCATION:sw Frizhalle, Saal, Theodor-Heuss-Straße 12, 74193 Schwaigern
END:VEVENT
BEGIN:VEVENT
DTSTAMP:20260420T141830
DTSTART;TZID=Europe/Berlin:20260429T184000
DTEND;TZID=Europe/Berlin:20260429T194000
UID:261SW30235-20260429T184000@VHSUNTERLAND
SUMMARY:ZUMBA® (261SW30235) 
LOCATION:sw Frizhalle, Saal, Theodor-Heuss-Straße 12, 74193 Schwaigern
END:VEVENT
BEGIN:VEVENT
DTSTAMP:20260420T141830
DTSTART;TZID=Europe/Berlin:20260506T184000
DTEND;TZID=Europe/Berlin:20260506T194000
UID:261SW30235-20260506T184000@VHSUNTERLAND
SUMMARY:ZUMBA® (261SW30235) 
LOCATION:sw Frizhalle, Saal, Theodor-Heuss-Straße 12, 74193 Schwaigern
END:VEVENT
BEGIN:VEVENT
DTSTAMP:20260420T141830
DTSTART;TZID=Europe/Berlin:20260513T184000
DTEND;TZID=Europe/Berlin:20260513T194000
UID:261SW30235-20260513T184000@VHSUNTERLAND
SUMMARY:ZUMBA® (261SW30235) 
LOCATION:sw Frizhalle, Saal, Theodor-Heuss-Straße 12, 74193 Schwaigern
END:VEVENT
BEGIN:VEVENT
DTSTAMP:20260420T141830
DTSTART;TZID=Europe/Berlin:20260520T184000
DTEND;TZID=Europe/Berlin:20260520T194000
UID:261SW30235-20260520T184000@VHSUNTERLAND
SUMMARY:ZUMBA® (261SW30235) 
LOCATION:sw Frizhalle, Saal, Theodor-Heuss-Straße 12, 74193 Schwaigern
END:VEVENT
BEGIN:VEVENT
DTSTAMP:20260420T141830
DTSTART;TZID=Europe/Berlin:20260610T184000
DTEND;TZID=Europe/Berlin:20260610T194000
UID:261SW30235-20260610T184000@VHSUNTERLAND
SUMMARY:ZUMBA® (261SW30235) 
LOCATION:sw Frizhalle, Saal, Theodor-Heuss-Straße 12, 74193 Schwaigern
END:VEVENT
BEGIN:VEVENT
DTSTAMP:20260420T141830
DTSTART;TZID=Europe/Berlin:20260617T184000
DTEND;TZID=Europe/Berlin:20260617T194000
UID:261SW30235-20260617T184000@VHSUNTERLAND
SUMMARY:ZUMBA® (261SW30235) 
LOCATION:sw Frizhalle, Saal, Theodor-Heuss-Straße 12, 74193 Schwaigern
END:VEVENT
BEGIN:VEVENT
DTSTAMP:20260420T141830
DTSTART;TZID=Europe/Berlin:20260624T184000
DTEND;TZID=Europe/Berlin:20260624T194000
UID:261SW30235-20260624T184000@VHSUNTERLAND
SUMMARY:ZUMBA® (261SW30235) 
LOCATION:sw Frizhalle, Saal, Theodor-Heuss-Straße 12, 74193 Schwaigern
END:VEVENT
BEGIN:VEVENT
DTSTAMP:20260420T141830
DTSTART;TZID=Europe/Berlin:20260701T184000
DTEND;TZID=Europe/Berlin:20260701T194000
UID:261SW30235-20260701T184000@VHSUNTERLAND
DESCRIPTION:Ersatz für Ausfall am 18.03.2026
SUMMARY:ZUMBA® (261SW30235) 
LOCATION:sw Frizhalle, Saal, Theodor-Heuss-Straße 12, 74193 Schwaigern
END:VEVENT
BEGIN:VEVENT
DTSTAMP:20260420T141830
DTSTART;TZID=Europe/Berlin:20260708T184000
DTEND;TZID=Europe/Berlin:20260708T194000
UID:261SW30235-20260708T184000@VHSUNTERLAND
DESCRIPTION:Ersatz für Ausfall am 22.04.2026
SUMMARY:ZUMBA® (261SW30235) 
LOCATION:sw Frizhalle, Saal, Theodor-Heuss-Straße 12, 74193 Schwaigern
END:VEVENT
END:VCALENDAR