BEGIN:VCALENDAR
VERSION:2.0
PRODID:http://www.kufer.de/kuferweb / DE
METHOD:PUBLISH
CALSCALE:GREGORIAN
X-WR-TIMEZONE:Europe/Berlin
BEGIN:VTIMEZONE
TZID:Europe/Berlin
X-LIC-LOCATION:Europe/Berlin
BEGIN:DAYLIGHT
TZOFFSETFROM:+0100
TZOFFSETTO:+0200
TZNAME:CEST
DTSTART;TZID=Europe/Berlin:19700329T020000
RRULE:FREQ=YEARLY;INTERVAL=1;BYDAY=-1SU;BYMONTH=3
END:DAYLIGHT
BEGIN:STANDARD
TZOFFSETFROM:+0200
TZOFFSETTO:+0100
TZNAME:CET
DTSTART;TZID=Europe/Berlin:19701025T030000
RRULE:FREQ=YEARLY;INTERVAL=1;BYDAY=-1SU;BYMONTH=10
END:STANDARD
END:VTIMEZONE
BEGIN:VEVENT
DTSTAMP:20260421T131758
DTSTART;TZID=Europe/Berlin:20260225T173000
DTEND;TZID=Europe/Berlin:20260225T183000
UID:261SW30131-20260225T173000@VHSUNTERLAND
SUMMARY:Hatha Yoga (261SW30131) 
LOCATION:sw Frizhalle, Saal, Theodor-Heuss-Straße 12, 74193 Schwaigern
END:VEVENT
BEGIN:VEVENT
DTSTAMP:20260421T131758
DTSTART;TZID=Europe/Berlin:20260304T173000
DTEND;TZID=Europe/Berlin:20260304T183000
UID:261SW30131-20260304T173000@VHSUNTERLAND
SUMMARY:Hatha Yoga (261SW30131) 
LOCATION:sw Frizhalle, Saal, Theodor-Heuss-Straße 12, 74193 Schwaigern
END:VEVENT
BEGIN:VEVENT
DTSTAMP:20260421T131758
DTSTART;TZID=Europe/Berlin:20260311T173000
DTEND;TZID=Europe/Berlin:20260311T183000
UID:261SW30131-20260311T173000@VHSUNTERLAND
SUMMARY:Hatha Yoga (261SW30131) 
LOCATION:sw Frizhalle, Saal, Theodor-Heuss-Straße 12, 74193 Schwaigern
END:VEVENT
BEGIN:VEVENT
DTSTAMP:20260421T131758
DTSTART;TZID=Europe/Berlin:20260325T173000
DTEND;TZID=Europe/Berlin:20260325T183000
UID:261SW30131-20260325T173000@VHSUNTERLAND
SUMMARY:Hatha Yoga (261SW30131) 
LOCATION:sw Frizhalle, Saal, Theodor-Heuss-Straße 12, 74193 Schwaigern
END:VEVENT
BEGIN:VEVENT
DTSTAMP:20260421T131758
DTSTART;TZID=Europe/Berlin:20260415T173000
DTEND;TZID=Europe/Berlin:20260415T183000
UID:261SW30131-20260415T173000@VHSUNTERLAND
SUMMARY:Hatha Yoga (261SW30131) 
LOCATION:sw Frizhalle, Saal, Theodor-Heuss-Straße 12, 74193 Schwaigern
END:VEVENT
BEGIN:VEVENT
DTSTAMP:20260421T131758
DTSTART;TZID=Europe/Berlin:20260429T173000
DTEND;TZID=Europe/Berlin:20260429T183000
UID:261SW30131-20260429T173000@VHSUNTERLAND
SUMMARY:Hatha Yoga (261SW30131) 
LOCATION:sw Frizhalle, Saal, Theodor-Heuss-Straße 12, 74193 Schwaigern
END:VEVENT
BEGIN:VEVENT
DTSTAMP:20260421T131758
DTSTART;TZID=Europe/Berlin:20260506T173000
DTEND;TZID=Europe/Berlin:20260506T183000
UID:261SW30131-20260506T173000@VHSUNTERLAND
SUMMARY:Hatha Yoga (261SW30131) 
LOCATION:sw Frizhalle, Saal, Theodor-Heuss-Straße 12, 74193 Schwaigern
END:VEVENT
BEGIN:VEVENT
DTSTAMP:20260421T131758
DTSTART;TZID=Europe/Berlin:20260513T173000
DTEND;TZID=Europe/Berlin:20260513T183000
UID:261SW30131-20260513T173000@VHSUNTERLAND
SUMMARY:Hatha Yoga (261SW30131) 
LOCATION:sw Frizhalle, Saal, Theodor-Heuss-Straße 12, 74193 Schwaigern
END:VEVENT
BEGIN:VEVENT
DTSTAMP:20260421T131758
DTSTART;TZID=Europe/Berlin:20260520T173000
DTEND;TZID=Europe/Berlin:20260520T183000
UID:261SW30131-20260520T173000@VHSUNTERLAND
SUMMARY:Hatha Yoga (261SW30131) 
LOCATION:sw Frizhalle, Saal, Theodor-Heuss-Straße 12, 74193 Schwaigern
END:VEVENT
BEGIN:VEVENT
DTSTAMP:20260421T131758
DTSTART;TZID=Europe/Berlin:20260610T173000
DTEND;TZID=Europe/Berlin:20260610T183000
UID:261SW30131-20260610T173000@VHSUNTERLAND
SUMMARY:Hatha Yoga (261SW30131) 
LOCATION:sw Frizhalle, Saal, Theodor-Heuss-Straße 12, 74193 Schwaigern
END:VEVENT
BEGIN:VEVENT
DTSTAMP:20260421T131758
DTSTART;TZID=Europe/Berlin:20260617T173000
DTEND;TZID=Europe/Berlin:20260617T183000
UID:261SW30131-20260617T173000@VHSUNTERLAND
SUMMARY:Hatha Yoga (261SW30131) 
LOCATION:sw Frizhalle, Saal, Theodor-Heuss-Straße 12, 74193 Schwaigern
END:VEVENT
BEGIN:VEVENT
DTSTAMP:20260421T131758
DTSTART;TZID=Europe/Berlin:20260624T173000
DTEND;TZID=Europe/Berlin:20260624T183000
UID:261SW30131-20260624T173000@VHSUNTERLAND
SUMMARY:Hatha Yoga (261SW30131) 
LOCATION:sw Frizhalle, Saal, Theodor-Heuss-Straße 12, 74193 Schwaigern
END:VEVENT
BEGIN:VEVENT
DTSTAMP:20260421T131758
DTSTART;TZID=Europe/Berlin:20260701T173000
DTEND;TZID=Europe/Berlin:20260701T183000
UID:261SW30131-20260701T173000@VHSUNTERLAND
SUMMARY:Hatha Yoga (261SW30131) 
LOCATION:sw Frizhalle, Saal, Theodor-Heuss-Straße 12, 74193 Schwaigern
END:VEVENT
BEGIN:VEVENT
DTSTAMP:20260421T131758
DTSTART;TZID=Europe/Berlin:20260708T173000
DTEND;TZID=Europe/Berlin:20260708T183000
UID:261SW30131-20260708T173000@VHSUNTERLAND
DESCRIPTION:Ersatz für Ausfall am 18.03.2026
SUMMARY:Hatha Yoga (261SW30131) 
LOCATION:sw Frizhalle, Saal, Theodor-Heuss-Straße 12, 74193 Schwaigern
END:VEVENT
BEGIN:VEVENT
DTSTAMP:20260421T131758
DTSTART;TZID=Europe/Berlin:20260715T173000
DTEND;TZID=Europe/Berlin:20260715T183000
UID:261SW30131-20260715T173000@VHSUNTERLAND
DESCRIPTION:Ersatz für Ausfall am 22.04.2026
SUMMARY:Hatha Yoga (261SW30131) 
LOCATION:sw Frizhalle, Saal, Theodor-Heuss-Straße 12, 74193 Schwaigern
END:VEVENT
END:VCALENDAR