BEGIN:VCALENDAR
VERSION:2.0
PRODID:http://www.kufer.de/kuferweb / DE
METHOD:PUBLISH
CALSCALE:GREGORIAN
X-WR-TIMEZONE:Europe/Berlin
BEGIN:VTIMEZONE
TZID:Europe/Berlin
X-LIC-LOCATION:Europe/Berlin
BEGIN:DAYLIGHT
TZOFFSETFROM:+0100
TZOFFSETTO:+0200
TZNAME:CEST
DTSTART;TZID=Europe/Berlin:19700329T020000
RRULE:FREQ=YEARLY;INTERVAL=1;BYDAY=-1SU;BYMONTH=3
END:DAYLIGHT
BEGIN:STANDARD
TZOFFSETFROM:+0200
TZOFFSETTO:+0100
TZNAME:CET
DTSTART;TZID=Europe/Berlin:19701025T030000
RRULE:FREQ=YEARLY;INTERVAL=1;BYDAY=-1SU;BYMONTH=10
END:STANDARD
END:VTIMEZONE
BEGIN:VEVENT
DTSTAMP:20260422T073753
DTSTART;TZID=Europe/Berlin:20260508T110000
DTEND;TZID=Europe/Berlin:20260508T123000
UID:261SW10510-20260508T110000@VHSUNTERLAND
SUMMARY:PEKiP für Babys, die im Herbst 2025 geboren wurden (261SW10510) 
LOCATION:sw Kinder- und Familienzentrum, Bahnhof, Stettener Straße 1, 74193 Schwaigern
END:VEVENT
BEGIN:VEVENT
DTSTAMP:20260422T073753
DTSTART;TZID=Europe/Berlin:20260522T110000
DTEND;TZID=Europe/Berlin:20260522T123000
UID:261SW10510-20260522T110000@VHSUNTERLAND
SUMMARY:PEKiP für Babys, die im Herbst 2025 geboren wurden (261SW10510) 
LOCATION:sw Kinder- und Familienzentrum, Bahnhof, Stettener Straße 1, 74193 Schwaigern
END:VEVENT
BEGIN:VEVENT
DTSTAMP:20260422T073753
DTSTART;TZID=Europe/Berlin:20260529T110000
DTEND;TZID=Europe/Berlin:20260529T123000
UID:261SW10510-20260529T110000@VHSUNTERLAND
SUMMARY:PEKiP für Babys, die im Herbst 2025 geboren wurden (261SW10510) 
LOCATION:sw Kinder- und Familienzentrum, Bahnhof, Stettener Straße 1, 74193 Schwaigern
END:VEVENT
BEGIN:VEVENT
DTSTAMP:20260422T073753
DTSTART;TZID=Europe/Berlin:20260612T110000
DTEND;TZID=Europe/Berlin:20260612T123000
UID:261SW10510-20260612T110000@VHSUNTERLAND
SUMMARY:PEKiP für Babys, die im Herbst 2025 geboren wurden (261SW10510) 
LOCATION:sw Kinder- und Familienzentrum, Bahnhof, Stettener Straße 1, 74193 Schwaigern
END:VEVENT
BEGIN:VEVENT
DTSTAMP:20260422T073753
DTSTART;TZID=Europe/Berlin:20260619T110000
DTEND;TZID=Europe/Berlin:20260619T123000
UID:261SW10510-20260619T110000@VHSUNTERLAND
SUMMARY:PEKiP für Babys, die im Herbst 2025 geboren wurden (261SW10510) 
LOCATION:sw Kinder- und Familienzentrum, Bahnhof, Stettener Straße 1, 74193 Schwaigern
END:VEVENT
BEGIN:VEVENT
DTSTAMP:20260422T073753
DTSTART;TZID=Europe/Berlin:20260626T110000
DTEND;TZID=Europe/Berlin:20260626T123000
UID:261SW10510-20260626T110000@VHSUNTERLAND
SUMMARY:PEKiP für Babys, die im Herbst 2025 geboren wurden (261SW10510) 
LOCATION:sw Kinder- und Familienzentrum, Bahnhof, Stettener Straße 1, 74193 Schwaigern
END:VEVENT
BEGIN:VEVENT
DTSTAMP:20260422T073753
DTSTART;TZID=Europe/Berlin:20260703T110000
DTEND;TZID=Europe/Berlin:20260703T123000
UID:261SW10510-20260703T110000@VHSUNTERLAND
SUMMARY:PEKiP für Babys, die im Herbst 2025 geboren wurden (261SW10510) 
LOCATION:sw Kinder- und Familienzentrum, Bahnhof, Stettener Straße 1, 74193 Schwaigern
END:VEVENT
BEGIN:VEVENT
DTSTAMP:20260422T073753
DTSTART;TZID=Europe/Berlin:20260710T110000
DTEND;TZID=Europe/Berlin:20260710T123000
UID:261SW10510-20260710T110000@VHSUNTERLAND
SUMMARY:PEKiP für Babys, die im Herbst 2025 geboren wurden (261SW10510) 
LOCATION:sw Kinder- und Familienzentrum, Bahnhof, Stettener Straße 1, 74193 Schwaigern
END:VEVENT
BEGIN:VEVENT
DTSTAMP:20260422T073753
DTSTART;TZID=Europe/Berlin:20260717T110000
DTEND;TZID=Europe/Berlin:20260717T123000
UID:261SW10510-20260717T110000@VHSUNTERLAND
DESCRIPTION:Ersatz für Ausfall am 15.05.2026
SUMMARY:PEKiP für Babys, die im Herbst 2025 geboren wurden (261SW10510) 
LOCATION:sw Kinder- und Familienzentrum, Bahnhof, Stettener Straße 1, 74193 Schwaigern
END:VEVENT
BEGIN:VEVENT
DTSTAMP:20260422T073753
DTSTART;TZID=Europe/Berlin:20260724T110000
DTEND;TZID=Europe/Berlin:20260724T123000
UID:261SW10510-20260724T110000@VHSUNTERLAND
DESCRIPTION:Ersatz für Ausfall am 05.06.2026
SUMMARY:PEKiP für Babys, die im Herbst 2025 geboren wurden (261SW10510) 
LOCATION:sw Kinder- und Familienzentrum, Bahnhof, Stettener Straße 1, 74193 Schwaigern
END:VEVENT
END:VCALENDAR