BEGIN:VCALENDAR
VERSION:2.0
PRODID:http://www.kufer.de/kuferweb / DE
METHOD:PUBLISH
CALSCALE:GREGORIAN
X-WR-TIMEZONE:Europe/Berlin
BEGIN:VTIMEZONE
TZID:Europe/Berlin
X-LIC-LOCATION:Europe/Berlin
BEGIN:DAYLIGHT
TZOFFSETFROM:+0100
TZOFFSETTO:+0200
TZNAME:CEST
DTSTART;TZID=Europe/Berlin:19700329T020000
RRULE:FREQ=YEARLY;INTERVAL=1;BYDAY=-1SU;BYMONTH=3
END:DAYLIGHT
BEGIN:STANDARD
TZOFFSETFROM:+0200
TZOFFSETTO:+0100
TZNAME:CET
DTSTART;TZID=Europe/Berlin:19701025T030000
RRULE:FREQ=YEARLY;INTERVAL=1;BYDAY=-1SU;BYMONTH=10
END:STANDARD
END:VTIMEZONE
BEGIN:VEVENT
DTSTAMP:20260424T075335
DTSTART;TZID=Europe/Berlin:20260303T181500
DTEND;TZID=Europe/Berlin:20260303T194500
UID:261SI30140-20260303T181500@VHSUNTERLAND
SUMMARY:Kundalini Yoga (261SI30140) 
LOCATION:si Bürgerzentrum, großer Bürgersaal, Wagenbacher Straße 4a, 74936 Siegelsbach
END:VEVENT
BEGIN:VEVENT
DTSTAMP:20260424T075335
DTSTART;TZID=Europe/Berlin:20260310T181500
DTEND;TZID=Europe/Berlin:20260310T194500
UID:261SI30140-20260310T181500@VHSUNTERLAND
SUMMARY:Kundalini Yoga (261SI30140) 
LOCATION:si Bürgerzentrum, großer Bürgersaal, Wagenbacher Straße 4a, 74936 Siegelsbach
END:VEVENT
BEGIN:VEVENT
DTSTAMP:20260424T075335
DTSTART;TZID=Europe/Berlin:20260317T181500
DTEND;TZID=Europe/Berlin:20260317T194500
UID:261SI30140-20260317T181500@VHSUNTERLAND
SUMMARY:Kundalini Yoga (261SI30140) 
LOCATION:si Bürgerzentrum, großer Bürgersaal, Wagenbacher Straße 4a, 74936 Siegelsbach
END:VEVENT
BEGIN:VEVENT
DTSTAMP:20260424T075335
DTSTART;TZID=Europe/Berlin:20260414T181500
DTEND;TZID=Europe/Berlin:20260414T194500
UID:261SI30140-20260414T181500@VHSUNTERLAND
SUMMARY:Kundalini Yoga (261SI30140) 
LOCATION:si Bürgerzentrum, großer Bürgersaal, Wagenbacher Straße 4a, 74936 Siegelsbach
END:VEVENT
BEGIN:VEVENT
DTSTAMP:20260424T075335
DTSTART;TZID=Europe/Berlin:20260428T181500
DTEND;TZID=Europe/Berlin:20260428T194500
UID:261SI30140-20260428T181500@VHSUNTERLAND
DESCRIPTION:Ersatz für Ausfall am 24.02.2026
SUMMARY:Kundalini Yoga (261SI30140) 
LOCATION:si Bürgerzentrum, großer Bürgersaal, Wagenbacher Straße 4a, 74936 Siegelsbach
END:VEVENT
BEGIN:VEVENT
DTSTAMP:20260424T075335
DTSTART;TZID=Europe/Berlin:20260505T181500
DTEND;TZID=Europe/Berlin:20260505T194500
UID:261SI30140-20260505T181500@VHSUNTERLAND
DESCRIPTION:Ersatz für Ausfall am 24.03.2026
Ersatz für Ausfall am 21.04.2026
SUMMARY:Kundalini Yoga (261SI30140) 
LOCATION:si Bürgerzentrum, großer Bürgersaal, Wagenbacher Straße 4a, 74936 Siegelsbach
END:VEVENT
END:VCALENDAR