BEGIN:VCALENDAR
VERSION:2.0
PRODID:http://www.kufer.de/kuferweb / DE
METHOD:PUBLISH
CALSCALE:GREGORIAN
X-WR-TIMEZONE:Europe/Berlin
BEGIN:VTIMEZONE
TZID:Europe/Berlin
X-LIC-LOCATION:Europe/Berlin
BEGIN:DAYLIGHT
TZOFFSETFROM:+0100
TZOFFSETTO:+0200
TZNAME:CEST
DTSTART;TZID=Europe/Berlin:19700329T020000
RRULE:FREQ=YEARLY;INTERVAL=1;BYDAY=-1SU;BYMONTH=3
END:DAYLIGHT
BEGIN:STANDARD
TZOFFSETFROM:+0200
TZOFFSETTO:+0100
TZNAME:CET
DTSTART;TZID=Europe/Berlin:19701025T030000
RRULE:FREQ=YEARLY;INTERVAL=1;BYDAY=-1SU;BYMONTH=10
END:STANDARD
END:VTIMEZONE
BEGIN:VEVENT
DTSTAMP:20260421T185316
DTSTART;TZID=Europe/Berlin:20260225T162500
DTEND;TZID=Europe/Berlin:20260225T175500
UID:261OS40908-20260225T162500@VHSUNTERLAND
SUMMARY:Italienisch A1.1  für Anfänger*innen mit geringen Vorkenntnissen (261OS40908) 
LOCATION:os Realschule Willsbach, Raum 405, Pestalozzistraße 37, 74182 Obersulm
END:VEVENT
BEGIN:VEVENT
DTSTAMP:20260421T185316
DTSTART;TZID=Europe/Berlin:20260304T162500
DTEND;TZID=Europe/Berlin:20260304T175500
UID:261OS40908-20260304T162500@VHSUNTERLAND
SUMMARY:Italienisch A1.1  für Anfänger*innen mit geringen Vorkenntnissen (261OS40908) 
LOCATION:os Realschule Willsbach, Raum 405, Pestalozzistraße 37, 74182 Obersulm
END:VEVENT
BEGIN:VEVENT
DTSTAMP:20260421T185316
DTSTART;TZID=Europe/Berlin:20260311T162500
DTEND;TZID=Europe/Berlin:20260311T175500
UID:261OS40908-20260311T162500@VHSUNTERLAND
SUMMARY:Italienisch A1.1  für Anfänger*innen mit geringen Vorkenntnissen (261OS40908) 
LOCATION:os Realschule Willsbach, Raum 405, Pestalozzistraße 37, 74182 Obersulm
END:VEVENT
BEGIN:VEVENT
DTSTAMP:20260421T185316
DTSTART;TZID=Europe/Berlin:20260318T162500
DTEND;TZID=Europe/Berlin:20260318T175500
UID:261OS40908-20260318T162500@VHSUNTERLAND
SUMMARY:Italienisch A1.1  für Anfänger*innen mit geringen Vorkenntnissen (261OS40908) 
LOCATION:os Realschule Willsbach, Raum 405, Pestalozzistraße 37, 74182 Obersulm
END:VEVENT
BEGIN:VEVENT
DTSTAMP:20260421T185316
DTSTART;TZID=Europe/Berlin:20260325T162500
DTEND;TZID=Europe/Berlin:20260325T175500
UID:261OS40908-20260325T162500@VHSUNTERLAND
SUMMARY:Italienisch A1.1  für Anfänger*innen mit geringen Vorkenntnissen (261OS40908) 
LOCATION:os Realschule Willsbach, Raum 405, Pestalozzistraße 37, 74182 Obersulm
END:VEVENT
BEGIN:VEVENT
DTSTAMP:20260421T185316
DTSTART;TZID=Europe/Berlin:20260415T162500
DTEND;TZID=Europe/Berlin:20260415T175500
UID:261OS40908-20260415T162500@VHSUNTERLAND
SUMMARY:Italienisch A1.1  für Anfänger*innen mit geringen Vorkenntnissen (261OS40908) 
LOCATION:os Realschule Willsbach, Raum 405, Pestalozzistraße 37, 74182 Obersulm
END:VEVENT
BEGIN:VEVENT
DTSTAMP:20260421T185316
DTSTART;TZID=Europe/Berlin:20260422T162500
DTEND;TZID=Europe/Berlin:20260422T175500
UID:261OS40908-20260422T162500@VHSUNTERLAND
SUMMARY:Italienisch A1.1  für Anfänger*innen mit geringen Vorkenntnissen (261OS40908) 
LOCATION:os Realschule Willsbach, Raum 405, Pestalozzistraße 37, 74182 Obersulm
END:VEVENT
BEGIN:VEVENT
DTSTAMP:20260421T185316
DTSTART;TZID=Europe/Berlin:20260429T162500
DTEND;TZID=Europe/Berlin:20260429T175500
UID:261OS40908-20260429T162500@VHSUNTERLAND
SUMMARY:Italienisch A1.1  für Anfänger*innen mit geringen Vorkenntnissen (261OS40908) 
LOCATION:os Realschule Willsbach, Raum 405, Pestalozzistraße 37, 74182 Obersulm
END:VEVENT
BEGIN:VEVENT
DTSTAMP:20260421T185316
DTSTART;TZID=Europe/Berlin:20260506T162500
DTEND;TZID=Europe/Berlin:20260506T175500
UID:261OS40908-20260506T162500@VHSUNTERLAND
SUMMARY:Italienisch A1.1  für Anfänger*innen mit geringen Vorkenntnissen (261OS40908) 
LOCATION:os Realschule Willsbach, Raum 405, Pestalozzistraße 37, 74182 Obersulm
END:VEVENT
BEGIN:VEVENT
DTSTAMP:20260421T185316
DTSTART;TZID=Europe/Berlin:20260513T162500
DTEND;TZID=Europe/Berlin:20260513T175500
UID:261OS40908-20260513T162500@VHSUNTERLAND
SUMMARY:Italienisch A1.1  für Anfänger*innen mit geringen Vorkenntnissen (261OS40908) 
LOCATION:os Realschule Willsbach, Raum 405, Pestalozzistraße 37, 74182 Obersulm
END:VEVENT
END:VCALENDAR