BEGIN:VCALENDAR
VERSION:2.0
PRODID:http://www.kufer.de/kuferweb / DE
METHOD:PUBLISH
CALSCALE:GREGORIAN
X-WR-TIMEZONE:Europe/Berlin
BEGIN:VTIMEZONE
TZID:Europe/Berlin
X-LIC-LOCATION:Europe/Berlin
BEGIN:DAYLIGHT
TZOFFSETFROM:+0100
TZOFFSETTO:+0200
TZNAME:CEST
DTSTART;TZID=Europe/Berlin:19700329T020000
RRULE:FREQ=YEARLY;INTERVAL=1;BYDAY=-1SU;BYMONTH=3
END:DAYLIGHT
BEGIN:STANDARD
TZOFFSETFROM:+0200
TZOFFSETTO:+0100
TZNAME:CET
DTSTART;TZID=Europe/Berlin:19701025T030000
RRULE:FREQ=YEARLY;INTERVAL=1;BYDAY=-1SU;BYMONTH=10
END:STANDARD
END:VTIMEZONE
BEGIN:VEVENT
DTSTAMP:20260419T174908
DTSTART;TZID=Europe/Berlin:20260223T183000
DTEND;TZID=Europe/Berlin:20260223T200000
UID:261OS40820-20260223T183000@VHSUNTERLAND
SUMMARY:Französisch A2.1 für Alltag und Reisen (261OS40820) 
LOCATION:os Realschule Willsbach, Raum 402, Pestalozzistraße 37, 74182 Obersulm
END:VEVENT
BEGIN:VEVENT
DTSTAMP:20260419T174908
DTSTART;TZID=Europe/Berlin:20260309T183000
DTEND;TZID=Europe/Berlin:20260309T200000
UID:261OS40820-20260309T183000@VHSUNTERLAND
SUMMARY:Französisch A2.1 für Alltag und Reisen (261OS40820) 
LOCATION:os Realschule Willsbach, Raum 402, Pestalozzistraße 37, 74182 Obersulm
END:VEVENT
BEGIN:VEVENT
DTSTAMP:20260419T174908
DTSTART;TZID=Europe/Berlin:20260323T183000
DTEND;TZID=Europe/Berlin:20260323T200000
UID:261OS40820-20260323T183000@VHSUNTERLAND
SUMMARY:Französisch A2.1 für Alltag und Reisen (261OS40820) 
LOCATION:os Realschule Willsbach, Raum 402, Pestalozzistraße 37, 74182 Obersulm
END:VEVENT
BEGIN:VEVENT
DTSTAMP:20260419T174908
DTSTART;TZID=Europe/Berlin:20260413T183000
DTEND;TZID=Europe/Berlin:20260413T200000
UID:261OS40820-20260413T183000@VHSUNTERLAND
SUMMARY:Französisch A2.1 für Alltag und Reisen (261OS40820) 
LOCATION:os Realschule Willsbach, Raum 402, Pestalozzistraße 37, 74182 Obersulm
END:VEVENT
BEGIN:VEVENT
DTSTAMP:20260419T174908
DTSTART;TZID=Europe/Berlin:20260427T183000
DTEND;TZID=Europe/Berlin:20260427T200000
UID:261OS40820-20260427T183000@VHSUNTERLAND
SUMMARY:Französisch A2.1 für Alltag und Reisen (261OS40820) 
LOCATION:os Realschule Willsbach, Raum 402, Pestalozzistraße 37, 74182 Obersulm
END:VEVENT
BEGIN:VEVENT
DTSTAMP:20260419T174908
DTSTART;TZID=Europe/Berlin:20260511T183000
DTEND;TZID=Europe/Berlin:20260511T200000
UID:261OS40820-20260511T183000@VHSUNTERLAND
SUMMARY:Französisch A2.1 für Alltag und Reisen (261OS40820) 
LOCATION:os Realschule Willsbach, Raum 402, Pestalozzistraße 37, 74182 Obersulm
END:VEVENT
END:VCALENDAR