BEGIN:VCALENDAR
VERSION:2.0
PRODID:http://www.kufer.de/kuferweb / DE
METHOD:PUBLISH
CALSCALE:GREGORIAN
X-WR-TIMEZONE:Europe/Berlin
BEGIN:VTIMEZONE
TZID:Europe/Berlin
X-LIC-LOCATION:Europe/Berlin
BEGIN:DAYLIGHT
TZOFFSETFROM:+0100
TZOFFSETTO:+0200
TZNAME:CEST
DTSTART;TZID=Europe/Berlin:19700329T020000
RRULE:FREQ=YEARLY;INTERVAL=1;BYDAY=-1SU;BYMONTH=3
END:DAYLIGHT
BEGIN:STANDARD
TZOFFSETFROM:+0200
TZOFFSETTO:+0100
TZNAME:CET
DTSTART;TZID=Europe/Berlin:19701025T030000
RRULE:FREQ=YEARLY;INTERVAL=1;BYDAY=-1SU;BYMONTH=10
END:STANDARD
END:VTIMEZONE
BEGIN:VEVENT
DTSTAMP:20260423T104008
DTSTART;TZID=Europe/Berlin:20260224T183500
DTEND;TZID=Europe/Berlin:20260224T200500
UID:261OS40810-20260224T183500@VHSUNTERLAND
SUMMARY:Französisch A1.2  für Anfänger*innen mit Vorkenntnissen (261OS40810) 
LOCATION:os Realschule Willsbach, Raum 401, Pestalozzistraße 37, 74182 Obersulm
END:VEVENT
BEGIN:VEVENT
DTSTAMP:20260423T104008
DTSTART;TZID=Europe/Berlin:20260303T183500
DTEND;TZID=Europe/Berlin:20260303T200500
UID:261OS40810-20260303T183500@VHSUNTERLAND
SUMMARY:Französisch A1.2  für Anfänger*innen mit Vorkenntnissen (261OS40810) 
LOCATION:os Realschule Willsbach, Raum 401, Pestalozzistraße 37, 74182 Obersulm
END:VEVENT
BEGIN:VEVENT
DTSTAMP:20260423T104008
DTSTART;TZID=Europe/Berlin:20260310T183500
DTEND;TZID=Europe/Berlin:20260310T200500
UID:261OS40810-20260310T183500@VHSUNTERLAND
SUMMARY:Französisch A1.2  für Anfänger*innen mit Vorkenntnissen (261OS40810) 
LOCATION:os Realschule Willsbach, Raum 401, Pestalozzistraße 37, 74182 Obersulm
END:VEVENT
BEGIN:VEVENT
DTSTAMP:20260423T104008
DTSTART;TZID=Europe/Berlin:20260317T183500
DTEND;TZID=Europe/Berlin:20260317T200500
UID:261OS40810-20260317T183500@VHSUNTERLAND
SUMMARY:Französisch A1.2  für Anfänger*innen mit Vorkenntnissen (261OS40810) 
LOCATION:os Realschule Willsbach, Raum 401, Pestalozzistraße 37, 74182 Obersulm
END:VEVENT
BEGIN:VEVENT
DTSTAMP:20260423T104008
DTSTART;TZID=Europe/Berlin:20260324T183500
DTEND;TZID=Europe/Berlin:20260324T200500
UID:261OS40810-20260324T183500@VHSUNTERLAND
SUMMARY:Französisch A1.2  für Anfänger*innen mit Vorkenntnissen (261OS40810) 
LOCATION:os Realschule Willsbach, Raum 401, Pestalozzistraße 37, 74182 Obersulm
END:VEVENT
BEGIN:VEVENT
DTSTAMP:20260423T104008
DTSTART;TZID=Europe/Berlin:20260414T183500
DTEND;TZID=Europe/Berlin:20260414T200500
UID:261OS40810-20260414T183500@VHSUNTERLAND
SUMMARY:Französisch A1.2  für Anfänger*innen mit Vorkenntnissen (261OS40810) 
LOCATION:os Realschule Willsbach, Raum 401, Pestalozzistraße 37, 74182 Obersulm
END:VEVENT
BEGIN:VEVENT
DTSTAMP:20260423T104008
DTSTART;TZID=Europe/Berlin:20260421T183500
DTEND;TZID=Europe/Berlin:20260421T200500
UID:261OS40810-20260421T183500@VHSUNTERLAND
SUMMARY:Französisch A1.2  für Anfänger*innen mit Vorkenntnissen (261OS40810) 
LOCATION:os Realschule Willsbach, Raum 401, Pestalozzistraße 37, 74182 Obersulm
END:VEVENT
BEGIN:VEVENT
DTSTAMP:20260423T104008
DTSTART;TZID=Europe/Berlin:20260428T183500
DTEND;TZID=Europe/Berlin:20260428T200500
UID:261OS40810-20260428T183500@VHSUNTERLAND
SUMMARY:Französisch A1.2  für Anfänger*innen mit Vorkenntnissen (261OS40810) 
LOCATION:os Realschule Willsbach, Raum 401, Pestalozzistraße 37, 74182 Obersulm
END:VEVENT
BEGIN:VEVENT
DTSTAMP:20260423T104008
DTSTART;TZID=Europe/Berlin:20260505T183500
DTEND;TZID=Europe/Berlin:20260505T200500
UID:261OS40810-20260505T183500@VHSUNTERLAND
SUMMARY:Französisch A1.2  für Anfänger*innen mit Vorkenntnissen (261OS40810) 
LOCATION:os Realschule Willsbach, Raum 401, Pestalozzistraße 37, 74182 Obersulm
END:VEVENT
BEGIN:VEVENT
DTSTAMP:20260423T104008
DTSTART;TZID=Europe/Berlin:20260512T183500
DTEND;TZID=Europe/Berlin:20260512T200500
UID:261OS40810-20260512T183500@VHSUNTERLAND
SUMMARY:Französisch A1.2  für Anfänger*innen mit Vorkenntnissen (261OS40810) 
LOCATION:os Realschule Willsbach, Raum 401, Pestalozzistraße 37, 74182 Obersulm
END:VEVENT
BEGIN:VEVENT
DTSTAMP:20260423T104008
DTSTART;TZID=Europe/Berlin:20260519T183500
DTEND;TZID=Europe/Berlin:20260519T200500
UID:261OS40810-20260519T183500@VHSUNTERLAND
SUMMARY:Französisch A1.2  für Anfänger*innen mit Vorkenntnissen (261OS40810) 
LOCATION:os Realschule Willsbach, Raum 401, Pestalozzistraße 37, 74182 Obersulm
END:VEVENT
BEGIN:VEVENT
DTSTAMP:20260423T104008
DTSTART;TZID=Europe/Berlin:20260609T183500
DTEND;TZID=Europe/Berlin:20260609T200500
UID:261OS40810-20260609T183500@VHSUNTERLAND
SUMMARY:Französisch A1.2  für Anfänger*innen mit Vorkenntnissen (261OS40810) 
LOCATION:os Realschule Willsbach, Raum 401, Pestalozzistraße 37, 74182 Obersulm
END:VEVENT
BEGIN:VEVENT
DTSTAMP:20260423T104008
DTSTART;TZID=Europe/Berlin:20260616T183500
DTEND;TZID=Europe/Berlin:20260616T200500
UID:261OS40810-20260616T183500@VHSUNTERLAND
SUMMARY:Französisch A1.2  für Anfänger*innen mit Vorkenntnissen (261OS40810) 
LOCATION:os Realschule Willsbach, Raum 401, Pestalozzistraße 37, 74182 Obersulm
END:VEVENT
BEGIN:VEVENT
DTSTAMP:20260423T104008
DTSTART;TZID=Europe/Berlin:20260623T183500
DTEND;TZID=Europe/Berlin:20260623T200500
UID:261OS40810-20260623T183500@VHSUNTERLAND
SUMMARY:Französisch A1.2  für Anfänger*innen mit Vorkenntnissen (261OS40810) 
LOCATION:os Realschule Willsbach, Raum 401, Pestalozzistraße 37, 74182 Obersulm
END:VEVENT
BEGIN:VEVENT
DTSTAMP:20260423T104008
DTSTART;TZID=Europe/Berlin:20260630T183500
DTEND;TZID=Europe/Berlin:20260630T200500
UID:261OS40810-20260630T183500@VHSUNTERLAND
SUMMARY:Französisch A1.2  für Anfänger*innen mit Vorkenntnissen (261OS40810) 
LOCATION:os Realschule Willsbach, Raum 401, Pestalozzistraße 37, 74182 Obersulm
END:VEVENT
END:VCALENDAR