BEGIN:VCALENDAR
VERSION:2.0
PRODID:http://www.kufer.de/kuferweb / DE
METHOD:PUBLISH
CALSCALE:GREGORIAN
X-WR-TIMEZONE:Europe/Berlin
BEGIN:VTIMEZONE
TZID:Europe/Berlin
X-LIC-LOCATION:Europe/Berlin
BEGIN:DAYLIGHT
TZOFFSETFROM:+0100
TZOFFSETTO:+0200
TZNAME:CEST
DTSTART;TZID=Europe/Berlin:19700329T020000
RRULE:FREQ=YEARLY;INTERVAL=1;BYDAY=-1SU;BYMONTH=3
END:DAYLIGHT
BEGIN:STANDARD
TZOFFSETFROM:+0200
TZOFFSETTO:+0100
TZNAME:CET
DTSTART;TZID=Europe/Berlin:19701025T030000
RRULE:FREQ=YEARLY;INTERVAL=1;BYDAY=-1SU;BYMONTH=10
END:STANDARD
END:VTIMEZONE
BEGIN:VEVENT
DTSTAMP:20260421T215155
DTSTART;TZID=Europe/Berlin:20260417T140000
DTEND;TZID=Europe/Berlin:20260417T150000
UID:261OS30275-20260417T140000@VHSUNTERLAND
SUMMARY:Nordic Walking  mit Fazienstretching für Einsteiger*innen am See (261OS30275) 
LOCATION:os Breitenauer See, Kiosk, K2124 - Breitenauer See Parkplatz, 74182 Obersulm
END:VEVENT
BEGIN:VEVENT
DTSTAMP:20260421T215155
DTSTART;TZID=Europe/Berlin:20260424T140000
DTEND;TZID=Europe/Berlin:20260424T150000
UID:261OS30275-20260424T140000@VHSUNTERLAND
SUMMARY:Nordic Walking  mit Fazienstretching für Einsteiger*innen am See (261OS30275) 
LOCATION:os Breitenauer See, Kiosk, K2124 - Breitenauer See Parkplatz, 74182 Obersulm
END:VEVENT
END:VCALENDAR