BEGIN:VCALENDAR
VERSION:2.0
PRODID:http://www.kufer.de/kuferweb / DE
METHOD:PUBLISH
CALSCALE:GREGORIAN
X-WR-TIMEZONE:Europe/Berlin
BEGIN:VTIMEZONE
TZID:Europe/Berlin
X-LIC-LOCATION:Europe/Berlin
BEGIN:DAYLIGHT
TZOFFSETFROM:+0100
TZOFFSETTO:+0200
TZNAME:CEST
DTSTART;TZID=Europe/Berlin:19700329T020000
RRULE:FREQ=YEARLY;INTERVAL=1;BYDAY=-1SU;BYMONTH=3
END:DAYLIGHT
BEGIN:STANDARD
TZOFFSETFROM:+0200
TZOFFSETTO:+0100
TZNAME:CET
DTSTART;TZID=Europe/Berlin:19701025T030000
RRULE:FREQ=YEARLY;INTERVAL=1;BYDAY=-1SU;BYMONTH=10
END:STANDARD
END:VTIMEZONE
BEGIN:VEVENT
DTSTAMP:20260422T105307
DTSTART;TZID=Europe/Berlin:20260226T185500
DTEND;TZID=Europe/Berlin:20260226T195500
UID:261OS30270-20260226T185500@VHSUNTERLAND
SUMMARY:Step Aerobic und Bodyforming (261OS30270) 
LOCATION:os Michelbachhaus Affaltrach, Halle, Poststraße 25, 74182 Obersulm
END:VEVENT
BEGIN:VEVENT
DTSTAMP:20260422T105307
DTSTART;TZID=Europe/Berlin:20260305T185500
DTEND;TZID=Europe/Berlin:20260305T195500
UID:261OS30270-20260305T185500@VHSUNTERLAND
SUMMARY:Step Aerobic und Bodyforming (261OS30270) 
LOCATION:os Michelbachhaus Affaltrach, Halle, Poststraße 25, 74182 Obersulm
END:VEVENT
BEGIN:VEVENT
DTSTAMP:20260422T105307
DTSTART;TZID=Europe/Berlin:20260312T185500
DTEND;TZID=Europe/Berlin:20260312T195500
UID:261OS30270-20260312T185500@VHSUNTERLAND
SUMMARY:Step Aerobic und Bodyforming (261OS30270) 
LOCATION:os Michelbachhaus Affaltrach, Halle, Poststraße 25, 74182 Obersulm
END:VEVENT
BEGIN:VEVENT
DTSTAMP:20260422T105307
DTSTART;TZID=Europe/Berlin:20260319T185500
DTEND;TZID=Europe/Berlin:20260319T195500
UID:261OS30270-20260319T185500@VHSUNTERLAND
SUMMARY:Step Aerobic und Bodyforming (261OS30270) 
LOCATION:os Michelbachhaus Affaltrach, Halle, Poststraße 25, 74182 Obersulm
END:VEVENT
BEGIN:VEVENT
DTSTAMP:20260422T105307
DTSTART;TZID=Europe/Berlin:20260326T185500
DTEND;TZID=Europe/Berlin:20260326T195500
UID:261OS30270-20260326T185500@VHSUNTERLAND
SUMMARY:Step Aerobic und Bodyforming (261OS30270) 
LOCATION:os Michelbachhaus Affaltrach, Halle, Poststraße 25, 74182 Obersulm
END:VEVENT
BEGIN:VEVENT
DTSTAMP:20260422T105307
DTSTART;TZID=Europe/Berlin:20260416T185500
DTEND;TZID=Europe/Berlin:20260416T195500
UID:261OS30270-20260416T185500@VHSUNTERLAND
SUMMARY:Step Aerobic und Bodyforming (261OS30270) 
LOCATION:os Michelbachhaus Affaltrach, Halle, Poststraße 25, 74182 Obersulm
END:VEVENT
BEGIN:VEVENT
DTSTAMP:20260422T105307
DTSTART;TZID=Europe/Berlin:20260423T185500
DTEND;TZID=Europe/Berlin:20260423T195500
UID:261OS30270-20260423T185500@VHSUNTERLAND
SUMMARY:Step Aerobic und Bodyforming (261OS30270) 
LOCATION:os Michelbachhaus Affaltrach, Halle, Poststraße 25, 74182 Obersulm
END:VEVENT
BEGIN:VEVENT
DTSTAMP:20260422T105307
DTSTART;TZID=Europe/Berlin:20260430T185500
DTEND;TZID=Europe/Berlin:20260430T195500
UID:261OS30270-20260430T185500@VHSUNTERLAND
SUMMARY:Step Aerobic und Bodyforming (261OS30270) 
LOCATION:os Michelbachhaus Affaltrach, Halle, Poststraße 25, 74182 Obersulm
END:VEVENT
BEGIN:VEVENT
DTSTAMP:20260422T105307
DTSTART;TZID=Europe/Berlin:20260507T185500
DTEND;TZID=Europe/Berlin:20260507T195500
UID:261OS30270-20260507T185500@VHSUNTERLAND
SUMMARY:Step Aerobic und Bodyforming (261OS30270) 
LOCATION:os Michelbachhaus Affaltrach, Halle, Poststraße 25, 74182 Obersulm
END:VEVENT
BEGIN:VEVENT
DTSTAMP:20260422T105307
DTSTART;TZID=Europe/Berlin:20260521T185500
DTEND;TZID=Europe/Berlin:20260521T195500
UID:261OS30270-20260521T185500@VHSUNTERLAND
SUMMARY:Step Aerobic und Bodyforming (261OS30270) 
LOCATION:os Michelbachhaus Affaltrach, Halle, Poststraße 25, 74182 Obersulm
END:VEVENT
BEGIN:VEVENT
DTSTAMP:20260422T105307
DTSTART;TZID=Europe/Berlin:20260611T185500
DTEND;TZID=Europe/Berlin:20260611T195500
UID:261OS30270-20260611T185500@VHSUNTERLAND
SUMMARY:Step Aerobic und Bodyforming (261OS30270) 
LOCATION:os Michelbachhaus Affaltrach, Halle, Poststraße 25, 74182 Obersulm
END:VEVENT
BEGIN:VEVENT
DTSTAMP:20260422T105307
DTSTART;TZID=Europe/Berlin:20260618T185500
DTEND;TZID=Europe/Berlin:20260618T195500
UID:261OS30270-20260618T185500@VHSUNTERLAND
SUMMARY:Step Aerobic und Bodyforming (261OS30270) 
LOCATION:os Michelbachhaus Affaltrach, Halle, Poststraße 25, 74182 Obersulm
END:VEVENT
BEGIN:VEVENT
DTSTAMP:20260422T105307
DTSTART;TZID=Europe/Berlin:20260625T185500
DTEND;TZID=Europe/Berlin:20260625T195500
UID:261OS30270-20260625T185500@VHSUNTERLAND
SUMMARY:Step Aerobic und Bodyforming (261OS30270) 
LOCATION:os Michelbachhaus Affaltrach, Halle, Poststraße 25, 74182 Obersulm
END:VEVENT
BEGIN:VEVENT
DTSTAMP:20260422T105307
DTSTART;TZID=Europe/Berlin:20260702T185500
DTEND;TZID=Europe/Berlin:20260702T195500
UID:261OS30270-20260702T185500@VHSUNTERLAND
SUMMARY:Step Aerobic und Bodyforming (261OS30270) 
LOCATION:os Michelbachhaus Affaltrach, Halle, Poststraße 25, 74182 Obersulm
END:VEVENT
END:VCALENDAR