BEGIN:VCALENDAR
VERSION:2.0
PRODID:http://www.kufer.de/kuferweb / DE
METHOD:PUBLISH
CALSCALE:GREGORIAN
X-WR-TIMEZONE:Europe/Berlin
BEGIN:VTIMEZONE
TZID:Europe/Berlin
X-LIC-LOCATION:Europe/Berlin
BEGIN:DAYLIGHT
TZOFFSETFROM:+0100
TZOFFSETTO:+0200
TZNAME:CEST
DTSTART;TZID=Europe/Berlin:19700329T020000
RRULE:FREQ=YEARLY;INTERVAL=1;BYDAY=-1SU;BYMONTH=3
END:DAYLIGHT
BEGIN:STANDARD
TZOFFSETFROM:+0200
TZOFFSETTO:+0100
TZNAME:CET
DTSTART;TZID=Europe/Berlin:19701025T030000
RRULE:FREQ=YEARLY;INTERVAL=1;BYDAY=-1SU;BYMONTH=10
END:STANDARD
END:VTIMEZONE
BEGIN:VEVENT
DTSTAMP:20260422T073636
DTSTART;TZID=Europe/Berlin:20260224T084500
DTEND;TZID=Europe/Berlin:20260224T094500
UID:261OS30258-20260224T084500@VHSUNTERLAND
SUMMARY:Bodyfitness und Faszientraining (261OS30258) 
LOCATION:os Gemeindehalle Sülzbach, große Halle, Weinbergstraße 2, 74182 Obersulm
END:VEVENT
BEGIN:VEVENT
DTSTAMP:20260422T073636
DTSTART;TZID=Europe/Berlin:20260303T084500
DTEND;TZID=Europe/Berlin:20260303T094500
UID:261OS30258-20260303T084500@VHSUNTERLAND
SUMMARY:Bodyfitness und Faszientraining (261OS30258) 
LOCATION:os Gemeindehalle Sülzbach, große Halle, Weinbergstraße 2, 74182 Obersulm
END:VEVENT
BEGIN:VEVENT
DTSTAMP:20260422T073636
DTSTART;TZID=Europe/Berlin:20260310T084500
DTEND;TZID=Europe/Berlin:20260310T094500
UID:261OS30258-20260310T084500@VHSUNTERLAND
SUMMARY:Bodyfitness und Faszientraining (261OS30258) 
LOCATION:os Gemeindehalle Sülzbach, große Halle, Weinbergstraße 2, 74182 Obersulm
END:VEVENT
BEGIN:VEVENT
DTSTAMP:20260422T073636
DTSTART;TZID=Europe/Berlin:20260317T084500
DTEND;TZID=Europe/Berlin:20260317T094500
UID:261OS30258-20260317T084500@VHSUNTERLAND
SUMMARY:Bodyfitness und Faszientraining (261OS30258) 
LOCATION:os Gemeindehalle Sülzbach, große Halle, Weinbergstraße 2, 74182 Obersulm
END:VEVENT
BEGIN:VEVENT
DTSTAMP:20260422T073636
DTSTART;TZID=Europe/Berlin:20260324T084500
DTEND;TZID=Europe/Berlin:20260324T094500
UID:261OS30258-20260324T084500@VHSUNTERLAND
SUMMARY:Bodyfitness und Faszientraining (261OS30258) 
LOCATION:os Gemeindehalle Sülzbach, große Halle, Weinbergstraße 2, 74182 Obersulm
END:VEVENT
BEGIN:VEVENT
DTSTAMP:20260422T073636
DTSTART;TZID=Europe/Berlin:20260414T084500
DTEND;TZID=Europe/Berlin:20260414T094500
UID:261OS30258-20260414T084500@VHSUNTERLAND
SUMMARY:Bodyfitness und Faszientraining (261OS30258) 
LOCATION:os Gemeindehalle Sülzbach, große Halle, Weinbergstraße 2, 74182 Obersulm
END:VEVENT
BEGIN:VEVENT
DTSTAMP:20260422T073636
DTSTART;TZID=Europe/Berlin:20260421T084500
DTEND;TZID=Europe/Berlin:20260421T094500
UID:261OS30258-20260421T084500@VHSUNTERLAND
SUMMARY:Bodyfitness und Faszientraining (261OS30258) 
LOCATION:os Gemeindehalle Sülzbach, große Halle, Weinbergstraße 2, 74182 Obersulm
END:VEVENT
BEGIN:VEVENT
DTSTAMP:20260422T073636
DTSTART;TZID=Europe/Berlin:20260428T084500
DTEND;TZID=Europe/Berlin:20260428T094500
UID:261OS30258-20260428T084500@VHSUNTERLAND
SUMMARY:Bodyfitness und Faszientraining (261OS30258) 
LOCATION:os Gemeindehalle Sülzbach, große Halle, Weinbergstraße 2, 74182 Obersulm
END:VEVENT
BEGIN:VEVENT
DTSTAMP:20260422T073636
DTSTART;TZID=Europe/Berlin:20260505T084500
DTEND;TZID=Europe/Berlin:20260505T094500
UID:261OS30258-20260505T084500@VHSUNTERLAND
SUMMARY:Bodyfitness und Faszientraining (261OS30258) 
LOCATION:os Gemeindehalle Sülzbach, große Halle, Weinbergstraße 2, 74182 Obersulm
END:VEVENT
BEGIN:VEVENT
DTSTAMP:20260422T073636
DTSTART;TZID=Europe/Berlin:20260512T084500
DTEND;TZID=Europe/Berlin:20260512T094500
UID:261OS30258-20260512T084500@VHSUNTERLAND
SUMMARY:Bodyfitness und Faszientraining (261OS30258) 
LOCATION:os Gemeindehalle Sülzbach, große Halle, Weinbergstraße 2, 74182 Obersulm
END:VEVENT
BEGIN:VEVENT
DTSTAMP:20260422T073636
DTSTART;TZID=Europe/Berlin:20260519T084500
DTEND;TZID=Europe/Berlin:20260519T094500
UID:261OS30258-20260519T084500@VHSUNTERLAND
SUMMARY:Bodyfitness und Faszientraining (261OS30258) 
LOCATION:os Gemeindehalle Sülzbach, große Halle, Weinbergstraße 2, 74182 Obersulm
END:VEVENT
BEGIN:VEVENT
DTSTAMP:20260422T073636
DTSTART;TZID=Europe/Berlin:20260609T084500
DTEND;TZID=Europe/Berlin:20260609T094500
UID:261OS30258-20260609T084500@VHSUNTERLAND
SUMMARY:Bodyfitness und Faszientraining (261OS30258) 
LOCATION:os Gemeindehalle Sülzbach, große Halle, Weinbergstraße 2, 74182 Obersulm
END:VEVENT
END:VCALENDAR