BEGIN:VCALENDAR
VERSION:2.0
PRODID:http://www.kufer.de/kuferweb / DE
METHOD:PUBLISH
CALSCALE:GREGORIAN
X-WR-TIMEZONE:Europe/Berlin
BEGIN:VTIMEZONE
TZID:Europe/Berlin
X-LIC-LOCATION:Europe/Berlin
BEGIN:DAYLIGHT
TZOFFSETFROM:+0100
TZOFFSETTO:+0200
TZNAME:CEST
DTSTART;TZID=Europe/Berlin:19700329T020000
RRULE:FREQ=YEARLY;INTERVAL=1;BYDAY=-1SU;BYMONTH=3
END:DAYLIGHT
BEGIN:STANDARD
TZOFFSETFROM:+0200
TZOFFSETTO:+0100
TZNAME:CET
DTSTART;TZID=Europe/Berlin:19701025T030000
RRULE:FREQ=YEARLY;INTERVAL=1;BYDAY=-1SU;BYMONTH=10
END:STANDARD
END:VTIMEZONE
BEGIN:VEVENT
DTSTAMP:20260422T094417
DTSTART;TZID=Europe/Berlin:20260226T181000
DTEND;TZID=Europe/Berlin:20260226T191000
UID:261OS30257-20260226T181000@VHSUNTERLAND
SUMMARY:Get in Shape Schlank und fit (261OS30257) 
LOCATION:os Michael-Beheim-Schule, Aula, Michael-Beheim-Straße 50, 74182 Obersulm
END:VEVENT
BEGIN:VEVENT
DTSTAMP:20260422T094417
DTSTART;TZID=Europe/Berlin:20260305T181000
DTEND;TZID=Europe/Berlin:20260305T191000
UID:261OS30257-20260305T181000@VHSUNTERLAND
SUMMARY:Get in Shape Schlank und fit (261OS30257) 
LOCATION:os Michael-Beheim-Schule, Aula, Michael-Beheim-Straße 50, 74182 Obersulm
END:VEVENT
BEGIN:VEVENT
DTSTAMP:20260422T094417
DTSTART;TZID=Europe/Berlin:20260312T181000
DTEND;TZID=Europe/Berlin:20260312T191000
UID:261OS30257-20260312T181000@VHSUNTERLAND
SUMMARY:Get in Shape Schlank und fit (261OS30257) 
LOCATION:os Michael-Beheim-Schule, Aula, Michael-Beheim-Straße 50, 74182 Obersulm
END:VEVENT
BEGIN:VEVENT
DTSTAMP:20260422T094417
DTSTART;TZID=Europe/Berlin:20260319T181000
DTEND;TZID=Europe/Berlin:20260319T191000
UID:261OS30257-20260319T181000@VHSUNTERLAND
SUMMARY:Get in Shape Schlank und fit (261OS30257) 
LOCATION:os Michael-Beheim-Schule, Aula, Michael-Beheim-Straße 50, 74182 Obersulm
END:VEVENT
BEGIN:VEVENT
DTSTAMP:20260422T094417
DTSTART;TZID=Europe/Berlin:20260326T181000
DTEND;TZID=Europe/Berlin:20260326T191000
UID:261OS30257-20260326T181000@VHSUNTERLAND
SUMMARY:Get in Shape Schlank und fit (261OS30257) 
LOCATION:os Michael-Beheim-Schule, Aula, Michael-Beheim-Straße 50, 74182 Obersulm
END:VEVENT
BEGIN:VEVENT
DTSTAMP:20260422T094417
DTSTART;TZID=Europe/Berlin:20260416T181000
DTEND;TZID=Europe/Berlin:20260416T191000
UID:261OS30257-20260416T181000@VHSUNTERLAND
SUMMARY:Get in Shape Schlank und fit (261OS30257) 
LOCATION:os Michael-Beheim-Schule, Aula, Michael-Beheim-Straße 50, 74182 Obersulm
END:VEVENT
BEGIN:VEVENT
DTSTAMP:20260422T094417
DTSTART;TZID=Europe/Berlin:20260423T181000
DTEND;TZID=Europe/Berlin:20260423T191000
UID:261OS30257-20260423T181000@VHSUNTERLAND
SUMMARY:Get in Shape Schlank und fit (261OS30257) 
LOCATION:os Michael-Beheim-Schule, Aula, Michael-Beheim-Straße 50, 74182 Obersulm
END:VEVENT
BEGIN:VEVENT
DTSTAMP:20260422T094417
DTSTART;TZID=Europe/Berlin:20260430T181000
DTEND;TZID=Europe/Berlin:20260430T191000
UID:261OS30257-20260430T181000@VHSUNTERLAND
SUMMARY:Get in Shape Schlank und fit (261OS30257) 
LOCATION:os Michael-Beheim-Schule, Aula, Michael-Beheim-Straße 50, 74182 Obersulm
END:VEVENT
BEGIN:VEVENT
DTSTAMP:20260422T094417
DTSTART;TZID=Europe/Berlin:20260507T181000
DTEND;TZID=Europe/Berlin:20260507T191000
UID:261OS30257-20260507T181000@VHSUNTERLAND
SUMMARY:Get in Shape Schlank und fit (261OS30257) 
LOCATION:os Michael-Beheim-Schule, Aula, Michael-Beheim-Straße 50, 74182 Obersulm
END:VEVENT
BEGIN:VEVENT
DTSTAMP:20260422T094417
DTSTART;TZID=Europe/Berlin:20260521T181000
DTEND;TZID=Europe/Berlin:20260521T191000
UID:261OS30257-20260521T181000@VHSUNTERLAND
SUMMARY:Get in Shape Schlank und fit (261OS30257) 
LOCATION:os Michael-Beheim-Schule, Aula, Michael-Beheim-Straße 50, 74182 Obersulm
END:VEVENT
BEGIN:VEVENT
DTSTAMP:20260422T094417
DTSTART;TZID=Europe/Berlin:20260611T181000
DTEND;TZID=Europe/Berlin:20260611T191000
UID:261OS30257-20260611T181000@VHSUNTERLAND
SUMMARY:Get in Shape Schlank und fit (261OS30257) 
LOCATION:os Michael-Beheim-Schule, Aula, Michael-Beheim-Straße 50, 74182 Obersulm
END:VEVENT
BEGIN:VEVENT
DTSTAMP:20260422T094417
DTSTART;TZID=Europe/Berlin:20260618T181000
DTEND;TZID=Europe/Berlin:20260618T191000
UID:261OS30257-20260618T181000@VHSUNTERLAND
SUMMARY:Get in Shape Schlank und fit (261OS30257) 
LOCATION:os Michael-Beheim-Schule, Aula, Michael-Beheim-Straße 50, 74182 Obersulm
END:VEVENT
END:VCALENDAR