BEGIN:VCALENDAR
VERSION:2.0
PRODID:http://www.kufer.de/kuferweb / DE
METHOD:PUBLISH
CALSCALE:GREGORIAN
X-WR-TIMEZONE:Europe/Berlin
BEGIN:VTIMEZONE
TZID:Europe/Berlin
X-LIC-LOCATION:Europe/Berlin
BEGIN:DAYLIGHT
TZOFFSETFROM:+0100
TZOFFSETTO:+0200
TZNAME:CEST
DTSTART;TZID=Europe/Berlin:19700329T020000
RRULE:FREQ=YEARLY;INTERVAL=1;BYDAY=-1SU;BYMONTH=3
END:DAYLIGHT
BEGIN:STANDARD
TZOFFSETFROM:+0200
TZOFFSETTO:+0100
TZNAME:CET
DTSTART;TZID=Europe/Berlin:19701025T030000
RRULE:FREQ=YEARLY;INTERVAL=1;BYDAY=-1SU;BYMONTH=10
END:STANDARD
END:VTIMEZONE
BEGIN:VEVENT
DTSTAMP:20260419T162002
DTSTART;TZID=Europe/Berlin:20260226T164000
DTEND;TZID=Europe/Berlin:20260226T174000
UID:261OS30228-20260226T164000@VHSUNTERLAND
SUMMARY:Eltern Kind-Turnen von 2 - 4 Jahren (261OS30228) 
LOCATION:os Michelbachhaus Affaltrach, Halle, Poststraße 25, 74182 Obersulm
END:VEVENT
BEGIN:VEVENT
DTSTAMP:20260419T162002
DTSTART;TZID=Europe/Berlin:20260305T164000
DTEND;TZID=Europe/Berlin:20260305T174000
UID:261OS30228-20260305T164000@VHSUNTERLAND
SUMMARY:Eltern Kind-Turnen von 2 - 4 Jahren (261OS30228) 
LOCATION:os Michelbachhaus Affaltrach, Halle, Poststraße 25, 74182 Obersulm
END:VEVENT
BEGIN:VEVENT
DTSTAMP:20260419T162002
DTSTART;TZID=Europe/Berlin:20260312T164000
DTEND;TZID=Europe/Berlin:20260312T174000
UID:261OS30228-20260312T164000@VHSUNTERLAND
SUMMARY:Eltern Kind-Turnen von 2 - 4 Jahren (261OS30228) 
LOCATION:os Michelbachhaus Affaltrach, Halle, Poststraße 25, 74182 Obersulm
END:VEVENT
BEGIN:VEVENT
DTSTAMP:20260419T162002
DTSTART;TZID=Europe/Berlin:20260319T164000
DTEND;TZID=Europe/Berlin:20260319T174000
UID:261OS30228-20260319T164000@VHSUNTERLAND
SUMMARY:Eltern Kind-Turnen von 2 - 4 Jahren (261OS30228) 
LOCATION:os Michelbachhaus Affaltrach, Halle, Poststraße 25, 74182 Obersulm
END:VEVENT
BEGIN:VEVENT
DTSTAMP:20260419T162002
DTSTART;TZID=Europe/Berlin:20260326T164000
DTEND;TZID=Europe/Berlin:20260326T174000
UID:261OS30228-20260326T164000@VHSUNTERLAND
SUMMARY:Eltern Kind-Turnen von 2 - 4 Jahren (261OS30228) 
LOCATION:os Michelbachhaus Affaltrach, Halle, Poststraße 25, 74182 Obersulm
END:VEVENT
BEGIN:VEVENT
DTSTAMP:20260419T162002
DTSTART;TZID=Europe/Berlin:20260416T164000
DTEND;TZID=Europe/Berlin:20260416T174000
UID:261OS30228-20260416T164000@VHSUNTERLAND
SUMMARY:Eltern Kind-Turnen von 2 - 4 Jahren (261OS30228) 
LOCATION:os Michelbachhaus Affaltrach, Halle, Poststraße 25, 74182 Obersulm
END:VEVENT
BEGIN:VEVENT
DTSTAMP:20260419T162002
DTSTART;TZID=Europe/Berlin:20260423T164000
DTEND;TZID=Europe/Berlin:20260423T174000
UID:261OS30228-20260423T164000@VHSUNTERLAND
SUMMARY:Eltern Kind-Turnen von 2 - 4 Jahren (261OS30228) 
LOCATION:os Michelbachhaus Affaltrach, Halle, Poststraße 25, 74182 Obersulm
END:VEVENT
BEGIN:VEVENT
DTSTAMP:20260419T162002
DTSTART;TZID=Europe/Berlin:20260430T164000
DTEND;TZID=Europe/Berlin:20260430T174000
UID:261OS30228-20260430T164000@VHSUNTERLAND
SUMMARY:Eltern Kind-Turnen von 2 - 4 Jahren (261OS30228) 
LOCATION:os Michelbachhaus Affaltrach, Halle, Poststraße 25, 74182 Obersulm
END:VEVENT
BEGIN:VEVENT
DTSTAMP:20260419T162002
DTSTART;TZID=Europe/Berlin:20260507T164000
DTEND;TZID=Europe/Berlin:20260507T174000
UID:261OS30228-20260507T164000@VHSUNTERLAND
SUMMARY:Eltern Kind-Turnen von 2 - 4 Jahren (261OS30228) 
LOCATION:os Michelbachhaus Affaltrach, Halle, Poststraße 25, 74182 Obersulm
END:VEVENT
BEGIN:VEVENT
DTSTAMP:20260419T162002
DTSTART;TZID=Europe/Berlin:20260521T164000
DTEND;TZID=Europe/Berlin:20260521T174000
UID:261OS30228-20260521T164000@VHSUNTERLAND
SUMMARY:Eltern Kind-Turnen von 2 - 4 Jahren (261OS30228) 
LOCATION:os Michelbachhaus Affaltrach, Halle, Poststraße 25, 74182 Obersulm
END:VEVENT
END:VCALENDAR