BEGIN:VCALENDAR
VERSION:2.0
PRODID:http://www.kufer.de/kuferweb / DE
METHOD:PUBLISH
CALSCALE:GREGORIAN
X-WR-TIMEZONE:Europe/Berlin
BEGIN:VTIMEZONE
TZID:Europe/Berlin
X-LIC-LOCATION:Europe/Berlin
BEGIN:DAYLIGHT
TZOFFSETFROM:+0100
TZOFFSETTO:+0200
TZNAME:CEST
DTSTART;TZID=Europe/Berlin:19700329T020000
RRULE:FREQ=YEARLY;INTERVAL=1;BYDAY=-1SU;BYMONTH=3
END:DAYLIGHT
BEGIN:STANDARD
TZOFFSETFROM:+0200
TZOFFSETTO:+0100
TZNAME:CET
DTSTART;TZID=Europe/Berlin:19701025T030000
RRULE:FREQ=YEARLY;INTERVAL=1;BYDAY=-1SU;BYMONTH=10
END:STANDARD
END:VTIMEZONE
BEGIN:VEVENT
DTSTAMP:20260421T090841
DTSTART;TZID=Europe/Berlin:20260226T153500
DTEND;TZID=Europe/Berlin:20260226T163500
UID:261OS30227-20260226T153500@VHSUNTERLAND
SUMMARY:Eltern Kind-Turnen von 2 - 4 Jahren (261OS30227) 
LOCATION:os Michelbachhaus Affaltrach, Halle, Poststraße 25, 74182 Obersulm
END:VEVENT
BEGIN:VEVENT
DTSTAMP:20260421T090841
DTSTART;TZID=Europe/Berlin:20260305T153500
DTEND;TZID=Europe/Berlin:20260305T163500
UID:261OS30227-20260305T153500@VHSUNTERLAND
SUMMARY:Eltern Kind-Turnen von 2 - 4 Jahren (261OS30227) 
LOCATION:os Michelbachhaus Affaltrach, Halle, Poststraße 25, 74182 Obersulm
END:VEVENT
BEGIN:VEVENT
DTSTAMP:20260421T090841
DTSTART;TZID=Europe/Berlin:20260312T153500
DTEND;TZID=Europe/Berlin:20260312T163500
UID:261OS30227-20260312T153500@VHSUNTERLAND
SUMMARY:Eltern Kind-Turnen von 2 - 4 Jahren (261OS30227) 
LOCATION:os Michelbachhaus Affaltrach, Halle, Poststraße 25, 74182 Obersulm
END:VEVENT
BEGIN:VEVENT
DTSTAMP:20260421T090841
DTSTART;TZID=Europe/Berlin:20260319T153500
DTEND;TZID=Europe/Berlin:20260319T163500
UID:261OS30227-20260319T153500@VHSUNTERLAND
SUMMARY:Eltern Kind-Turnen von 2 - 4 Jahren (261OS30227) 
LOCATION:os Michelbachhaus Affaltrach, Halle, Poststraße 25, 74182 Obersulm
END:VEVENT
BEGIN:VEVENT
DTSTAMP:20260421T090841
DTSTART;TZID=Europe/Berlin:20260326T153500
DTEND;TZID=Europe/Berlin:20260326T163500
UID:261OS30227-20260326T153500@VHSUNTERLAND
SUMMARY:Eltern Kind-Turnen von 2 - 4 Jahren (261OS30227) 
LOCATION:os Michelbachhaus Affaltrach, Halle, Poststraße 25, 74182 Obersulm
END:VEVENT
BEGIN:VEVENT
DTSTAMP:20260421T090841
DTSTART;TZID=Europe/Berlin:20260416T153500
DTEND;TZID=Europe/Berlin:20260416T163500
UID:261OS30227-20260416T153500@VHSUNTERLAND
SUMMARY:Eltern Kind-Turnen von 2 - 4 Jahren (261OS30227) 
LOCATION:os Michelbachhaus Affaltrach, Halle, Poststraße 25, 74182 Obersulm
END:VEVENT
BEGIN:VEVENT
DTSTAMP:20260421T090841
DTSTART;TZID=Europe/Berlin:20260423T153500
DTEND;TZID=Europe/Berlin:20260423T163500
UID:261OS30227-20260423T153500@VHSUNTERLAND
SUMMARY:Eltern Kind-Turnen von 2 - 4 Jahren (261OS30227) 
LOCATION:os Michelbachhaus Affaltrach, Halle, Poststraße 25, 74182 Obersulm
END:VEVENT
BEGIN:VEVENT
DTSTAMP:20260421T090841
DTSTART;TZID=Europe/Berlin:20260430T153500
DTEND;TZID=Europe/Berlin:20260430T163500
UID:261OS30227-20260430T153500@VHSUNTERLAND
SUMMARY:Eltern Kind-Turnen von 2 - 4 Jahren (261OS30227) 
LOCATION:os Michelbachhaus Affaltrach, Halle, Poststraße 25, 74182 Obersulm
END:VEVENT
BEGIN:VEVENT
DTSTAMP:20260421T090841
DTSTART;TZID=Europe/Berlin:20260507T153500
DTEND;TZID=Europe/Berlin:20260507T163500
UID:261OS30227-20260507T153500@VHSUNTERLAND
SUMMARY:Eltern Kind-Turnen von 2 - 4 Jahren (261OS30227) 
LOCATION:os Michelbachhaus Affaltrach, Halle, Poststraße 25, 74182 Obersulm
END:VEVENT
BEGIN:VEVENT
DTSTAMP:20260421T090841
DTSTART;TZID=Europe/Berlin:20260521T153500
DTEND;TZID=Europe/Berlin:20260521T163500
UID:261OS30227-20260521T153500@VHSUNTERLAND
SUMMARY:Eltern Kind-Turnen von 2 - 4 Jahren (261OS30227) 
LOCATION:os Michelbachhaus Affaltrach, Halle, Poststraße 25, 74182 Obersulm
END:VEVENT
END:VCALENDAR