BEGIN:VCALENDAR
VERSION:2.0
PRODID:http://www.kufer.de/kuferweb / DE
METHOD:PUBLISH
CALSCALE:GREGORIAN
X-WR-TIMEZONE:Europe/Berlin
BEGIN:VTIMEZONE
TZID:Europe/Berlin
X-LIC-LOCATION:Europe/Berlin
BEGIN:DAYLIGHT
TZOFFSETFROM:+0100
TZOFFSETTO:+0200
TZNAME:CEST
DTSTART;TZID=Europe/Berlin:19700329T020000
RRULE:FREQ=YEARLY;INTERVAL=1;BYDAY=-1SU;BYMONTH=3
END:DAYLIGHT
BEGIN:STANDARD
TZOFFSETFROM:+0200
TZOFFSETTO:+0100
TZNAME:CET
DTSTART;TZID=Europe/Berlin:19701025T030000
RRULE:FREQ=YEARLY;INTERVAL=1;BYDAY=-1SU;BYMONTH=10
END:STANDARD
END:VTIMEZONE
BEGIN:VEVENT
DTSTAMP:20260422T020352
DTSTART;TZID=Europe/Berlin:20260223T103000
DTEND;TZID=Europe/Berlin:20260223T113000
UID:261OS30225-20260223T103000@VHSUNTERLAND
SUMMARY:Spielkreisturnen für Mutter/Vater und Kind (1 - 3 Jahre) (261OS30225) 
LOCATION:os Gemeindehalle Sülzbach, große Halle, Weinbergstraße 2, 74182 Obersulm
END:VEVENT
BEGIN:VEVENT
DTSTAMP:20260422T020352
DTSTART;TZID=Europe/Berlin:20260302T103000
DTEND;TZID=Europe/Berlin:20260302T113000
UID:261OS30225-20260302T103000@VHSUNTERLAND
SUMMARY:Spielkreisturnen für Mutter/Vater und Kind (1 - 3 Jahre) (261OS30225) 
LOCATION:os Gemeindehalle Sülzbach, große Halle, Weinbergstraße 2, 74182 Obersulm
END:VEVENT
BEGIN:VEVENT
DTSTAMP:20260422T020352
DTSTART;TZID=Europe/Berlin:20260309T103000
DTEND;TZID=Europe/Berlin:20260309T113000
UID:261OS30225-20260309T103000@VHSUNTERLAND
SUMMARY:Spielkreisturnen für Mutter/Vater und Kind (1 - 3 Jahre) (261OS30225) 
LOCATION:os Gemeindehalle Sülzbach, große Halle, Weinbergstraße 2, 74182 Obersulm
END:VEVENT
BEGIN:VEVENT
DTSTAMP:20260422T020352
DTSTART;TZID=Europe/Berlin:20260316T103000
DTEND;TZID=Europe/Berlin:20260316T113000
UID:261OS30225-20260316T103000@VHSUNTERLAND
SUMMARY:Spielkreisturnen für Mutter/Vater und Kind (1 - 3 Jahre) (261OS30225) 
LOCATION:os Gemeindehalle Sülzbach, große Halle, Weinbergstraße 2, 74182 Obersulm
END:VEVENT
BEGIN:VEVENT
DTSTAMP:20260422T020352
DTSTART;TZID=Europe/Berlin:20260323T103000
DTEND;TZID=Europe/Berlin:20260323T113000
UID:261OS30225-20260323T103000@VHSUNTERLAND
SUMMARY:Spielkreisturnen für Mutter/Vater und Kind (1 - 3 Jahre) (261OS30225) 
LOCATION:os Gemeindehalle Sülzbach, große Halle, Weinbergstraße 2, 74182 Obersulm
END:VEVENT
BEGIN:VEVENT
DTSTAMP:20260422T020352
DTSTART;TZID=Europe/Berlin:20260413T103000
DTEND;TZID=Europe/Berlin:20260413T113000
UID:261OS30225-20260413T103000@VHSUNTERLAND
SUMMARY:Spielkreisturnen für Mutter/Vater und Kind (1 - 3 Jahre) (261OS30225) 
LOCATION:os Gemeindehalle Sülzbach, große Halle, Weinbergstraße 2, 74182 Obersulm
END:VEVENT
BEGIN:VEVENT
DTSTAMP:20260422T020352
DTSTART;TZID=Europe/Berlin:20260420T103000
DTEND;TZID=Europe/Berlin:20260420T113000
UID:261OS30225-20260420T103000@VHSUNTERLAND
SUMMARY:Spielkreisturnen für Mutter/Vater und Kind (1 - 3 Jahre) (261OS30225) 
LOCATION:os Gemeindehalle Sülzbach, große Halle, Weinbergstraße 2, 74182 Obersulm
END:VEVENT
BEGIN:VEVENT
DTSTAMP:20260422T020352
DTSTART;TZID=Europe/Berlin:20260427T103000
DTEND;TZID=Europe/Berlin:20260427T113000
UID:261OS30225-20260427T103000@VHSUNTERLAND
SUMMARY:Spielkreisturnen für Mutter/Vater und Kind (1 - 3 Jahre) (261OS30225) 
LOCATION:os Gemeindehalle Sülzbach, große Halle, Weinbergstraße 2, 74182 Obersulm
END:VEVENT
BEGIN:VEVENT
DTSTAMP:20260422T020352
DTSTART;TZID=Europe/Berlin:20260504T103000
DTEND;TZID=Europe/Berlin:20260504T113000
UID:261OS30225-20260504T103000@VHSUNTERLAND
SUMMARY:Spielkreisturnen für Mutter/Vater und Kind (1 - 3 Jahre) (261OS30225) 
LOCATION:os Gemeindehalle Sülzbach, große Halle, Weinbergstraße 2, 74182 Obersulm
END:VEVENT
BEGIN:VEVENT
DTSTAMP:20260422T020352
DTSTART;TZID=Europe/Berlin:20260511T103000
DTEND;TZID=Europe/Berlin:20260511T113000
UID:261OS30225-20260511T103000@VHSUNTERLAND
SUMMARY:Spielkreisturnen für Mutter/Vater und Kind (1 - 3 Jahre) (261OS30225) 
LOCATION:os Gemeindehalle Sülzbach, große Halle, Weinbergstraße 2, 74182 Obersulm
END:VEVENT
BEGIN:VEVENT
DTSTAMP:20260422T020352
DTSTART;TZID=Europe/Berlin:20260518T103000
DTEND;TZID=Europe/Berlin:20260518T113000
UID:261OS30225-20260518T103000@VHSUNTERLAND
SUMMARY:Spielkreisturnen für Mutter/Vater und Kind (1 - 3 Jahre) (261OS30225) 
LOCATION:os Gemeindehalle Sülzbach, große Halle, Weinbergstraße 2, 74182 Obersulm
END:VEVENT
BEGIN:VEVENT
DTSTAMP:20260422T020352
DTSTART;TZID=Europe/Berlin:20260608T103000
DTEND;TZID=Europe/Berlin:20260608T113000
UID:261OS30225-20260608T103000@VHSUNTERLAND
SUMMARY:Spielkreisturnen für Mutter/Vater und Kind (1 - 3 Jahre) (261OS30225) 
LOCATION:os Gemeindehalle Sülzbach, große Halle, Weinbergstraße 2, 74182 Obersulm
END:VEVENT
BEGIN:VEVENT
DTSTAMP:20260422T020352
DTSTART;TZID=Europe/Berlin:20260615T103000
DTEND;TZID=Europe/Berlin:20260615T113000
UID:261OS30225-20260615T103000@VHSUNTERLAND
SUMMARY:Spielkreisturnen für Mutter/Vater und Kind (1 - 3 Jahre) (261OS30225) 
LOCATION:os Gemeindehalle Sülzbach, große Halle, Weinbergstraße 2, 74182 Obersulm
END:VEVENT
BEGIN:VEVENT
DTSTAMP:20260422T020352
DTSTART;TZID=Europe/Berlin:20260622T103000
DTEND;TZID=Europe/Berlin:20260622T113000
UID:261OS30225-20260622T103000@VHSUNTERLAND
SUMMARY:Spielkreisturnen für Mutter/Vater und Kind (1 - 3 Jahre) (261OS30225) 
LOCATION:os Gemeindehalle Sülzbach, große Halle, Weinbergstraße 2, 74182 Obersulm
END:VEVENT
BEGIN:VEVENT
DTSTAMP:20260422T020352
DTSTART;TZID=Europe/Berlin:20260629T103000
DTEND;TZID=Europe/Berlin:20260629T113000
UID:261OS30225-20260629T103000@VHSUNTERLAND
SUMMARY:Spielkreisturnen für Mutter/Vater und Kind (1 - 3 Jahre) (261OS30225) 
LOCATION:os Gemeindehalle Sülzbach, große Halle, Weinbergstraße 2, 74182 Obersulm
END:VEVENT
END:VCALENDAR