BEGIN:VCALENDAR
VERSION:2.0
PRODID:http://www.kufer.de/kuferweb / DE
METHOD:PUBLISH
CALSCALE:GREGORIAN
X-WR-TIMEZONE:Europe/Berlin
BEGIN:VTIMEZONE
TZID:Europe/Berlin
X-LIC-LOCATION:Europe/Berlin
BEGIN:DAYLIGHT
TZOFFSETFROM:+0100
TZOFFSETTO:+0200
TZNAME:CEST
DTSTART;TZID=Europe/Berlin:19700329T020000
RRULE:FREQ=YEARLY;INTERVAL=1;BYDAY=-1SU;BYMONTH=3
END:DAYLIGHT
BEGIN:STANDARD
TZOFFSETFROM:+0200
TZOFFSETTO:+0100
TZNAME:CET
DTSTART;TZID=Europe/Berlin:19701025T030000
RRULE:FREQ=YEARLY;INTERVAL=1;BYDAY=-1SU;BYMONTH=10
END:STANDARD
END:VTIMEZONE
BEGIN:VEVENT
DTSTAMP:20260423T120155
DTSTART;TZID=Europe/Berlin:20260226T203000
DTEND;TZID=Europe/Berlin:20260226T220000
UID:261OS30211-20260226T203000@VHSUNTERLAND
SUMMARY:Reine Männersache! Fitness für Männer (261OS30211) 
LOCATION:os Michael-Beheim-Schule, Aula, Michael-Beheim-Straße 50, 74182 Obersulm
END:VEVENT
BEGIN:VEVENT
DTSTAMP:20260423T120155
DTSTART;TZID=Europe/Berlin:20260305T203000
DTEND;TZID=Europe/Berlin:20260305T220000
UID:261OS30211-20260305T203000@VHSUNTERLAND
SUMMARY:Reine Männersache! Fitness für Männer (261OS30211) 
LOCATION:os Michael-Beheim-Schule, Aula, Michael-Beheim-Straße 50, 74182 Obersulm
END:VEVENT
BEGIN:VEVENT
DTSTAMP:20260423T120155
DTSTART;TZID=Europe/Berlin:20260312T203000
DTEND;TZID=Europe/Berlin:20260312T220000
UID:261OS30211-20260312T203000@VHSUNTERLAND
SUMMARY:Reine Männersache! Fitness für Männer (261OS30211) 
LOCATION:os Michael-Beheim-Schule, Aula, Michael-Beheim-Straße 50, 74182 Obersulm
END:VEVENT
BEGIN:VEVENT
DTSTAMP:20260423T120155
DTSTART;TZID=Europe/Berlin:20260319T203000
DTEND;TZID=Europe/Berlin:20260319T220000
UID:261OS30211-20260319T203000@VHSUNTERLAND
SUMMARY:Reine Männersache! Fitness für Männer (261OS30211) 
LOCATION:os Michael-Beheim-Schule, Aula, Michael-Beheim-Straße 50, 74182 Obersulm
END:VEVENT
BEGIN:VEVENT
DTSTAMP:20260423T120155
DTSTART;TZID=Europe/Berlin:20260326T203000
DTEND;TZID=Europe/Berlin:20260326T220000
UID:261OS30211-20260326T203000@VHSUNTERLAND
SUMMARY:Reine Männersache! Fitness für Männer (261OS30211) 
LOCATION:os Michael-Beheim-Schule, Aula, Michael-Beheim-Straße 50, 74182 Obersulm
END:VEVENT
BEGIN:VEVENT
DTSTAMP:20260423T120155
DTSTART;TZID=Europe/Berlin:20260416T203000
DTEND;TZID=Europe/Berlin:20260416T220000
UID:261OS30211-20260416T203000@VHSUNTERLAND
SUMMARY:Reine Männersache! Fitness für Männer (261OS30211) 
LOCATION:os Michael-Beheim-Schule, Aula, Michael-Beheim-Straße 50, 74182 Obersulm
END:VEVENT
BEGIN:VEVENT
DTSTAMP:20260423T120155
DTSTART;TZID=Europe/Berlin:20260423T203000
DTEND;TZID=Europe/Berlin:20260423T220000
UID:261OS30211-20260423T203000@VHSUNTERLAND
SUMMARY:Reine Männersache! Fitness für Männer (261OS30211) 
LOCATION:os Michael-Beheim-Schule, Aula, Michael-Beheim-Straße 50, 74182 Obersulm
END:VEVENT
BEGIN:VEVENT
DTSTAMP:20260423T120155
DTSTART;TZID=Europe/Berlin:20260430T203000
DTEND;TZID=Europe/Berlin:20260430T220000
UID:261OS30211-20260430T203000@VHSUNTERLAND
SUMMARY:Reine Männersache! Fitness für Männer (261OS30211) 
LOCATION:os Michael-Beheim-Schule, Aula, Michael-Beheim-Straße 50, 74182 Obersulm
END:VEVENT
BEGIN:VEVENT
DTSTAMP:20260423T120155
DTSTART;TZID=Europe/Berlin:20260507T203000
DTEND;TZID=Europe/Berlin:20260507T220000
UID:261OS30211-20260507T203000@VHSUNTERLAND
SUMMARY:Reine Männersache! Fitness für Männer (261OS30211) 
LOCATION:os Michael-Beheim-Schule, Aula, Michael-Beheim-Straße 50, 74182 Obersulm
END:VEVENT
BEGIN:VEVENT
DTSTAMP:20260423T120155
DTSTART;TZID=Europe/Berlin:20260521T203000
DTEND;TZID=Europe/Berlin:20260521T220000
UID:261OS30211-20260521T203000@VHSUNTERLAND
SUMMARY:Reine Männersache! Fitness für Männer (261OS30211) 
LOCATION:os Michael-Beheim-Schule, Aula, Michael-Beheim-Straße 50, 74182 Obersulm
END:VEVENT
BEGIN:VEVENT
DTSTAMP:20260423T120155
DTSTART;TZID=Europe/Berlin:20260611T203000
DTEND;TZID=Europe/Berlin:20260611T220000
UID:261OS30211-20260611T203000@VHSUNTERLAND
SUMMARY:Reine Männersache! Fitness für Männer (261OS30211) 
LOCATION:os Michael-Beheim-Schule, Aula, Michael-Beheim-Straße 50, 74182 Obersulm
END:VEVENT
BEGIN:VEVENT
DTSTAMP:20260423T120155
DTSTART;TZID=Europe/Berlin:20260618T203000
DTEND;TZID=Europe/Berlin:20260618T220000
UID:261OS30211-20260618T203000@VHSUNTERLAND
SUMMARY:Reine Männersache! Fitness für Männer (261OS30211) 
LOCATION:os Michael-Beheim-Schule, Aula, Michael-Beheim-Straße 50, 74182 Obersulm
END:VEVENT
BEGIN:VEVENT
DTSTAMP:20260423T120155
DTSTART;TZID=Europe/Berlin:20260625T203000
DTEND;TZID=Europe/Berlin:20260625T220000
UID:261OS30211-20260625T203000@VHSUNTERLAND
SUMMARY:Reine Männersache! Fitness für Männer (261OS30211) 
LOCATION:os Michael-Beheim-Schule, Aula, Michael-Beheim-Straße 50, 74182 Obersulm
END:VEVENT
BEGIN:VEVENT
DTSTAMP:20260423T120155
DTSTART;TZID=Europe/Berlin:20260702T203000
DTEND;TZID=Europe/Berlin:20260702T220000
UID:261OS30211-20260702T203000@VHSUNTERLAND
SUMMARY:Reine Männersache! Fitness für Männer (261OS30211) 
LOCATION:os Michael-Beheim-Schule, Aula, Michael-Beheim-Straße 50, 74182 Obersulm
END:VEVENT
BEGIN:VEVENT
DTSTAMP:20260423T120155
DTSTART;TZID=Europe/Berlin:20260709T203000
DTEND;TZID=Europe/Berlin:20260709T220000
UID:261OS30211-20260709T203000@VHSUNTERLAND
SUMMARY:Reine Männersache! Fitness für Männer (261OS30211) 
LOCATION:os Michael-Beheim-Schule, Aula, Michael-Beheim-Straße 50, 74182 Obersulm
END:VEVENT
END:VCALENDAR