BEGIN:VCALENDAR
VERSION:2.0
PRODID:http://www.kufer.de/kuferweb / DE
METHOD:PUBLISH
CALSCALE:GREGORIAN
X-WR-TIMEZONE:Europe/Berlin
BEGIN:VTIMEZONE
TZID:Europe/Berlin
X-LIC-LOCATION:Europe/Berlin
BEGIN:DAYLIGHT
TZOFFSETFROM:+0100
TZOFFSETTO:+0200
TZNAME:CEST
DTSTART;TZID=Europe/Berlin:19700329T020000
RRULE:FREQ=YEARLY;INTERVAL=1;BYDAY=-1SU;BYMONTH=3
END:DAYLIGHT
BEGIN:STANDARD
TZOFFSETFROM:+0200
TZOFFSETTO:+0100
TZNAME:CET
DTSTART;TZID=Europe/Berlin:19701025T030000
RRULE:FREQ=YEARLY;INTERVAL=1;BYDAY=-1SU;BYMONTH=10
END:STANDARD
END:VTIMEZONE
BEGIN:VEVENT
DTSTAMP:20260421T203136
DTSTART;TZID=Europe/Berlin:20260619T181500
DTEND;TZID=Europe/Berlin:20260619T201500
UID:261OS30175-20260619T181500@VHSUNTERLAND
SUMMARY:Ausgepowert?  Mit Kristallklangschalen entspannt ins Wochenende (261OS30175) 
LOCATION:os Gemeindehalle Eschenau, kleiner Saal, Bahnhofstraße 40, 74182 Obersulm
END:VEVENT
END:VCALENDAR