BEGIN:VCALENDAR
VERSION:2.0
PRODID:http://www.kufer.de/kuferweb / DE
METHOD:PUBLISH
CALSCALE:GREGORIAN
X-WR-TIMEZONE:Europe/Berlin
BEGIN:VTIMEZONE
TZID:Europe/Berlin
X-LIC-LOCATION:Europe/Berlin
BEGIN:DAYLIGHT
TZOFFSETFROM:+0100
TZOFFSETTO:+0200
TZNAME:CEST
DTSTART;TZID=Europe/Berlin:19700329T020000
RRULE:FREQ=YEARLY;INTERVAL=1;BYDAY=-1SU;BYMONTH=3
END:DAYLIGHT
BEGIN:STANDARD
TZOFFSETFROM:+0200
TZOFFSETTO:+0100
TZNAME:CET
DTSTART;TZID=Europe/Berlin:19701025T030000
RRULE:FREQ=YEARLY;INTERVAL=1;BYDAY=-1SU;BYMONTH=10
END:STANDARD
END:VTIMEZONE
BEGIN:VEVENT
DTSTAMP:20260423T122738
DTSTART;TZID=Europe/Berlin:20260206T184500
DTEND;TZID=Europe/Berlin:20260206T201500
UID:261OS30132-20260206T184500@VHSUNTERLAND
SUMMARY:Hatha Yoga (261OS30132) 
LOCATION:os Michael-Beheim-Schule, Aula, Michael-Beheim-Straße 50, 74182 Obersulm
END:VEVENT
BEGIN:VEVENT
DTSTAMP:20260423T122738
DTSTART;TZID=Europe/Berlin:20260213T184500
DTEND;TZID=Europe/Berlin:20260213T201500
UID:261OS30132-20260213T184500@VHSUNTERLAND
SUMMARY:Hatha Yoga (261OS30132) 
LOCATION:os Michael-Beheim-Schule, Aula, Michael-Beheim-Straße 50, 74182 Obersulm
END:VEVENT
BEGIN:VEVENT
DTSTAMP:20260423T122738
DTSTART;TZID=Europe/Berlin:20260227T184500
DTEND;TZID=Europe/Berlin:20260227T201500
UID:261OS30132-20260227T184500@VHSUNTERLAND
SUMMARY:Hatha Yoga (261OS30132) 
LOCATION:os Michael-Beheim-Schule, Aula, Michael-Beheim-Straße 50, 74182 Obersulm
END:VEVENT
BEGIN:VEVENT
DTSTAMP:20260423T122738
DTSTART;TZID=Europe/Berlin:20260306T184500
DTEND;TZID=Europe/Berlin:20260306T201500
UID:261OS30132-20260306T184500@VHSUNTERLAND
SUMMARY:Hatha Yoga (261OS30132) 
LOCATION:os Michael-Beheim-Schule, Aula, Michael-Beheim-Straße 50, 74182 Obersulm
END:VEVENT
BEGIN:VEVENT
DTSTAMP:20260423T122738
DTSTART;TZID=Europe/Berlin:20260313T184500
DTEND;TZID=Europe/Berlin:20260313T201500
UID:261OS30132-20260313T184500@VHSUNTERLAND
SUMMARY:Hatha Yoga (261OS30132) 
LOCATION:os Michael-Beheim-Schule, Aula, Michael-Beheim-Straße 50, 74182 Obersulm
END:VEVENT
BEGIN:VEVENT
DTSTAMP:20260423T122738
DTSTART;TZID=Europe/Berlin:20260320T184500
DTEND;TZID=Europe/Berlin:20260320T201500
UID:261OS30132-20260320T184500@VHSUNTERLAND
SUMMARY:Hatha Yoga (261OS30132) 
LOCATION:os Michael-Beheim-Schule, Aula, Michael-Beheim-Straße 50, 74182 Obersulm
END:VEVENT
BEGIN:VEVENT
DTSTAMP:20260423T122738
DTSTART;TZID=Europe/Berlin:20260327T184500
DTEND;TZID=Europe/Berlin:20260327T201500
UID:261OS30132-20260327T184500@VHSUNTERLAND
SUMMARY:Hatha Yoga (261OS30132) 
LOCATION:os Michael-Beheim-Schule, Aula, Michael-Beheim-Straße 50, 74182 Obersulm
END:VEVENT
BEGIN:VEVENT
DTSTAMP:20260423T122738
DTSTART;TZID=Europe/Berlin:20260417T184500
DTEND;TZID=Europe/Berlin:20260417T201500
UID:261OS30132-20260417T184500@VHSUNTERLAND
SUMMARY:Hatha Yoga (261OS30132) 
LOCATION:os Michael-Beheim-Schule, Aula, Michael-Beheim-Straße 50, 74182 Obersulm
END:VEVENT
BEGIN:VEVENT
DTSTAMP:20260423T122738
DTSTART;TZID=Europe/Berlin:20260424T184500
DTEND;TZID=Europe/Berlin:20260424T201500
UID:261OS30132-20260424T184500@VHSUNTERLAND
SUMMARY:Hatha Yoga (261OS30132) 
LOCATION:os Michael-Beheim-Schule, Aula, Michael-Beheim-Straße 50, 74182 Obersulm
END:VEVENT
BEGIN:VEVENT
DTSTAMP:20260423T122738
DTSTART;TZID=Europe/Berlin:20260508T184500
DTEND;TZID=Europe/Berlin:20260508T201500
UID:261OS30132-20260508T184500@VHSUNTERLAND
SUMMARY:Hatha Yoga (261OS30132) 
LOCATION:os Michael-Beheim-Schule, Aula, Michael-Beheim-Straße 50, 74182 Obersulm
END:VEVENT
END:VCALENDAR