BEGIN:VCALENDAR
VERSION:2.0
PRODID:http://www.kufer.de/kuferweb / DE
METHOD:PUBLISH
CALSCALE:GREGORIAN
X-WR-TIMEZONE:Europe/Berlin
BEGIN:VTIMEZONE
TZID:Europe/Berlin
X-LIC-LOCATION:Europe/Berlin
BEGIN:DAYLIGHT
TZOFFSETFROM:+0100
TZOFFSETTO:+0200
TZNAME:CEST
DTSTART;TZID=Europe/Berlin:19700329T020000
RRULE:FREQ=YEARLY;INTERVAL=1;BYDAY=-1SU;BYMONTH=3
END:DAYLIGHT
BEGIN:STANDARD
TZOFFSETFROM:+0200
TZOFFSETTO:+0100
TZNAME:CET
DTSTART;TZID=Europe/Berlin:19701025T030000
RRULE:FREQ=YEARLY;INTERVAL=1;BYDAY=-1SU;BYMONTH=10
END:STANDARD
END:VTIMEZONE
BEGIN:VEVENT
DTSTAMP:20260422T073727
DTSTART;TZID=Europe/Berlin:20260214T093000
DTEND;TZID=Europe/Berlin:20260214T140000
UID:261OS20765-20260214T093000@VHSUNTERLAND
SUMMARY:Malen  für Geübte am Samstag (261OS20765) 
LOCATION:os Realschule Willsbach, Technikraum 117, Pestalozzistraße 37, 74182 Obersulm
END:VEVENT
BEGIN:VEVENT
DTSTAMP:20260422T073727
DTSTART;TZID=Europe/Berlin:20260314T093000
DTEND;TZID=Europe/Berlin:20260314T140000
UID:261OS20765-20260314T093000@VHSUNTERLAND
SUMMARY:Malen  für Geübte am Samstag (261OS20765) 
LOCATION:os Realschule Willsbach, Technikraum 117, Pestalozzistraße 37, 74182 Obersulm
END:VEVENT
BEGIN:VEVENT
DTSTAMP:20260422T073727
DTSTART;TZID=Europe/Berlin:20260411T093000
DTEND;TZID=Europe/Berlin:20260411T140000
UID:261OS20765-20260411T093000@VHSUNTERLAND
SUMMARY:Malen  für Geübte am Samstag (261OS20765) 
LOCATION:os Realschule Willsbach, Technikraum 117, Pestalozzistraße 37, 74182 Obersulm
END:VEVENT
BEGIN:VEVENT
DTSTAMP:20260422T073727
DTSTART;TZID=Europe/Berlin:20260613T093000
DTEND;TZID=Europe/Berlin:20260613T140000
UID:261OS20765-20260613T093000@VHSUNTERLAND
SUMMARY:Malen  für Geübte am Samstag (261OS20765) 
LOCATION:os Realschule Willsbach, Technikraum 117, Pestalozzistraße 37, 74182 Obersulm
END:VEVENT
END:VCALENDAR