BEGIN:VCALENDAR
VERSION:2.0
PRODID:http://www.kufer.de/kuferweb / DE
METHOD:PUBLISH
CALSCALE:GREGORIAN
X-WR-TIMEZONE:Europe/Berlin
BEGIN:VTIMEZONE
TZID:Europe/Berlin
X-LIC-LOCATION:Europe/Berlin
BEGIN:DAYLIGHT
TZOFFSETFROM:+0100
TZOFFSETTO:+0200
TZNAME:CEST
DTSTART;TZID=Europe/Berlin:19700329T020000
RRULE:FREQ=YEARLY;INTERVAL=1;BYDAY=-1SU;BYMONTH=3
END:DAYLIGHT
BEGIN:STANDARD
TZOFFSETFROM:+0200
TZOFFSETTO:+0100
TZNAME:CET
DTSTART;TZID=Europe/Berlin:19701025T030000
RRULE:FREQ=YEARLY;INTERVAL=1;BYDAY=-1SU;BYMONTH=10
END:STANDARD
END:VTIMEZONE
BEGIN:VEVENT
DTSTAMP:20260421T162428
DTSTART;TZID=Europe/Berlin:20260214T121500
DTEND;TZID=Europe/Berlin:20260214T130000
UID:261OH30298-20260214T121500@VHSUNTERLAND
SUMMARY:Schwimmkurs für Kinder mit Seepferdchen (261OH30298) 
LOCATION:oh Hallenbad, Uhlandstraße 21, 74229 Oedheim
END:VEVENT
BEGIN:VEVENT
DTSTAMP:20260421T162428
DTSTART;TZID=Europe/Berlin:20260221T121500
DTEND;TZID=Europe/Berlin:20260221T130000
UID:261OH30298-20260221T121500@VHSUNTERLAND
SUMMARY:Schwimmkurs für Kinder mit Seepferdchen (261OH30298) 
LOCATION:oh Hallenbad, Uhlandstraße 21, 74229 Oedheim
END:VEVENT
BEGIN:VEVENT
DTSTAMP:20260421T162428
DTSTART;TZID=Europe/Berlin:20260228T121500
DTEND;TZID=Europe/Berlin:20260228T130000
UID:261OH30298-20260228T121500@VHSUNTERLAND
SUMMARY:Schwimmkurs für Kinder mit Seepferdchen (261OH30298) 
LOCATION:oh Hallenbad, Uhlandstraße 21, 74229 Oedheim
END:VEVENT
BEGIN:VEVENT
DTSTAMP:20260421T162428
DTSTART;TZID=Europe/Berlin:20260307T121500
DTEND;TZID=Europe/Berlin:20260307T130000
UID:261OH30298-20260307T121500@VHSUNTERLAND
SUMMARY:Schwimmkurs für Kinder mit Seepferdchen (261OH30298) 
LOCATION:oh Hallenbad, Uhlandstraße 21, 74229 Oedheim
END:VEVENT
BEGIN:VEVENT
DTSTAMP:20260421T162428
DTSTART;TZID=Europe/Berlin:20260314T121500
DTEND;TZID=Europe/Berlin:20260314T130000
UID:261OH30298-20260314T121500@VHSUNTERLAND
SUMMARY:Schwimmkurs für Kinder mit Seepferdchen (261OH30298) 
LOCATION:oh Hallenbad, Uhlandstraße 21, 74229 Oedheim
END:VEVENT
BEGIN:VEVENT
DTSTAMP:20260421T162428
DTSTART;TZID=Europe/Berlin:20260321T121500
DTEND;TZID=Europe/Berlin:20260321T130000
UID:261OH30298-20260321T121500@VHSUNTERLAND
SUMMARY:Schwimmkurs für Kinder mit Seepferdchen (261OH30298) 
LOCATION:oh Hallenbad, Uhlandstraße 21, 74229 Oedheim
END:VEVENT
BEGIN:VEVENT
DTSTAMP:20260421T162428
DTSTART;TZID=Europe/Berlin:20260328T121500
DTEND;TZID=Europe/Berlin:20260328T130000
UID:261OH30298-20260328T121500@VHSUNTERLAND
SUMMARY:Schwimmkurs für Kinder mit Seepferdchen (261OH30298) 
LOCATION:oh Hallenbad, Uhlandstraße 21, 74229 Oedheim
END:VEVENT
BEGIN:VEVENT
DTSTAMP:20260421T162428
DTSTART;TZID=Europe/Berlin:20260411T121500
DTEND;TZID=Europe/Berlin:20260411T130000
UID:261OH30298-20260411T121500@VHSUNTERLAND
SUMMARY:Schwimmkurs für Kinder mit Seepferdchen (261OH30298) 
LOCATION:oh Hallenbad, Uhlandstraße 21, 74229 Oedheim
END:VEVENT
BEGIN:VEVENT
DTSTAMP:20260421T162428
DTSTART;TZID=Europe/Berlin:20260418T121500
DTEND;TZID=Europe/Berlin:20260418T130000
UID:261OH30298-20260418T121500@VHSUNTERLAND
SUMMARY:Schwimmkurs für Kinder mit Seepferdchen (261OH30298) 
LOCATION:oh Hallenbad, Uhlandstraße 21, 74229 Oedheim
END:VEVENT
BEGIN:VEVENT
DTSTAMP:20260421T162428
DTSTART;TZID=Europe/Berlin:20260425T121500
DTEND;TZID=Europe/Berlin:20260425T130000
UID:261OH30298-20260425T121500@VHSUNTERLAND
SUMMARY:Schwimmkurs für Kinder mit Seepferdchen (261OH30298) 
LOCATION:oh Hallenbad, Uhlandstraße 21, 74229 Oedheim
END:VEVENT
END:VCALENDAR