BEGIN:VCALENDAR
VERSION:2.0
PRODID:http://www.kufer.de/kuferweb / DE
METHOD:PUBLISH
CALSCALE:GREGORIAN
X-WR-TIMEZONE:Europe/Berlin
BEGIN:VTIMEZONE
TZID:Europe/Berlin
X-LIC-LOCATION:Europe/Berlin
BEGIN:DAYLIGHT
TZOFFSETFROM:+0100
TZOFFSETTO:+0200
TZNAME:CEST
DTSTART;TZID=Europe/Berlin:19700329T020000
RRULE:FREQ=YEARLY;INTERVAL=1;BYDAY=-1SU;BYMONTH=3
END:DAYLIGHT
BEGIN:STANDARD
TZOFFSETFROM:+0200
TZOFFSETTO:+0100
TZNAME:CET
DTSTART;TZID=Europe/Berlin:19701025T030000
RRULE:FREQ=YEARLY;INTERVAL=1;BYDAY=-1SU;BYMONTH=10
END:STANDARD
END:VTIMEZONE
BEGIN:VEVENT
DTSTAMP:20260421T120809
DTSTART;TZID=Europe/Berlin:20260322T141000
DTEND;TZID=Europe/Berlin:20260322T145500
UID:261OH30287-20260322T141000@VHSUNTERLAND
SUMMARY:Schwimmkurs für Anfänger*innen  für Kinder ab 5 Jahren (261OH30287) 
LOCATION:oh Hallenbad, Uhlandstraße 21, 74229 Oedheim
END:VEVENT
BEGIN:VEVENT
DTSTAMP:20260421T120809
DTSTART;TZID=Europe/Berlin:20260329T141000
DTEND;TZID=Europe/Berlin:20260329T145500
UID:261OH30287-20260329T141000@VHSUNTERLAND
SUMMARY:Schwimmkurs für Anfänger*innen  für Kinder ab 5 Jahren (261OH30287) 
LOCATION:oh Hallenbad, Uhlandstraße 21, 74229 Oedheim
END:VEVENT
BEGIN:VEVENT
DTSTAMP:20260421T120809
DTSTART;TZID=Europe/Berlin:20260412T141000
DTEND;TZID=Europe/Berlin:20260412T145500
UID:261OH30287-20260412T141000@VHSUNTERLAND
SUMMARY:Schwimmkurs für Anfänger*innen  für Kinder ab 5 Jahren (261OH30287) 
LOCATION:oh Hallenbad, Uhlandstraße 21, 74229 Oedheim
END:VEVENT
BEGIN:VEVENT
DTSTAMP:20260421T120809
DTSTART;TZID=Europe/Berlin:20260419T141000
DTEND;TZID=Europe/Berlin:20260419T145500
UID:261OH30287-20260419T141000@VHSUNTERLAND
SUMMARY:Schwimmkurs für Anfänger*innen  für Kinder ab 5 Jahren (261OH30287) 
LOCATION:oh Hallenbad, Uhlandstraße 21, 74229 Oedheim
END:VEVENT
BEGIN:VEVENT
DTSTAMP:20260421T120809
DTSTART;TZID=Europe/Berlin:20260426T141000
DTEND;TZID=Europe/Berlin:20260426T145500
UID:261OH30287-20260426T141000@VHSUNTERLAND
SUMMARY:Schwimmkurs für Anfänger*innen  für Kinder ab 5 Jahren (261OH30287) 
LOCATION:oh Hallenbad, Uhlandstraße 21, 74229 Oedheim
END:VEVENT
BEGIN:VEVENT
DTSTAMP:20260421T120809
DTSTART;TZID=Europe/Berlin:20260503T141000
DTEND;TZID=Europe/Berlin:20260503T145500
UID:261OH30287-20260503T141000@VHSUNTERLAND
SUMMARY:Schwimmkurs für Anfänger*innen  für Kinder ab 5 Jahren (261OH30287) 
LOCATION:oh Hallenbad, Uhlandstraße 21, 74229 Oedheim
END:VEVENT
END:VCALENDAR