BEGIN:VCALENDAR
VERSION:2.0
PRODID:http://www.kufer.de/kuferweb / DE
METHOD:PUBLISH
CALSCALE:GREGORIAN
X-WR-TIMEZONE:Europe/Berlin
BEGIN:VTIMEZONE
TZID:Europe/Berlin
X-LIC-LOCATION:Europe/Berlin
BEGIN:DAYLIGHT
TZOFFSETFROM:+0100
TZOFFSETTO:+0200
TZNAME:CEST
DTSTART;TZID=Europe/Berlin:19700329T020000
RRULE:FREQ=YEARLY;INTERVAL=1;BYDAY=-1SU;BYMONTH=3
END:DAYLIGHT
BEGIN:STANDARD
TZOFFSETFROM:+0200
TZOFFSETTO:+0100
TZNAME:CET
DTSTART;TZID=Europe/Berlin:19701025T030000
RRULE:FREQ=YEARLY;INTERVAL=1;BYDAY=-1SU;BYMONTH=10
END:STANDARD
END:VTIMEZONE
BEGIN:VEVENT
DTSTAMP:20260423T214632
DTSTART;TZID=Europe/Berlin:20260322T123000
DTEND;TZID=Europe/Berlin:20260322T131500
UID:261OH30285-20260322T123000@VHSUNTERLAND
SUMMARY:Schwimmkurs für Kinder mit Seepferdchen (261OH30285) 
LOCATION:oh Hallenbad, Uhlandstraße 21, 74229 Oedheim
END:VEVENT
BEGIN:VEVENT
DTSTAMP:20260423T214632
DTSTART;TZID=Europe/Berlin:20260329T123000
DTEND;TZID=Europe/Berlin:20260329T131500
UID:261OH30285-20260329T123000@VHSUNTERLAND
SUMMARY:Schwimmkurs für Kinder mit Seepferdchen (261OH30285) 
LOCATION:oh Hallenbad, Uhlandstraße 21, 74229 Oedheim
END:VEVENT
BEGIN:VEVENT
DTSTAMP:20260423T214632
DTSTART;TZID=Europe/Berlin:20260412T123000
DTEND;TZID=Europe/Berlin:20260412T131500
UID:261OH30285-20260412T123000@VHSUNTERLAND
SUMMARY:Schwimmkurs für Kinder mit Seepferdchen (261OH30285) 
LOCATION:oh Hallenbad, Uhlandstraße 21, 74229 Oedheim
END:VEVENT
BEGIN:VEVENT
DTSTAMP:20260423T214632
DTSTART;TZID=Europe/Berlin:20260419T123000
DTEND;TZID=Europe/Berlin:20260419T131500
UID:261OH30285-20260419T123000@VHSUNTERLAND
SUMMARY:Schwimmkurs für Kinder mit Seepferdchen (261OH30285) 
LOCATION:oh Hallenbad, Uhlandstraße 21, 74229 Oedheim
END:VEVENT
BEGIN:VEVENT
DTSTAMP:20260423T214632
DTSTART;TZID=Europe/Berlin:20260426T123000
DTEND;TZID=Europe/Berlin:20260426T131500
UID:261OH30285-20260426T123000@VHSUNTERLAND
SUMMARY:Schwimmkurs für Kinder mit Seepferdchen (261OH30285) 
LOCATION:oh Hallenbad, Uhlandstraße 21, 74229 Oedheim
END:VEVENT
BEGIN:VEVENT
DTSTAMP:20260423T214632
DTSTART;TZID=Europe/Berlin:20260503T123000
DTEND;TZID=Europe/Berlin:20260503T131500
UID:261OH30285-20260503T123000@VHSUNTERLAND
SUMMARY:Schwimmkurs für Kinder mit Seepferdchen (261OH30285) 
LOCATION:oh Hallenbad, Uhlandstraße 21, 74229 Oedheim
END:VEVENT
END:VCALENDAR