BEGIN:VCALENDAR
VERSION:2.0
PRODID:http://www.kufer.de/kuferweb / DE
METHOD:PUBLISH
CALSCALE:GREGORIAN
X-WR-TIMEZONE:Europe/Berlin
BEGIN:VTIMEZONE
TZID:Europe/Berlin
X-LIC-LOCATION:Europe/Berlin
BEGIN:DAYLIGHT
TZOFFSETFROM:+0100
TZOFFSETTO:+0200
TZNAME:CEST
DTSTART;TZID=Europe/Berlin:19700329T020000
RRULE:FREQ=YEARLY;INTERVAL=1;BYDAY=-1SU;BYMONTH=3
END:DAYLIGHT
BEGIN:STANDARD
TZOFFSETFROM:+0200
TZOFFSETTO:+0100
TZNAME:CET
DTSTART;TZID=Europe/Berlin:19701025T030000
RRULE:FREQ=YEARLY;INTERVAL=1;BYDAY=-1SU;BYMONTH=10
END:STANDARD
END:VTIMEZONE
BEGIN:VEVENT
DTSTAMP:20260423T014143
DTSTART;TZID=Europe/Berlin:20260221T114000
DTEND;TZID=Europe/Berlin:20260221T124000
UID:261OH20586-20260221T114000@VHSUNTERLAND
SUMMARY:Kindertanz im klassischen Stil  für Kinder ab 8 Jahren (261OH20586) 
LOCATION:oh Haus der Vereine, Raum 2, Schulstraße 13, 74229 Oedheim
END:VEVENT
BEGIN:VEVENT
DTSTAMP:20260423T014143
DTSTART;TZID=Europe/Berlin:20260307T114000
DTEND;TZID=Europe/Berlin:20260307T124000
UID:261OH20586-20260307T114000@VHSUNTERLAND
SUMMARY:Kindertanz im klassischen Stil  für Kinder ab 8 Jahren (261OH20586) 
LOCATION:oh Haus der Vereine, Raum 2, Schulstraße 13, 74229 Oedheim
END:VEVENT
BEGIN:VEVENT
DTSTAMP:20260423T014143
DTSTART;TZID=Europe/Berlin:20260314T114000
DTEND;TZID=Europe/Berlin:20260314T124000
UID:261OH20586-20260314T114000@VHSUNTERLAND
SUMMARY:Kindertanz im klassischen Stil  für Kinder ab 8 Jahren (261OH20586) 
LOCATION:oh Haus der Vereine, Raum 2, Schulstraße 13, 74229 Oedheim
END:VEVENT
BEGIN:VEVENT
DTSTAMP:20260423T014143
DTSTART;TZID=Europe/Berlin:20260321T114000
DTEND;TZID=Europe/Berlin:20260321T124000
UID:261OH20586-20260321T114000@VHSUNTERLAND
SUMMARY:Kindertanz im klassischen Stil  für Kinder ab 8 Jahren (261OH20586) 
LOCATION:oh Haus der Vereine, Raum 2, Schulstraße 13, 74229 Oedheim
END:VEVENT
BEGIN:VEVENT
DTSTAMP:20260423T014143
DTSTART;TZID=Europe/Berlin:20260328T114000
DTEND;TZID=Europe/Berlin:20260328T124000
UID:261OH20586-20260328T114000@VHSUNTERLAND
SUMMARY:Kindertanz im klassischen Stil  für Kinder ab 8 Jahren (261OH20586) 
LOCATION:oh Haus der Vereine, Raum 2, Schulstraße 13, 74229 Oedheim
END:VEVENT
BEGIN:VEVENT
DTSTAMP:20260423T014143
DTSTART;TZID=Europe/Berlin:20260418T114000
DTEND;TZID=Europe/Berlin:20260418T124000
UID:261OH20586-20260418T114000@VHSUNTERLAND
SUMMARY:Kindertanz im klassischen Stil  für Kinder ab 8 Jahren (261OH20586) 
LOCATION:oh Haus der Vereine, Raum 2, Schulstraße 13, 74229 Oedheim
END:VEVENT
BEGIN:VEVENT
DTSTAMP:20260423T014143
DTSTART;TZID=Europe/Berlin:20260425T114000
DTEND;TZID=Europe/Berlin:20260425T124000
UID:261OH20586-20260425T114000@VHSUNTERLAND
SUMMARY:Kindertanz im klassischen Stil  für Kinder ab 8 Jahren (261OH20586) 
LOCATION:oh Haus der Vereine, Raum 2, Schulstraße 13, 74229 Oedheim
END:VEVENT
BEGIN:VEVENT
DTSTAMP:20260423T014143
DTSTART;TZID=Europe/Berlin:20260509T114000
DTEND;TZID=Europe/Berlin:20260509T124000
UID:261OH20586-20260509T114000@VHSUNTERLAND
SUMMARY:Kindertanz im klassischen Stil  für Kinder ab 8 Jahren (261OH20586) 
LOCATION:oh Haus der Vereine, Raum 2, Schulstraße 13, 74229 Oedheim
END:VEVENT
BEGIN:VEVENT
DTSTAMP:20260423T014143
DTSTART;TZID=Europe/Berlin:20260516T114000
DTEND;TZID=Europe/Berlin:20260516T124000
UID:261OH20586-20260516T114000@VHSUNTERLAND
SUMMARY:Kindertanz im klassischen Stil  für Kinder ab 8 Jahren (261OH20586) 
LOCATION:oh Haus der Vereine, Raum 2, Schulstraße 13, 74229 Oedheim
END:VEVENT
BEGIN:VEVENT
DTSTAMP:20260423T014143
DTSTART;TZID=Europe/Berlin:20260523T114000
DTEND;TZID=Europe/Berlin:20260523T124000
UID:261OH20586-20260523T114000@VHSUNTERLAND
DESCRIPTION:Ersatz für Ausfall am 04.07.2026
SUMMARY:Kindertanz im klassischen Stil  für Kinder ab 8 Jahren (261OH20586) 
LOCATION:oh Haus der Vereine, Raum 2, Schulstraße 13, 74229 Oedheim
END:VEVENT
BEGIN:VEVENT
DTSTAMP:20260423T014143
DTSTART;TZID=Europe/Berlin:20260613T114000
DTEND;TZID=Europe/Berlin:20260613T124000
UID:261OH20586-20260613T114000@VHSUNTERLAND
SUMMARY:Kindertanz im klassischen Stil  für Kinder ab 8 Jahren (261OH20586) 
LOCATION:oh Haus der Vereine, Raum 2, Schulstraße 13, 74229 Oedheim
END:VEVENT
BEGIN:VEVENT
DTSTAMP:20260423T014143
DTSTART;TZID=Europe/Berlin:20260620T114000
DTEND;TZID=Europe/Berlin:20260620T124000
UID:261OH20586-20260620T114000@VHSUNTERLAND
SUMMARY:Kindertanz im klassischen Stil  für Kinder ab 8 Jahren (261OH20586) 
LOCATION:oh Haus der Vereine, Raum 2, Schulstraße 13, 74229 Oedheim
END:VEVENT
BEGIN:VEVENT
DTSTAMP:20260423T014143
DTSTART;TZID=Europe/Berlin:20260627T114000
DTEND;TZID=Europe/Berlin:20260627T124000
UID:261OH20586-20260627T114000@VHSUNTERLAND
SUMMARY:Kindertanz im klassischen Stil  für Kinder ab 8 Jahren (261OH20586) 
LOCATION:oh Haus der Vereine, Raum 2, Schulstraße 13, 74229 Oedheim
END:VEVENT
BEGIN:VEVENT
DTSTAMP:20260423T014143
DTSTART;TZID=Europe/Berlin:20260711T114000
DTEND;TZID=Europe/Berlin:20260711T124000
UID:261OH20586-20260711T114000@VHSUNTERLAND
SUMMARY:Kindertanz im klassischen Stil  für Kinder ab 8 Jahren (261OH20586) 
LOCATION:oh Haus der Vereine, Raum 2, Schulstraße 13, 74229 Oedheim
END:VEVENT
BEGIN:VEVENT
DTSTAMP:20260423T014143
DTSTART;TZID=Europe/Berlin:20260718T114000
DTEND;TZID=Europe/Berlin:20260718T124000
UID:261OH20586-20260718T114000@VHSUNTERLAND
SUMMARY:Kindertanz im klassischen Stil  für Kinder ab 8 Jahren (261OH20586) 
LOCATION:oh Haus der Vereine, Raum 2, Schulstraße 13, 74229 Oedheim
END:VEVENT
END:VCALENDAR