BEGIN:VCALENDAR
VERSION:2.0
PRODID:http://www.kufer.de/kuferweb / DE
METHOD:PUBLISH
CALSCALE:GREGORIAN
X-WR-TIMEZONE:Europe/Berlin
BEGIN:VTIMEZONE
TZID:Europe/Berlin
X-LIC-LOCATION:Europe/Berlin
BEGIN:DAYLIGHT
TZOFFSETFROM:+0100
TZOFFSETTO:+0200
TZNAME:CEST
DTSTART;TZID=Europe/Berlin:19700329T020000
RRULE:FREQ=YEARLY;INTERVAL=1;BYDAY=-1SU;BYMONTH=3
END:DAYLIGHT
BEGIN:STANDARD
TZOFFSETFROM:+0200
TZOFFSETTO:+0100
TZNAME:CET
DTSTART;TZID=Europe/Berlin:19701025T030000
RRULE:FREQ=YEARLY;INTERVAL=1;BYDAY=-1SU;BYMONTH=10
END:STANDARD
END:VTIMEZONE
BEGIN:VEVENT
DTSTAMP:20260420T145215
DTSTART;TZID=Europe/Berlin:20260221T094500
DTEND;TZID=Europe/Berlin:20260221T104500
UID:261OH20585-20260221T094500@VHSUNTERLAND
SUMMARY:Kindertanz im klassischen Stil für Kinder ab 7 Jahren für Anfänger*innen mit Vorkenntnissen (261OH20585) 
LOCATION:oh Haus der Vereine, Raum 2, Schulstraße 13, 74229 Oedheim
END:VEVENT
BEGIN:VEVENT
DTSTAMP:20260420T145215
DTSTART;TZID=Europe/Berlin:20260307T094500
DTEND;TZID=Europe/Berlin:20260307T104500
UID:261OH20585-20260307T094500@VHSUNTERLAND
SUMMARY:Kindertanz im klassischen Stil für Kinder ab 7 Jahren für Anfänger*innen mit Vorkenntnissen (261OH20585) 
LOCATION:oh Haus der Vereine, Raum 2, Schulstraße 13, 74229 Oedheim
END:VEVENT
BEGIN:VEVENT
DTSTAMP:20260420T145215
DTSTART;TZID=Europe/Berlin:20260314T094500
DTEND;TZID=Europe/Berlin:20260314T104500
UID:261OH20585-20260314T094500@VHSUNTERLAND
SUMMARY:Kindertanz im klassischen Stil für Kinder ab 7 Jahren für Anfänger*innen mit Vorkenntnissen (261OH20585) 
LOCATION:oh Haus der Vereine, Raum 2, Schulstraße 13, 74229 Oedheim
END:VEVENT
BEGIN:VEVENT
DTSTAMP:20260420T145215
DTSTART;TZID=Europe/Berlin:20260321T094500
DTEND;TZID=Europe/Berlin:20260321T104500
UID:261OH20585-20260321T094500@VHSUNTERLAND
SUMMARY:Kindertanz im klassischen Stil für Kinder ab 7 Jahren für Anfänger*innen mit Vorkenntnissen (261OH20585) 
LOCATION:oh Haus der Vereine, Raum 2, Schulstraße 13, 74229 Oedheim
END:VEVENT
BEGIN:VEVENT
DTSTAMP:20260420T145215
DTSTART;TZID=Europe/Berlin:20260328T094500
DTEND;TZID=Europe/Berlin:20260328T104500
UID:261OH20585-20260328T094500@VHSUNTERLAND
SUMMARY:Kindertanz im klassischen Stil für Kinder ab 7 Jahren für Anfänger*innen mit Vorkenntnissen (261OH20585) 
LOCATION:oh Haus der Vereine, Raum 2, Schulstraße 13, 74229 Oedheim
END:VEVENT
BEGIN:VEVENT
DTSTAMP:20260420T145215
DTSTART;TZID=Europe/Berlin:20260418T094500
DTEND;TZID=Europe/Berlin:20260418T104500
UID:261OH20585-20260418T094500@VHSUNTERLAND
SUMMARY:Kindertanz im klassischen Stil für Kinder ab 7 Jahren für Anfänger*innen mit Vorkenntnissen (261OH20585) 
LOCATION:oh Haus der Vereine, Raum 2, Schulstraße 13, 74229 Oedheim
END:VEVENT
BEGIN:VEVENT
DTSTAMP:20260420T145215
DTSTART;TZID=Europe/Berlin:20260425T094500
DTEND;TZID=Europe/Berlin:20260425T104500
UID:261OH20585-20260425T094500@VHSUNTERLAND
SUMMARY:Kindertanz im klassischen Stil für Kinder ab 7 Jahren für Anfänger*innen mit Vorkenntnissen (261OH20585) 
LOCATION:oh Haus der Vereine, Raum 2, Schulstraße 13, 74229 Oedheim
END:VEVENT
BEGIN:VEVENT
DTSTAMP:20260420T145215
DTSTART;TZID=Europe/Berlin:20260509T094500
DTEND;TZID=Europe/Berlin:20260509T104500
UID:261OH20585-20260509T094500@VHSUNTERLAND
SUMMARY:Kindertanz im klassischen Stil für Kinder ab 7 Jahren für Anfänger*innen mit Vorkenntnissen (261OH20585) 
LOCATION:oh Haus der Vereine, Raum 2, Schulstraße 13, 74229 Oedheim
END:VEVENT
BEGIN:VEVENT
DTSTAMP:20260420T145215
DTSTART;TZID=Europe/Berlin:20260516T094500
DTEND;TZID=Europe/Berlin:20260516T104500
UID:261OH20585-20260516T094500@VHSUNTERLAND
SUMMARY:Kindertanz im klassischen Stil für Kinder ab 7 Jahren für Anfänger*innen mit Vorkenntnissen (261OH20585) 
LOCATION:oh Haus der Vereine, Raum 2, Schulstraße 13, 74229 Oedheim
END:VEVENT
BEGIN:VEVENT
DTSTAMP:20260420T145215
DTSTART;TZID=Europe/Berlin:20260523T094500
DTEND;TZID=Europe/Berlin:20260523T104500
UID:261OH20585-20260523T094500@VHSUNTERLAND
DESCRIPTION:Ersatz für Ausfall am 04.07.2026
SUMMARY:Kindertanz im klassischen Stil für Kinder ab 7 Jahren für Anfänger*innen mit Vorkenntnissen (261OH20585) 
LOCATION:oh Haus der Vereine, Raum 2, Schulstraße 13, 74229 Oedheim
END:VEVENT
BEGIN:VEVENT
DTSTAMP:20260420T145215
DTSTART;TZID=Europe/Berlin:20260613T094500
DTEND;TZID=Europe/Berlin:20260613T104500
UID:261OH20585-20260613T094500@VHSUNTERLAND
SUMMARY:Kindertanz im klassischen Stil für Kinder ab 7 Jahren für Anfänger*innen mit Vorkenntnissen (261OH20585) 
LOCATION:oh Haus der Vereine, Raum 2, Schulstraße 13, 74229 Oedheim
END:VEVENT
BEGIN:VEVENT
DTSTAMP:20260420T145215
DTSTART;TZID=Europe/Berlin:20260620T094500
DTEND;TZID=Europe/Berlin:20260620T104500
UID:261OH20585-20260620T094500@VHSUNTERLAND
SUMMARY:Kindertanz im klassischen Stil für Kinder ab 7 Jahren für Anfänger*innen mit Vorkenntnissen (261OH20585) 
LOCATION:oh Haus der Vereine, Raum 2, Schulstraße 13, 74229 Oedheim
END:VEVENT
BEGIN:VEVENT
DTSTAMP:20260420T145215
DTSTART;TZID=Europe/Berlin:20260627T094500
DTEND;TZID=Europe/Berlin:20260627T104500
UID:261OH20585-20260627T094500@VHSUNTERLAND
SUMMARY:Kindertanz im klassischen Stil für Kinder ab 7 Jahren für Anfänger*innen mit Vorkenntnissen (261OH20585) 
LOCATION:oh Haus der Vereine, Raum 2, Schulstraße 13, 74229 Oedheim
END:VEVENT
BEGIN:VEVENT
DTSTAMP:20260420T145215
DTSTART;TZID=Europe/Berlin:20260711T094500
DTEND;TZID=Europe/Berlin:20260711T104500
UID:261OH20585-20260711T094500@VHSUNTERLAND
SUMMARY:Kindertanz im klassischen Stil für Kinder ab 7 Jahren für Anfänger*innen mit Vorkenntnissen (261OH20585) 
LOCATION:oh Haus der Vereine, Raum 2, Schulstraße 13, 74229 Oedheim
END:VEVENT
BEGIN:VEVENT
DTSTAMP:20260420T145215
DTSTART;TZID=Europe/Berlin:20260718T094500
DTEND;TZID=Europe/Berlin:20260718T104500
UID:261OH20585-20260718T094500@VHSUNTERLAND
SUMMARY:Kindertanz im klassischen Stil für Kinder ab 7 Jahren für Anfänger*innen mit Vorkenntnissen (261OH20585) 
LOCATION:oh Haus der Vereine, Raum 2, Schulstraße 13, 74229 Oedheim
END:VEVENT
END:VCALENDAR