BEGIN:VCALENDAR
VERSION:2.0
PRODID:http://www.kufer.de/kuferweb / DE
METHOD:PUBLISH
CALSCALE:GREGORIAN
X-WR-TIMEZONE:Europe/Berlin
BEGIN:VTIMEZONE
TZID:Europe/Berlin
X-LIC-LOCATION:Europe/Berlin
BEGIN:DAYLIGHT
TZOFFSETFROM:+0100
TZOFFSETTO:+0200
TZNAME:CEST
DTSTART;TZID=Europe/Berlin:19700329T020000
RRULE:FREQ=YEARLY;INTERVAL=1;BYDAY=-1SU;BYMONTH=3
END:DAYLIGHT
BEGIN:STANDARD
TZOFFSETFROM:+0200
TZOFFSETTO:+0100
TZNAME:CET
DTSTART;TZID=Europe/Berlin:19701025T030000
RRULE:FREQ=YEARLY;INTERVAL=1;BYDAY=-1SU;BYMONTH=10
END:STANDARD
END:VTIMEZONE
BEGIN:VEVENT
DTSTAMP:20260424T191425
DTSTART;TZID=Europe/Berlin:20260221T105000
DTEND;TZID=Europe/Berlin:20260221T113500
UID:261OH20580-20260221T105000@VHSUNTERLAND
SUMMARY:Tänzerische Früherziehung  für Kinder von 4 - 6 Jahren (261OH20580) 
LOCATION:oh Haus der Vereine, Raum 2, Schulstraße 13, 74229 Oedheim
END:VEVENT
BEGIN:VEVENT
DTSTAMP:20260424T191425
DTSTART;TZID=Europe/Berlin:20260307T105000
DTEND;TZID=Europe/Berlin:20260307T113500
UID:261OH20580-20260307T105000@VHSUNTERLAND
SUMMARY:Tänzerische Früherziehung  für Kinder von 4 - 6 Jahren (261OH20580) 
LOCATION:oh Haus der Vereine, Raum 2, Schulstraße 13, 74229 Oedheim
END:VEVENT
BEGIN:VEVENT
DTSTAMP:20260424T191425
DTSTART;TZID=Europe/Berlin:20260314T105000
DTEND;TZID=Europe/Berlin:20260314T113500
UID:261OH20580-20260314T105000@VHSUNTERLAND
SUMMARY:Tänzerische Früherziehung  für Kinder von 4 - 6 Jahren (261OH20580) 
LOCATION:oh Haus der Vereine, Raum 2, Schulstraße 13, 74229 Oedheim
END:VEVENT
BEGIN:VEVENT
DTSTAMP:20260424T191425
DTSTART;TZID=Europe/Berlin:20260321T105000
DTEND;TZID=Europe/Berlin:20260321T113500
UID:261OH20580-20260321T105000@VHSUNTERLAND
SUMMARY:Tänzerische Früherziehung  für Kinder von 4 - 6 Jahren (261OH20580) 
LOCATION:oh Haus der Vereine, Raum 2, Schulstraße 13, 74229 Oedheim
END:VEVENT
BEGIN:VEVENT
DTSTAMP:20260424T191425
DTSTART;TZID=Europe/Berlin:20260328T105000
DTEND;TZID=Europe/Berlin:20260328T113500
UID:261OH20580-20260328T105000@VHSUNTERLAND
SUMMARY:Tänzerische Früherziehung  für Kinder von 4 - 6 Jahren (261OH20580) 
LOCATION:oh Haus der Vereine, Raum 2, Schulstraße 13, 74229 Oedheim
END:VEVENT
BEGIN:VEVENT
DTSTAMP:20260424T191425
DTSTART;TZID=Europe/Berlin:20260418T105000
DTEND;TZID=Europe/Berlin:20260418T113500
UID:261OH20580-20260418T105000@VHSUNTERLAND
SUMMARY:Tänzerische Früherziehung  für Kinder von 4 - 6 Jahren (261OH20580) 
LOCATION:oh Haus der Vereine, Raum 2, Schulstraße 13, 74229 Oedheim
END:VEVENT
BEGIN:VEVENT
DTSTAMP:20260424T191425
DTSTART;TZID=Europe/Berlin:20260425T105000
DTEND;TZID=Europe/Berlin:20260425T113500
UID:261OH20580-20260425T105000@VHSUNTERLAND
SUMMARY:Tänzerische Früherziehung  für Kinder von 4 - 6 Jahren (261OH20580) 
LOCATION:oh Haus der Vereine, Raum 2, Schulstraße 13, 74229 Oedheim
END:VEVENT
BEGIN:VEVENT
DTSTAMP:20260424T191425
DTSTART;TZID=Europe/Berlin:20260509T105000
DTEND;TZID=Europe/Berlin:20260509T113500
UID:261OH20580-20260509T105000@VHSUNTERLAND
SUMMARY:Tänzerische Früherziehung  für Kinder von 4 - 6 Jahren (261OH20580) 
LOCATION:oh Haus der Vereine, Raum 2, Schulstraße 13, 74229 Oedheim
END:VEVENT
BEGIN:VEVENT
DTSTAMP:20260424T191425
DTSTART;TZID=Europe/Berlin:20260516T105000
DTEND;TZID=Europe/Berlin:20260516T113500
UID:261OH20580-20260516T105000@VHSUNTERLAND
SUMMARY:Tänzerische Früherziehung  für Kinder von 4 - 6 Jahren (261OH20580) 
LOCATION:oh Haus der Vereine, Raum 2, Schulstraße 13, 74229 Oedheim
END:VEVENT
BEGIN:VEVENT
DTSTAMP:20260424T191425
DTSTART;TZID=Europe/Berlin:20260523T105000
DTEND;TZID=Europe/Berlin:20260523T113500
UID:261OH20580-20260523T105000@VHSUNTERLAND
DESCRIPTION:Ersatz für Ausfall am 04.07.2026
SUMMARY:Tänzerische Früherziehung  für Kinder von 4 - 6 Jahren (261OH20580) 
LOCATION:oh Haus der Vereine, Raum 2, Schulstraße 13, 74229 Oedheim
END:VEVENT
BEGIN:VEVENT
DTSTAMP:20260424T191425
DTSTART;TZID=Europe/Berlin:20260613T105000
DTEND;TZID=Europe/Berlin:20260613T113500
UID:261OH20580-20260613T105000@VHSUNTERLAND
SUMMARY:Tänzerische Früherziehung  für Kinder von 4 - 6 Jahren (261OH20580) 
LOCATION:oh Haus der Vereine, Raum 2, Schulstraße 13, 74229 Oedheim
END:VEVENT
BEGIN:VEVENT
DTSTAMP:20260424T191425
DTSTART;TZID=Europe/Berlin:20260620T105000
DTEND;TZID=Europe/Berlin:20260620T113500
UID:261OH20580-20260620T105000@VHSUNTERLAND
SUMMARY:Tänzerische Früherziehung  für Kinder von 4 - 6 Jahren (261OH20580) 
LOCATION:oh Haus der Vereine, Raum 2, Schulstraße 13, 74229 Oedheim
END:VEVENT
BEGIN:VEVENT
DTSTAMP:20260424T191425
DTSTART;TZID=Europe/Berlin:20260627T105000
DTEND;TZID=Europe/Berlin:20260627T113500
UID:261OH20580-20260627T105000@VHSUNTERLAND
SUMMARY:Tänzerische Früherziehung  für Kinder von 4 - 6 Jahren (261OH20580) 
LOCATION:oh Haus der Vereine, Raum 2, Schulstraße 13, 74229 Oedheim
END:VEVENT
BEGIN:VEVENT
DTSTAMP:20260424T191425
DTSTART;TZID=Europe/Berlin:20260711T105000
DTEND;TZID=Europe/Berlin:20260711T113500
UID:261OH20580-20260711T105000@VHSUNTERLAND
SUMMARY:Tänzerische Früherziehung  für Kinder von 4 - 6 Jahren (261OH20580) 
LOCATION:oh Haus der Vereine, Raum 2, Schulstraße 13, 74229 Oedheim
END:VEVENT
BEGIN:VEVENT
DTSTAMP:20260424T191425
DTSTART;TZID=Europe/Berlin:20260718T105000
DTEND;TZID=Europe/Berlin:20260718T113500
UID:261OH20580-20260718T105000@VHSUNTERLAND
SUMMARY:Tänzerische Früherziehung  für Kinder von 4 - 6 Jahren (261OH20580) 
LOCATION:oh Haus der Vereine, Raum 2, Schulstraße 13, 74229 Oedheim
END:VEVENT
END:VCALENDAR